BEGIN:VCALENDAR
VERSION:2.0
PRODID:-//Vintar German Shepherd - ECPv6.15.20//NONSGML v1.0//EN
CALSCALE:GREGORIAN
METHOD:PUBLISH
X-WR-CALNAME:Vintar German Shepherd
X-ORIGINAL-URL:https://vintargermanshepherdarizona.com
X-WR-CALDESC:Events for Vintar German Shepherd
REFRESH-INTERVAL;VALUE=DURATION:PT1H
X-Robots-Tag:noindex
X-PUBLISHED-TTL:PT1H
BEGIN:VTIMEZONE
TZID:America/Denver
BEGIN:DAYLIGHT
TZOFFSETFROM:-0700
TZOFFSETTO:-0600
TZNAME:MDT
DTSTART:20230312T090000
END:DAYLIGHT
BEGIN:STANDARD
TZOFFSETFROM:-0600
TZOFFSETTO:-0700
TZNAME:MST
DTSTART:20231105T080000
END:STANDARD
BEGIN:DAYLIGHT
TZOFFSETFROM:-0700
TZOFFSETTO:-0600
TZNAME:MDT
DTSTART:20240310T090000
END:DAYLIGHT
BEGIN:STANDARD
TZOFFSETFROM:-0600
TZOFFSETTO:-0700
TZNAME:MST
DTSTART:20241103T080000
END:STANDARD
BEGIN:DAYLIGHT
TZOFFSETFROM:-0700
TZOFFSETTO:-0600
TZNAME:MDT
DTSTART:20250309T090000
END:DAYLIGHT
BEGIN:STANDARD
TZOFFSETFROM:-0600
TZOFFSETTO:-0700
TZNAME:MST
DTSTART:20251102T080000
END:STANDARD
BEGIN:DAYLIGHT
TZOFFSETFROM:-0700
TZOFFSETTO:-0600
TZNAME:MDT
DTSTART:20260308T090000
END:DAYLIGHT
BEGIN:STANDARD
TZOFFSETFROM:-0600
TZOFFSETTO:-0700
TZNAME:MST
DTSTART:20261101T080000
END:STANDARD
END:VTIMEZONE
BEGIN:VEVENT
DTSTART;TZID=America/Denver:20250308T090000
DTEND;TZID=America/Denver:20250308T110000
DTSTAMP:20260422T152016
CREATED:20241103T224532Z
LAST-MODIFIED:20241103T224533Z
UID:10000679-1741424400-1741431600@vintargermanshepherdarizona.com
SUMMARY:Social Class 9am
DESCRIPTION:
URL:https://vintargermanshepherdarizona.com/event/social-class-9am-2-2-2/2025-03-08/
END:VEVENT
BEGIN:VEVENT
DTSTART;TZID=America/Denver:20250301T090000
DTEND;TZID=America/Denver:20250301T110000
DTSTAMP:20260422T152016
CREATED:20241103T224532Z
LAST-MODIFIED:20241103T224533Z
UID:10000678-1740819600-1740826800@vintargermanshepherdarizona.com
SUMMARY:Social Class 9am
DESCRIPTION:
URL:https://vintargermanshepherdarizona.com/event/social-class-9am-2-2-2/2025-03-01/
END:VEVENT
BEGIN:VEVENT
DTSTART;TZID=America/Denver:20250223T130000
DTEND;TZID=America/Denver:20250223T143000
DTSTAMP:20260422T152016
CREATED:20250126T050142Z
LAST-MODIFIED:20250126T050142Z
UID:10000961-1740315600-1740321000@vintargermanshepherdarizona.com
SUMMARY:Fitdog
DESCRIPTION:February 15 @ North Estrella Lake \nFebruary 23 @ White Tanks Waterfall Hike \nGerman Shepherds out in public learning basic social skills and going on a balanced community hike as a class. \n 
URL:https://vintargermanshepherdarizona.com/event/fitdog/2025-02-23/
END:VEVENT
BEGIN:VEVENT
DTSTART;TZID=America/Denver:20250223T090000
DTEND;TZID=America/Denver:20250223T110000
DTSTAMP:20260422T152016
CREATED:20250126T045713Z
LAST-MODIFIED:20250126T045713Z
UID:10000959-1740301200-1740308400@vintargermanshepherdarizona.com
SUMMARY:CGC Class at Vintar
DESCRIPTION:Class that works on social behavior to pass the akc cgc test. We work towards passing the cgca and cgcu out in public.
URL:https://vintargermanshepherdarizona.com/event/cgc-class-at-vintar/
END:VEVENT
BEGIN:VEVENT
DTSTART;TZID=America/Denver:20250222T090000
DTEND;TZID=America/Denver:20250222T110000
DTSTAMP:20260422T152016
CREATED:20241103T224532Z
LAST-MODIFIED:20241103T224533Z
UID:10000677-1740214800-1740222000@vintargermanshepherdarizona.com
SUMMARY:Social Class 9am
DESCRIPTION:
URL:https://vintargermanshepherdarizona.com/event/social-class-9am-2-2-2/2025-02-22/
END:VEVENT
BEGIN:VEVENT
DTSTART;TZID=America/Denver:20250216T090000
DTEND;TZID=America/Denver:20250216T110000
DTSTAMP:20260422T152016
CREATED:20250126T045416Z
LAST-MODIFIED:20250126T045416Z
UID:10000958-1739696400-1739703600@vintargermanshepherdarizona.com
SUMMARY:Training Class
DESCRIPTION:Advance training working towards off leash training\, trick training\, fetch\, rally\, agility\, obedience etc.. we add alot of advance training to create a fun way to learn new things and get a well mannered happy dog.
URL:https://vintargermanshepherdarizona.com/event/training-class-7/2025-02-16/
END:VEVENT
BEGIN:VEVENT
DTSTART;TZID=America/Denver:20250215T130000
DTEND;TZID=America/Denver:20250215T143000
DTSTAMP:20260422T152016
CREATED:20250126T050142Z
LAST-MODIFIED:20250126T050142Z
UID:10000960-1739624400-1739629800@vintargermanshepherdarizona.com
SUMMARY:Fitdog
DESCRIPTION:February 15 @ North Estrella Lake \nFebruary 23 @ White Tanks Waterfall Hike \nGerman Shepherds out in public learning basic social skills and going on a balanced community hike as a class. \n 
URL:https://vintargermanshepherdarizona.com/event/fitdog/2025-02-15/
END:VEVENT
BEGIN:VEVENT
DTSTART;TZID=America/Denver:20250215T090000
DTEND;TZID=America/Denver:20250215T110000
DTSTAMP:20260422T152016
CREATED:20241103T224532Z
LAST-MODIFIED:20241103T224533Z
UID:10000676-1739610000-1739617200@vintargermanshepherdarizona.com
SUMMARY:Social Class 9am
DESCRIPTION:
URL:https://vintargermanshepherdarizona.com/event/social-class-9am-2-2-2/2025-02-15/
END:VEVENT
BEGIN:VEVENT
DTSTART;TZID=America/Denver:20250208T120000
DTEND;TZID=America/Denver:20250208T130000
DTSTAMP:20260422T152016
CREATED:20250101T063816Z
LAST-MODIFIED:20250101T063816Z
UID:10000955-1739016000-1739019600@vintargermanshepherdarizona.com
SUMMARY:Puppy visit - take home day for rogue
DESCRIPTION:Families get to visit their puppies and socialize with all puppy families teaching puppies critical social skills before take home.
URL:https://vintargermanshepherdarizona.com/event/puppy-visit-take-home-day-for-rogue/
END:VEVENT
BEGIN:VEVENT
DTSTART;TZID=America/Denver:20250208T090000
DTEND;TZID=America/Denver:20250208T110000
DTSTAMP:20260422T152016
CREATED:20241103T224532Z
LAST-MODIFIED:20241103T224533Z
UID:10000675-1739005200-1739012400@vintargermanshepherdarizona.com
SUMMARY:Social Class 9am
DESCRIPTION:
URL:https://vintargermanshepherdarizona.com/event/social-class-9am-2-2-2/2025-02-08/
END:VEVENT
BEGIN:VEVENT
DTSTART;TZID=America/Denver:20250202T090000
DTEND;TZID=America/Denver:20250202T110000
DTSTAMP:20260422T152016
CREATED:20250126T045416Z
LAST-MODIFIED:20250126T045416Z
UID:10000957-1738486800-1738494000@vintargermanshepherdarizona.com
SUMMARY:Training Class
DESCRIPTION:Advance training working towards off leash training\, trick training\, fetch\, rally\, agility\, obedience etc.. we add alot of advance training to create a fun way to learn new things and get a well mannered happy dog.
URL:https://vintargermanshepherdarizona.com/event/training-class-7/2025-02-02/
END:VEVENT
BEGIN:VEVENT
DTSTART;TZID=America/Denver:20250201T120000
DTEND;TZID=America/Denver:20250201T130000
DTSTAMP:20260422T152016
CREATED:20250101T063204Z
LAST-MODIFIED:20250101T063204Z
UID:10000954-1738411200-1738414800@vintargermanshepherdarizona.com
SUMMARY:puppy visit day
DESCRIPTION:Families get to visit their vintar german shepherd puppy after 5 week pick once a week for 1 hour to get to know their puppy and to socialize with all the puppy families.
URL:https://vintargermanshepherdarizona.com/event/puppy-visit-day-3/2025-02-01/
END:VEVENT
BEGIN:VEVENT
DTSTART;TZID=America/Denver:20250201T090000
DTEND;TZID=America/Denver:20250201T110000
DTSTAMP:20260422T152016
CREATED:20241103T224532Z
LAST-MODIFIED:20241103T224533Z
UID:10000674-1738400400-1738407600@vintargermanshepherdarizona.com
SUMMARY:Social Class 9am
DESCRIPTION:
URL:https://vintargermanshepherdarizona.com/event/social-class-9am-2-2-2/2025-02-01/
END:VEVENT
BEGIN:VEVENT
DTSTART;TZID=America/Denver:20250126T100000
DTEND;TZID=America/Denver:20250126T113000
DTSTAMP:20260422T152016
CREATED:20250110T145649Z
LAST-MODIFIED:20250110T145649Z
UID:10000956-1737885600-1737891000@vintargermanshepherdarizona.com
SUMMARY:cgc @kahoots
DESCRIPTION:Dog social class learning skills to pass the CGC test out in public.
URL:https://vintargermanshepherdarizona.com/event/cgc-kahoots/
END:VEVENT
BEGIN:VEVENT
DTSTART;TZID=America/Denver:20250125T150000
DTEND;TZID=America/Denver:20250125T170000
DTSTAMP:20260422T152016
CREATED:20250101T061907Z
LAST-MODIFIED:20250101T061907Z
UID:10000950-1737817200-1737824400@vintargermanshepherdarizona.com
SUMMARY:Fitdog Club-Estrella n lake
DESCRIPTION:Class teaching social skills by hiking in the community as a group. Dogs learn to ignore the environment and enjoy walking with the group.
URL:https://vintargermanshepherdarizona.com/event/fitdog-club-estrella-n-lake/2025-01-25/
END:VEVENT
BEGIN:VEVENT
DTSTART;TZID=America/Denver:20250125T120000
DTEND;TZID=America/Denver:20250125T130000
DTSTAMP:20260422T152016
CREATED:20250101T063204Z
LAST-MODIFIED:20250101T063204Z
UID:10000953-1737806400-1737810000@vintargermanshepherdarizona.com
SUMMARY:puppy visit day
DESCRIPTION:Families get to visit their vintar german shepherd puppy after 5 week pick once a week for 1 hour to get to know their puppy and to socialize with all the puppy families.
URL:https://vintargermanshepherdarizona.com/event/puppy-visit-day-3/2025-01-25/
END:VEVENT
BEGIN:VEVENT
DTSTART;TZID=America/Denver:20250125T090000
DTEND;TZID=America/Denver:20250125T110000
DTSTAMP:20260422T152016
CREATED:20241103T224532Z
LAST-MODIFIED:20241103T224533Z
UID:10000673-1737795600-1737802800@vintargermanshepherdarizona.com
SUMMARY:Social Class 9am
DESCRIPTION:
URL:https://vintargermanshepherdarizona.com/event/social-class-9am-2-2-2/2025-01-25/
END:VEVENT
BEGIN:VEVENT
DTSTART;TZID=America/Denver:20250119T090000
DTEND;TZID=America/Denver:20250119T110000
DTSTAMP:20260422T152016
CREATED:20250101T060738Z
LAST-MODIFIED:20250101T060738Z
UID:10000946-1737277200-1737284400@vintargermanshepherdarizona.com
SUMMARY:Training Class
DESCRIPTION:german shepherds and friends learning advanced skills in dog training.
URL:https://vintargermanshepherdarizona.com/event/training-class-6/2025-01-19/
END:VEVENT
BEGIN:VEVENT
DTSTART;TZID=America/Denver:20250118T120000
DTEND;TZID=America/Denver:20250118T130000
DTSTAMP:20260422T152016
CREATED:20250101T063204Z
LAST-MODIFIED:20250101T063204Z
UID:10000952-1737201600-1737205200@vintargermanshepherdarizona.com
SUMMARY:puppy visit day
DESCRIPTION:Families get to visit their vintar german shepherd puppy after 5 week pick once a week for 1 hour to get to know their puppy and to socialize with all the puppy families.
URL:https://vintargermanshepherdarizona.com/event/puppy-visit-day-3/2025-01-18/
END:VEVENT
BEGIN:VEVENT
DTSTART;TZID=America/Denver:20250118T090000
DTEND;TZID=America/Denver:20250118T110000
DTSTAMP:20260422T152016
CREATED:20241103T224532Z
LAST-MODIFIED:20241103T224533Z
UID:10000672-1737190800-1737198000@vintargermanshepherdarizona.com
SUMMARY:Social Class 9am
DESCRIPTION:
URL:https://vintargermanshepherdarizona.com/event/social-class-9am-2-2-2/2025-01-18/
END:VEVENT
BEGIN:VEVENT
DTSTART;TZID=America/Denver:20250111T150000
DTEND;TZID=America/Denver:20250111T170000
DTSTAMP:20260422T152016
CREATED:20250101T061907Z
LAST-MODIFIED:20250101T061907Z
UID:10000949-1736607600-1736614800@vintargermanshepherdarizona.com
SUMMARY:Fitdog Club-Estrella n lake
DESCRIPTION:Class teaching social skills by hiking in the community as a group. Dogs learn to ignore the environment and enjoy walking with the group.
URL:https://vintargermanshepherdarizona.com/event/fitdog-club-estrella-n-lake/2025-01-11/
END:VEVENT
BEGIN:VEVENT
DTSTART;TZID=America/Denver:20250111T090000
DTEND;TZID=America/Denver:20250111T110000
DTSTAMP:20260422T152016
CREATED:20241103T224532Z
LAST-MODIFIED:20241103T224533Z
UID:10000671-1736586000-1736593200@vintargermanshepherdarizona.com
SUMMARY:Social Class 9am
DESCRIPTION:
URL:https://vintargermanshepherdarizona.com/event/social-class-9am-2-2-2/2025-01-11/
END:VEVENT
BEGIN:VEVENT
DTSTART;TZID=America/Denver:20250110T090000
DTEND;TZID=America/Denver:20250110T160000
DTSTAMP:20260422T152016
CREATED:20250101T062358Z
LAST-MODIFIED:20250101T062358Z
UID:10000951-1736499600-1736524800@vintargermanshepherdarizona.com
SUMMARY:Puppy pick
DESCRIPTION:families pick their puppy at 5 weeks old from Rogue litter\, take home is 9 weeks.
URL:https://vintargermanshepherdarizona.com/event/puppy-pick/
END:VEVENT
BEGIN:VEVENT
DTSTART;TZID=America/Denver:20250105T123000
DTEND;TZID=America/Denver:20250105T143000
DTSTAMP:20260422T152016
CREATED:20250101T061322Z
LAST-MODIFIED:20250101T061322Z
UID:10000947-1736080200-1736087400@vintargermanshepherdarizona.com
SUMMARY:Puppy Class
DESCRIPTION:Puppies learning skills to pass the akc star puppy class. Learning social skills and basic obedience in a group.
URL:https://vintargermanshepherdarizona.com/event/puppy-class-2/
END:VEVENT
BEGIN:VEVENT
DTSTART;TZID=America/Denver:20250105T090000
DTEND;TZID=America/Denver:20250105T110000
DTSTAMP:20260422T152016
CREATED:20250101T060738Z
LAST-MODIFIED:20250101T060738Z
UID:10000945-1736067600-1736074800@vintargermanshepherdarizona.com
SUMMARY:Training Class
DESCRIPTION:german shepherds and friends learning advanced skills in dog training.
URL:https://vintargermanshepherdarizona.com/event/training-class-6/2025-01-05/
END:VEVENT
BEGIN:VEVENT
DTSTART;TZID=America/Denver:20250104T090000
DTEND;TZID=America/Denver:20250104T110000
DTSTAMP:20260422T152016
CREATED:20241103T224532Z
LAST-MODIFIED:20241103T224533Z
UID:10000670-1735981200-1735988400@vintargermanshepherdarizona.com
SUMMARY:Social Class 9am
DESCRIPTION:
URL:https://vintargermanshepherdarizona.com/event/social-class-9am-2-2-2/2025-01-04/
END:VEVENT
BEGIN:VEVENT
DTSTART;VALUE=DATE:20241229
DTEND;VALUE=DATE:20241230
DTSTAMP:20260422T152016
CREATED:20241201T141622Z
LAST-MODIFIED:20241201T141622Z
UID:10000940-1735430400-1735516799@vintargermanshepherdarizona.com
SUMMARY:No Appointments
DESCRIPTION:
URL:https://vintargermanshepherdarizona.com/event/no-appointments-2/
END:VEVENT
BEGIN:VEVENT
DTSTART;VALUE=DATE:20241228
DTEND;VALUE=DATE:20241229
DTSTAMP:20260422T152016
CREATED:20241201T141530Z
LAST-MODIFIED:20241201T141530Z
UID:10000939-1735344000-1735430399@vintargermanshepherdarizona.com
SUMMARY:No Appointments
DESCRIPTION:
URL:https://vintargermanshepherdarizona.com/event/no-appointments/
END:VEVENT
BEGIN:VEVENT
DTSTART;TZID=America/Denver:20241222T100000
DTEND;TZID=America/Denver:20241222T120000
DTSTAMP:20260422T152016
CREATED:20241115T221635Z
LAST-MODIFIED:20241201T141407Z
UID:10000934-1734861600-1734868800@vintargermanshepherdarizona.com
SUMMARY:Vintar Christmas parade @Estrella N. Lake
DESCRIPTION:Our doggie and families dressing up for christmas and listening to christmas music.
URL:https://vintargermanshepherdarizona.com/event/vintar-fitdog-christmas-hike-estrella-n-lake/
END:VEVENT
BEGIN:VEVENT
DTSTART;TZID=America/Denver:20241221T130000
DTEND;TZID=America/Denver:20241221T143000
DTSTAMP:20260422T152016
CREATED:20241201T141211Z
LAST-MODIFIED:20241201T141211Z
UID:10000938-1734786000-1734791400@vintargermanshepherdarizona.com
SUMMARY:class lunch macayos
DESCRIPTION:Vintar German Shepherd class going to a dog friendly patio for lunch as a group.
URL:https://vintargermanshepherdarizona.com/event/class-lunch-macayos-2/
END:VEVENT
END:VCALENDAR