BEGIN:VCALENDAR
VERSION:2.0
PRODID:-//Vintar German Shepherd - ECPv6.15.20//NONSGML v1.0//EN
CALSCALE:GREGORIAN
METHOD:PUBLISH
X-ORIGINAL-URL:https://vintargermanshepherdarizona.com
X-WR-CALDESC:Events for Vintar German Shepherd
REFRESH-INTERVAL;VALUE=DURATION:PT1H
X-Robots-Tag:noindex
X-PUBLISHED-TTL:PT1H
BEGIN:VTIMEZONE
TZID:America/Denver
BEGIN:DAYLIGHT
TZOFFSETFROM:-0700
TZOFFSETTO:-0600
TZNAME:MDT
DTSTART:20260308T090000
END:DAYLIGHT
BEGIN:STANDARD
TZOFFSETFROM:-0600
TZOFFSETTO:-0700
TZNAME:MST
DTSTART:20261101T080000
END:STANDARD
BEGIN:DAYLIGHT
TZOFFSETFROM:-0700
TZOFFSETTO:-0600
TZNAME:MDT
DTSTART:20270314T090000
END:DAYLIGHT
BEGIN:STANDARD
TZOFFSETFROM:-0600
TZOFFSETTO:-0700
TZNAME:MST
DTSTART:20271107T080000
END:STANDARD
BEGIN:DAYLIGHT
TZOFFSETFROM:-0700
TZOFFSETTO:-0600
TZNAME:MDT
DTSTART:20280312T090000
END:DAYLIGHT
BEGIN:STANDARD
TZOFFSETFROM:-0600
TZOFFSETTO:-0700
TZNAME:MST
DTSTART:20281105T080000
END:STANDARD
BEGIN:DAYLIGHT
TZOFFSETFROM:-0700
TZOFFSETTO:-0600
TZNAME:MDT
DTSTART:20290311T090000
END:DAYLIGHT
BEGIN:STANDARD
TZOFFSETFROM:-0600
TZOFFSETTO:-0700
TZNAME:MST
DTSTART:20291104T080000
END:STANDARD
END:VTIMEZONE
BEGIN:VEVENT
DTSTART;TZID=America/Denver:20271127T090000
DTEND;TZID=America/Denver:20271127T110000
DTSTAMP:20260422T164318
CREATED:20260128T214214Z
LAST-MODIFIED:20260128T214214Z
UID:10001386-1827306000-1827313200@vintargermanshepherdarizona.com
SUMMARY:Social Class
DESCRIPTION:Dogs being exposed to different situations learning to be desensitized to the environment while learning basic obedience skills.
URL:https://vintargermanshepherdarizona.com/event/social-class-6/2027-11-27/
END:VEVENT
BEGIN:VEVENT
DTSTART;TZID=America/Denver:20271204T090000
DTEND;TZID=America/Denver:20271204T110000
DTSTAMP:20260422T164318
CREATED:20260128T214214Z
LAST-MODIFIED:20260128T214214Z
UID:10001387-1827910800-1827918000@vintargermanshepherdarizona.com
SUMMARY:Social Class
DESCRIPTION:Dogs being exposed to different situations learning to be desensitized to the environment while learning basic obedience skills.
URL:https://vintargermanshepherdarizona.com/event/social-class-6/2027-12-04/
END:VEVENT
BEGIN:VEVENT
DTSTART;TZID=America/Denver:20271211T090000
DTEND;TZID=America/Denver:20271211T110000
DTSTAMP:20260422T164318
CREATED:20260128T214214Z
LAST-MODIFIED:20260128T214214Z
UID:10001388-1828515600-1828522800@vintargermanshepherdarizona.com
SUMMARY:Social Class
DESCRIPTION:Dogs being exposed to different situations learning to be desensitized to the environment while learning basic obedience skills.
URL:https://vintargermanshepherdarizona.com/event/social-class-6/2027-12-11/
END:VEVENT
BEGIN:VEVENT
DTSTART;TZID=America/Denver:20271218T090000
DTEND;TZID=America/Denver:20271218T110000
DTSTAMP:20260422T164318
CREATED:20260128T214214Z
LAST-MODIFIED:20260128T214214Z
UID:10001389-1829120400-1829127600@vintargermanshepherdarizona.com
SUMMARY:Social Class
DESCRIPTION:Dogs being exposed to different situations learning to be desensitized to the environment while learning basic obedience skills.
URL:https://vintargermanshepherdarizona.com/event/social-class-6/2027-12-18/
END:VEVENT
BEGIN:VEVENT
DTSTART;TZID=America/Denver:20271225T090000
DTEND;TZID=America/Denver:20271225T110000
DTSTAMP:20260422T164318
CREATED:20260128T214214Z
LAST-MODIFIED:20260128T214214Z
UID:10001390-1829725200-1829732400@vintargermanshepherdarizona.com
SUMMARY:Social Class
DESCRIPTION:Dogs being exposed to different situations learning to be desensitized to the environment while learning basic obedience skills.
URL:https://vintargermanshepherdarizona.com/event/social-class-6/2027-12-25/
END:VEVENT
BEGIN:VEVENT
DTSTART;TZID=America/Denver:20280101T090000
DTEND;TZID=America/Denver:20280101T110000
DTSTAMP:20260422T164318
CREATED:20260128T214214Z
LAST-MODIFIED:20260128T214214Z
UID:10001391-1830330000-1830337200@vintargermanshepherdarizona.com
SUMMARY:Social Class
DESCRIPTION:Dogs being exposed to different situations learning to be desensitized to the environment while learning basic obedience skills.
URL:https://vintargermanshepherdarizona.com/event/social-class-6/2028-01-01/
END:VEVENT
BEGIN:VEVENT
DTSTART;TZID=America/Denver:20280108T090000
DTEND;TZID=America/Denver:20280108T110000
DTSTAMP:20260422T164318
CREATED:20260128T214214Z
LAST-MODIFIED:20260128T214214Z
UID:10001392-1830934800-1830942000@vintargermanshepherdarizona.com
SUMMARY:Social Class
DESCRIPTION:Dogs being exposed to different situations learning to be desensitized to the environment while learning basic obedience skills.
URL:https://vintargermanshepherdarizona.com/event/social-class-6/2028-01-08/
END:VEVENT
BEGIN:VEVENT
DTSTART;TZID=America/Denver:20280115T090000
DTEND;TZID=America/Denver:20280115T110000
DTSTAMP:20260422T164318
CREATED:20260128T214214Z
LAST-MODIFIED:20260128T214214Z
UID:10001393-1831539600-1831546800@vintargermanshepherdarizona.com
SUMMARY:Social Class
DESCRIPTION:Dogs being exposed to different situations learning to be desensitized to the environment while learning basic obedience skills.
URL:https://vintargermanshepherdarizona.com/event/social-class-6/2028-01-15/
END:VEVENT
BEGIN:VEVENT
DTSTART;TZID=America/Denver:20280122T090000
DTEND;TZID=America/Denver:20280122T110000
DTSTAMP:20260422T164318
CREATED:20260128T214214Z
LAST-MODIFIED:20260128T214214Z
UID:10001394-1832144400-1832151600@vintargermanshepherdarizona.com
SUMMARY:Social Class
DESCRIPTION:Dogs being exposed to different situations learning to be desensitized to the environment while learning basic obedience skills.
URL:https://vintargermanshepherdarizona.com/event/social-class-6/2028-01-22/
END:VEVENT
BEGIN:VEVENT
DTSTART;TZID=America/Denver:20280129T090000
DTEND;TZID=America/Denver:20280129T110000
DTSTAMP:20260422T164318
CREATED:20260128T214214Z
LAST-MODIFIED:20260128T214214Z
UID:10001395-1832749200-1832756400@vintargermanshepherdarizona.com
SUMMARY:Social Class
DESCRIPTION:Dogs being exposed to different situations learning to be desensitized to the environment while learning basic obedience skills.
URL:https://vintargermanshepherdarizona.com/event/social-class-6/2028-01-29/
END:VEVENT
BEGIN:VEVENT
DTSTART;TZID=America/Denver:20280205T090000
DTEND;TZID=America/Denver:20280205T110000
DTSTAMP:20260422T164318
CREATED:20260128T214214Z
LAST-MODIFIED:20260128T214214Z
UID:10001396-1833354000-1833361200@vintargermanshepherdarizona.com
SUMMARY:Social Class
DESCRIPTION:Dogs being exposed to different situations learning to be desensitized to the environment while learning basic obedience skills.
URL:https://vintargermanshepherdarizona.com/event/social-class-6/2028-02-05/
END:VEVENT
BEGIN:VEVENT
DTSTART;TZID=America/Denver:20280212T090000
DTEND;TZID=America/Denver:20280212T110000
DTSTAMP:20260422T164318
CREATED:20260128T214214Z
LAST-MODIFIED:20260128T214214Z
UID:10001397-1833958800-1833966000@vintargermanshepherdarizona.com
SUMMARY:Social Class
DESCRIPTION:Dogs being exposed to different situations learning to be desensitized to the environment while learning basic obedience skills.
URL:https://vintargermanshepherdarizona.com/event/social-class-6/2028-02-12/
END:VEVENT
BEGIN:VEVENT
DTSTART;TZID=America/Denver:20280219T090000
DTEND;TZID=America/Denver:20280219T110000
DTSTAMP:20260422T164318
CREATED:20260128T214214Z
LAST-MODIFIED:20260128T214214Z
UID:10001398-1834563600-1834570800@vintargermanshepherdarizona.com
SUMMARY:Social Class
DESCRIPTION:Dogs being exposed to different situations learning to be desensitized to the environment while learning basic obedience skills.
URL:https://vintargermanshepherdarizona.com/event/social-class-6/2028-02-19/
END:VEVENT
BEGIN:VEVENT
DTSTART;TZID=America/Denver:20280226T090000
DTEND;TZID=America/Denver:20280226T110000
DTSTAMP:20260422T164318
CREATED:20260128T214214Z
LAST-MODIFIED:20260128T214214Z
UID:10001399-1835168400-1835175600@vintargermanshepherdarizona.com
SUMMARY:Social Class
DESCRIPTION:Dogs being exposed to different situations learning to be desensitized to the environment while learning basic obedience skills.
URL:https://vintargermanshepherdarizona.com/event/social-class-6/2028-02-26/
END:VEVENT
BEGIN:VEVENT
DTSTART;TZID=America/Denver:20280304T090000
DTEND;TZID=America/Denver:20280304T110000
DTSTAMP:20260422T164318
CREATED:20260128T214214Z
LAST-MODIFIED:20260128T214214Z
UID:10001400-1835773200-1835780400@vintargermanshepherdarizona.com
SUMMARY:Social Class
DESCRIPTION:Dogs being exposed to different situations learning to be desensitized to the environment while learning basic obedience skills.
URL:https://vintargermanshepherdarizona.com/event/social-class-6/2028-03-04/
END:VEVENT
BEGIN:VEVENT
DTSTART;TZID=America/Denver:20280311T090000
DTEND;TZID=America/Denver:20280311T110000
DTSTAMP:20260422T164318
CREATED:20260128T214214Z
LAST-MODIFIED:20260128T214214Z
UID:10001401-1836378000-1836385200@vintargermanshepherdarizona.com
SUMMARY:Social Class
DESCRIPTION:Dogs being exposed to different situations learning to be desensitized to the environment while learning basic obedience skills.
URL:https://vintargermanshepherdarizona.com/event/social-class-6/2028-03-11/
END:VEVENT
BEGIN:VEVENT
DTSTART;TZID=America/Denver:20280318T090000
DTEND;TZID=America/Denver:20280318T110000
DTSTAMP:20260422T164318
CREATED:20260128T214214Z
LAST-MODIFIED:20260128T214214Z
UID:10001402-1836982800-1836990000@vintargermanshepherdarizona.com
SUMMARY:Social Class
DESCRIPTION:Dogs being exposed to different situations learning to be desensitized to the environment while learning basic obedience skills.
URL:https://vintargermanshepherdarizona.com/event/social-class-6/2028-03-18/
END:VEVENT
BEGIN:VEVENT
DTSTART;TZID=America/Denver:20280325T090000
DTEND;TZID=America/Denver:20280325T110000
DTSTAMP:20260422T164318
CREATED:20260128T214214Z
LAST-MODIFIED:20260128T214214Z
UID:10001403-1837587600-1837594800@vintargermanshepherdarizona.com
SUMMARY:Social Class
DESCRIPTION:Dogs being exposed to different situations learning to be desensitized to the environment while learning basic obedience skills.
URL:https://vintargermanshepherdarizona.com/event/social-class-6/2028-03-25/
END:VEVENT
BEGIN:VEVENT
DTSTART;TZID=America/Denver:20280401T090000
DTEND;TZID=America/Denver:20280401T110000
DTSTAMP:20260422T164318
CREATED:20260128T214214Z
LAST-MODIFIED:20260128T214214Z
UID:10001404-1838192400-1838199600@vintargermanshepherdarizona.com
SUMMARY:Social Class
DESCRIPTION:Dogs being exposed to different situations learning to be desensitized to the environment while learning basic obedience skills.
URL:https://vintargermanshepherdarizona.com/event/social-class-6/2028-04-01/
END:VEVENT
BEGIN:VEVENT
DTSTART;TZID=America/Denver:20280408T090000
DTEND;TZID=America/Denver:20280408T110000
DTSTAMP:20260422T164318
CREATED:20260128T214214Z
LAST-MODIFIED:20260128T214214Z
UID:10001405-1838797200-1838804400@vintargermanshepherdarizona.com
SUMMARY:Social Class
DESCRIPTION:Dogs being exposed to different situations learning to be desensitized to the environment while learning basic obedience skills.
URL:https://vintargermanshepherdarizona.com/event/social-class-6/2028-04-08/
END:VEVENT
BEGIN:VEVENT
DTSTART;TZID=America/Denver:20280415T090000
DTEND;TZID=America/Denver:20280415T110000
DTSTAMP:20260422T164318
CREATED:20260128T214214Z
LAST-MODIFIED:20260128T214214Z
UID:10001406-1839402000-1839409200@vintargermanshepherdarizona.com
SUMMARY:Social Class
DESCRIPTION:Dogs being exposed to different situations learning to be desensitized to the environment while learning basic obedience skills.
URL:https://vintargermanshepherdarizona.com/event/social-class-6/2028-04-15/
END:VEVENT
BEGIN:VEVENT
DTSTART;TZID=America/Denver:20280422T090000
DTEND;TZID=America/Denver:20280422T110000
DTSTAMP:20260422T164318
CREATED:20260128T214214Z
LAST-MODIFIED:20260128T214214Z
UID:10001407-1840006800-1840014000@vintargermanshepherdarizona.com
SUMMARY:Social Class
DESCRIPTION:Dogs being exposed to different situations learning to be desensitized to the environment while learning basic obedience skills.
URL:https://vintargermanshepherdarizona.com/event/social-class-6/2028-04-22/
END:VEVENT
BEGIN:VEVENT
DTSTART;TZID=America/Denver:20280429T090000
DTEND;TZID=America/Denver:20280429T110000
DTSTAMP:20260422T164318
CREATED:20260128T214214Z
LAST-MODIFIED:20260128T214214Z
UID:10001408-1840611600-1840618800@vintargermanshepherdarizona.com
SUMMARY:Social Class
DESCRIPTION:Dogs being exposed to different situations learning to be desensitized to the environment while learning basic obedience skills.
URL:https://vintargermanshepherdarizona.com/event/social-class-6/2028-04-29/
END:VEVENT
BEGIN:VEVENT
DTSTART;TZID=America/Denver:20280506T090000
DTEND;TZID=America/Denver:20280506T110000
DTSTAMP:20260422T164318
CREATED:20260128T214214Z
LAST-MODIFIED:20260128T214214Z
UID:10001409-1841216400-1841223600@vintargermanshepherdarizona.com
SUMMARY:Social Class
DESCRIPTION:Dogs being exposed to different situations learning to be desensitized to the environment while learning basic obedience skills.
URL:https://vintargermanshepherdarizona.com/event/social-class-6/2028-05-06/
END:VEVENT
BEGIN:VEVENT
DTSTART;TZID=America/Denver:20280513T090000
DTEND;TZID=America/Denver:20280513T110000
DTSTAMP:20260422T164318
CREATED:20260128T214214Z
LAST-MODIFIED:20260128T214214Z
UID:10001410-1841821200-1841828400@vintargermanshepherdarizona.com
SUMMARY:Social Class
DESCRIPTION:Dogs being exposed to different situations learning to be desensitized to the environment while learning basic obedience skills.
URL:https://vintargermanshepherdarizona.com/event/social-class-6/2028-05-13/
END:VEVENT
BEGIN:VEVENT
DTSTART;TZID=America/Denver:20280520T090000
DTEND;TZID=America/Denver:20280520T110000
DTSTAMP:20260422T164318
CREATED:20260128T214214Z
LAST-MODIFIED:20260128T214214Z
UID:10001411-1842426000-1842433200@vintargermanshepherdarizona.com
SUMMARY:Social Class
DESCRIPTION:Dogs being exposed to different situations learning to be desensitized to the environment while learning basic obedience skills.
URL:https://vintargermanshepherdarizona.com/event/social-class-6/2028-05-20/
END:VEVENT
BEGIN:VEVENT
DTSTART;TZID=America/Denver:20280527T090000
DTEND;TZID=America/Denver:20280527T110000
DTSTAMP:20260422T164318
CREATED:20260128T214214Z
LAST-MODIFIED:20260128T214214Z
UID:10001412-1843030800-1843038000@vintargermanshepherdarizona.com
SUMMARY:Social Class
DESCRIPTION:Dogs being exposed to different situations learning to be desensitized to the environment while learning basic obedience skills.
URL:https://vintargermanshepherdarizona.com/event/social-class-6/2028-05-27/
END:VEVENT
BEGIN:VEVENT
DTSTART;TZID=America/Denver:20280603T090000
DTEND;TZID=America/Denver:20280603T110000
DTSTAMP:20260422T164318
CREATED:20260128T214214Z
LAST-MODIFIED:20260128T214214Z
UID:10001413-1843635600-1843642800@vintargermanshepherdarizona.com
SUMMARY:Social Class
DESCRIPTION:Dogs being exposed to different situations learning to be desensitized to the environment while learning basic obedience skills.
URL:https://vintargermanshepherdarizona.com/event/social-class-6/2028-06-03/
END:VEVENT
BEGIN:VEVENT
DTSTART;TZID=America/Denver:20280610T090000
DTEND;TZID=America/Denver:20280610T110000
DTSTAMP:20260422T164318
CREATED:20260128T214214Z
LAST-MODIFIED:20260128T214214Z
UID:10001414-1844240400-1844247600@vintargermanshepherdarizona.com
SUMMARY:Social Class
DESCRIPTION:Dogs being exposed to different situations learning to be desensitized to the environment while learning basic obedience skills.
URL:https://vintargermanshepherdarizona.com/event/social-class-6/2028-06-10/
END:VEVENT
BEGIN:VEVENT
DTSTART;TZID=America/Denver:20280617T090000
DTEND;TZID=America/Denver:20280617T110000
DTSTAMP:20260422T164318
CREATED:20260128T214214Z
LAST-MODIFIED:20260128T214214Z
UID:10001415-1844845200-1844852400@vintargermanshepherdarizona.com
SUMMARY:Social Class
DESCRIPTION:Dogs being exposed to different situations learning to be desensitized to the environment while learning basic obedience skills.
URL:https://vintargermanshepherdarizona.com/event/social-class-6/2028-06-17/
END:VEVENT
END:VCALENDAR