BEGIN:VCALENDAR
VERSION:2.0
PRODID:-//Vintar German Shepherd - ECPv6.15.20//NONSGML v1.0//EN
CALSCALE:GREGORIAN
METHOD:PUBLISH
X-ORIGINAL-URL:https://vintargermanshepherdarizona.com
X-WR-CALDESC:Events for Vintar German Shepherd
REFRESH-INTERVAL;VALUE=DURATION:PT1H
X-Robots-Tag:noindex
X-PUBLISHED-TTL:PT1H
BEGIN:VTIMEZONE
TZID:America/Denver
BEGIN:DAYLIGHT
TZOFFSETFROM:-0700
TZOFFSETTO:-0600
TZNAME:MDT
DTSTART:20260308T090000
END:DAYLIGHT
BEGIN:STANDARD
TZOFFSETFROM:-0600
TZOFFSETTO:-0700
TZNAME:MST
DTSTART:20261101T080000
END:STANDARD
BEGIN:DAYLIGHT
TZOFFSETFROM:-0700
TZOFFSETTO:-0600
TZNAME:MDT
DTSTART:20270314T090000
END:DAYLIGHT
BEGIN:STANDARD
TZOFFSETFROM:-0600
TZOFFSETTO:-0700
TZNAME:MST
DTSTART:20271107T080000
END:STANDARD
BEGIN:DAYLIGHT
TZOFFSETFROM:-0700
TZOFFSETTO:-0600
TZNAME:MDT
DTSTART:20280312T090000
END:DAYLIGHT
BEGIN:STANDARD
TZOFFSETFROM:-0600
TZOFFSETTO:-0700
TZNAME:MST
DTSTART:20281105T080000
END:STANDARD
END:VTIMEZONE
BEGIN:VEVENT
DTSTART;TZID=America/Denver:20270313T090000
DTEND;TZID=America/Denver:20270313T110000
DTSTAMP:20260421T173036
CREATED:20260128T214214Z
LAST-MODIFIED:20260128T214214Z
UID:10001349-1804928400-1804935600@vintargermanshepherdarizona.com
SUMMARY:Social Class
DESCRIPTION:Dogs being exposed to different situations learning to be desensitized to the environment while learning basic obedience skills.
URL:https://vintargermanshepherdarizona.com/event/social-class-6/2027-03-13/
END:VEVENT
BEGIN:VEVENT
DTSTART;TZID=America/Denver:20270320T090000
DTEND;TZID=America/Denver:20270320T110000
DTSTAMP:20260421T173036
CREATED:20260128T214214Z
LAST-MODIFIED:20260128T214214Z
UID:10001350-1805533200-1805540400@vintargermanshepherdarizona.com
SUMMARY:Social Class
DESCRIPTION:Dogs being exposed to different situations learning to be desensitized to the environment while learning basic obedience skills.
URL:https://vintargermanshepherdarizona.com/event/social-class-6/2027-03-20/
END:VEVENT
BEGIN:VEVENT
DTSTART;TZID=America/Denver:20270327T090000
DTEND;TZID=America/Denver:20270327T110000
DTSTAMP:20260421T173036
CREATED:20260128T214214Z
LAST-MODIFIED:20260128T214214Z
UID:10001351-1806138000-1806145200@vintargermanshepherdarizona.com
SUMMARY:Social Class
DESCRIPTION:Dogs being exposed to different situations learning to be desensitized to the environment while learning basic obedience skills.
URL:https://vintargermanshepherdarizona.com/event/social-class-6/2027-03-27/
END:VEVENT
BEGIN:VEVENT
DTSTART;TZID=America/Denver:20270403T090000
DTEND;TZID=America/Denver:20270403T110000
DTSTAMP:20260421T173036
CREATED:20260128T214214Z
LAST-MODIFIED:20260128T214214Z
UID:10001352-1806742800-1806750000@vintargermanshepherdarizona.com
SUMMARY:Social Class
DESCRIPTION:Dogs being exposed to different situations learning to be desensitized to the environment while learning basic obedience skills.
URL:https://vintargermanshepherdarizona.com/event/social-class-6/2027-04-03/
END:VEVENT
BEGIN:VEVENT
DTSTART;TZID=America/Denver:20270410T090000
DTEND;TZID=America/Denver:20270410T110000
DTSTAMP:20260421T173036
CREATED:20260128T214214Z
LAST-MODIFIED:20260128T214214Z
UID:10001353-1807347600-1807354800@vintargermanshepherdarizona.com
SUMMARY:Social Class
DESCRIPTION:Dogs being exposed to different situations learning to be desensitized to the environment while learning basic obedience skills.
URL:https://vintargermanshepherdarizona.com/event/social-class-6/2027-04-10/
END:VEVENT
BEGIN:VEVENT
DTSTART;TZID=America/Denver:20270417T090000
DTEND;TZID=America/Denver:20270417T110000
DTSTAMP:20260421T173036
CREATED:20260128T214214Z
LAST-MODIFIED:20260128T214214Z
UID:10001354-1807952400-1807959600@vintargermanshepherdarizona.com
SUMMARY:Social Class
DESCRIPTION:Dogs being exposed to different situations learning to be desensitized to the environment while learning basic obedience skills.
URL:https://vintargermanshepherdarizona.com/event/social-class-6/2027-04-17/
END:VEVENT
BEGIN:VEVENT
DTSTART;TZID=America/Denver:20270424T090000
DTEND;TZID=America/Denver:20270424T110000
DTSTAMP:20260421T173036
CREATED:20260128T214214Z
LAST-MODIFIED:20260128T214214Z
UID:10001355-1808557200-1808564400@vintargermanshepherdarizona.com
SUMMARY:Social Class
DESCRIPTION:Dogs being exposed to different situations learning to be desensitized to the environment while learning basic obedience skills.
URL:https://vintargermanshepherdarizona.com/event/social-class-6/2027-04-24/
END:VEVENT
BEGIN:VEVENT
DTSTART;TZID=America/Denver:20270501T090000
DTEND;TZID=America/Denver:20270501T110000
DTSTAMP:20260421T173036
CREATED:20260128T214214Z
LAST-MODIFIED:20260128T214214Z
UID:10001356-1809162000-1809169200@vintargermanshepherdarizona.com
SUMMARY:Social Class
DESCRIPTION:Dogs being exposed to different situations learning to be desensitized to the environment while learning basic obedience skills.
URL:https://vintargermanshepherdarizona.com/event/social-class-6/2027-05-01/
END:VEVENT
BEGIN:VEVENT
DTSTART;TZID=America/Denver:20270508T090000
DTEND;TZID=America/Denver:20270508T110000
DTSTAMP:20260421T173036
CREATED:20260128T214214Z
LAST-MODIFIED:20260128T214214Z
UID:10001357-1809766800-1809774000@vintargermanshepherdarizona.com
SUMMARY:Social Class
DESCRIPTION:Dogs being exposed to different situations learning to be desensitized to the environment while learning basic obedience skills.
URL:https://vintargermanshepherdarizona.com/event/social-class-6/2027-05-08/
END:VEVENT
BEGIN:VEVENT
DTSTART;TZID=America/Denver:20270515T090000
DTEND;TZID=America/Denver:20270515T110000
DTSTAMP:20260421T173036
CREATED:20260128T214214Z
LAST-MODIFIED:20260128T214214Z
UID:10001358-1810371600-1810378800@vintargermanshepherdarizona.com
SUMMARY:Social Class
DESCRIPTION:Dogs being exposed to different situations learning to be desensitized to the environment while learning basic obedience skills.
URL:https://vintargermanshepherdarizona.com/event/social-class-6/2027-05-15/
END:VEVENT
BEGIN:VEVENT
DTSTART;TZID=America/Denver:20270522T090000
DTEND;TZID=America/Denver:20270522T110000
DTSTAMP:20260421T173036
CREATED:20260128T214214Z
LAST-MODIFIED:20260128T214214Z
UID:10001359-1810976400-1810983600@vintargermanshepherdarizona.com
SUMMARY:Social Class
DESCRIPTION:Dogs being exposed to different situations learning to be desensitized to the environment while learning basic obedience skills.
URL:https://vintargermanshepherdarizona.com/event/social-class-6/2027-05-22/
END:VEVENT
BEGIN:VEVENT
DTSTART;TZID=America/Denver:20270529T090000
DTEND;TZID=America/Denver:20270529T110000
DTSTAMP:20260421T173036
CREATED:20260128T214214Z
LAST-MODIFIED:20260128T214214Z
UID:10001360-1811581200-1811588400@vintargermanshepherdarizona.com
SUMMARY:Social Class
DESCRIPTION:Dogs being exposed to different situations learning to be desensitized to the environment while learning basic obedience skills.
URL:https://vintargermanshepherdarizona.com/event/social-class-6/2027-05-29/
END:VEVENT
BEGIN:VEVENT
DTSTART;TZID=America/Denver:20270605T090000
DTEND;TZID=America/Denver:20270605T110000
DTSTAMP:20260421T173036
CREATED:20260128T214214Z
LAST-MODIFIED:20260128T214214Z
UID:10001361-1812186000-1812193200@vintargermanshepherdarizona.com
SUMMARY:Social Class
DESCRIPTION:Dogs being exposed to different situations learning to be desensitized to the environment while learning basic obedience skills.
URL:https://vintargermanshepherdarizona.com/event/social-class-6/2027-06-05/
END:VEVENT
BEGIN:VEVENT
DTSTART;TZID=America/Denver:20270612T090000
DTEND;TZID=America/Denver:20270612T110000
DTSTAMP:20260421T173036
CREATED:20260128T214214Z
LAST-MODIFIED:20260128T214214Z
UID:10001362-1812790800-1812798000@vintargermanshepherdarizona.com
SUMMARY:Social Class
DESCRIPTION:Dogs being exposed to different situations learning to be desensitized to the environment while learning basic obedience skills.
URL:https://vintargermanshepherdarizona.com/event/social-class-6/2027-06-12/
END:VEVENT
BEGIN:VEVENT
DTSTART;TZID=America/Denver:20270619T090000
DTEND;TZID=America/Denver:20270619T110000
DTSTAMP:20260421T173036
CREATED:20260128T214214Z
LAST-MODIFIED:20260128T214214Z
UID:10001363-1813395600-1813402800@vintargermanshepherdarizona.com
SUMMARY:Social Class
DESCRIPTION:Dogs being exposed to different situations learning to be desensitized to the environment while learning basic obedience skills.
URL:https://vintargermanshepherdarizona.com/event/social-class-6/2027-06-19/
END:VEVENT
BEGIN:VEVENT
DTSTART;TZID=America/Denver:20270626T090000
DTEND;TZID=America/Denver:20270626T110000
DTSTAMP:20260421T173036
CREATED:20260128T214214Z
LAST-MODIFIED:20260128T214214Z
UID:10001364-1814000400-1814007600@vintargermanshepherdarizona.com
SUMMARY:Social Class
DESCRIPTION:Dogs being exposed to different situations learning to be desensitized to the environment while learning basic obedience skills.
URL:https://vintargermanshepherdarizona.com/event/social-class-6/2027-06-26/
END:VEVENT
BEGIN:VEVENT
DTSTART;TZID=America/Denver:20270703T090000
DTEND;TZID=America/Denver:20270703T110000
DTSTAMP:20260421T173036
CREATED:20260128T214214Z
LAST-MODIFIED:20260128T214214Z
UID:10001365-1814605200-1814612400@vintargermanshepherdarizona.com
SUMMARY:Social Class
DESCRIPTION:Dogs being exposed to different situations learning to be desensitized to the environment while learning basic obedience skills.
URL:https://vintargermanshepherdarizona.com/event/social-class-6/2027-07-03/
END:VEVENT
BEGIN:VEVENT
DTSTART;TZID=America/Denver:20270710T090000
DTEND;TZID=America/Denver:20270710T110000
DTSTAMP:20260421T173036
CREATED:20260128T214214Z
LAST-MODIFIED:20260128T214214Z
UID:10001366-1815210000-1815217200@vintargermanshepherdarizona.com
SUMMARY:Social Class
DESCRIPTION:Dogs being exposed to different situations learning to be desensitized to the environment while learning basic obedience skills.
URL:https://vintargermanshepherdarizona.com/event/social-class-6/2027-07-10/
END:VEVENT
BEGIN:VEVENT
DTSTART;TZID=America/Denver:20270717T090000
DTEND;TZID=America/Denver:20270717T110000
DTSTAMP:20260421T173036
CREATED:20260128T214214Z
LAST-MODIFIED:20260128T214214Z
UID:10001367-1815814800-1815822000@vintargermanshepherdarizona.com
SUMMARY:Social Class
DESCRIPTION:Dogs being exposed to different situations learning to be desensitized to the environment while learning basic obedience skills.
URL:https://vintargermanshepherdarizona.com/event/social-class-6/2027-07-17/
END:VEVENT
BEGIN:VEVENT
DTSTART;TZID=America/Denver:20270724T090000
DTEND;TZID=America/Denver:20270724T110000
DTSTAMP:20260421T173036
CREATED:20260128T214214Z
LAST-MODIFIED:20260128T214214Z
UID:10001368-1816419600-1816426800@vintargermanshepherdarizona.com
SUMMARY:Social Class
DESCRIPTION:Dogs being exposed to different situations learning to be desensitized to the environment while learning basic obedience skills.
URL:https://vintargermanshepherdarizona.com/event/social-class-6/2027-07-24/
END:VEVENT
BEGIN:VEVENT
DTSTART;TZID=America/Denver:20270731T090000
DTEND;TZID=America/Denver:20270731T110000
DTSTAMP:20260421T173036
CREATED:20260128T214214Z
LAST-MODIFIED:20260128T214214Z
UID:10001369-1817024400-1817031600@vintargermanshepherdarizona.com
SUMMARY:Social Class
DESCRIPTION:Dogs being exposed to different situations learning to be desensitized to the environment while learning basic obedience skills.
URL:https://vintargermanshepherdarizona.com/event/social-class-6/2027-07-31/
END:VEVENT
BEGIN:VEVENT
DTSTART;TZID=America/Denver:20270807T090000
DTEND;TZID=America/Denver:20270807T110000
DTSTAMP:20260421T173036
CREATED:20260128T214214Z
LAST-MODIFIED:20260128T214214Z
UID:10001370-1817629200-1817636400@vintargermanshepherdarizona.com
SUMMARY:Social Class
DESCRIPTION:Dogs being exposed to different situations learning to be desensitized to the environment while learning basic obedience skills.
URL:https://vintargermanshepherdarizona.com/event/social-class-6/2027-08-07/
END:VEVENT
BEGIN:VEVENT
DTSTART;TZID=America/Denver:20270814T090000
DTEND;TZID=America/Denver:20270814T110000
DTSTAMP:20260421T173036
CREATED:20260128T214214Z
LAST-MODIFIED:20260128T214214Z
UID:10001371-1818234000-1818241200@vintargermanshepherdarizona.com
SUMMARY:Social Class
DESCRIPTION:Dogs being exposed to different situations learning to be desensitized to the environment while learning basic obedience skills.
URL:https://vintargermanshepherdarizona.com/event/social-class-6/2027-08-14/
END:VEVENT
BEGIN:VEVENT
DTSTART;TZID=America/Denver:20270821T090000
DTEND;TZID=America/Denver:20270821T110000
DTSTAMP:20260421T173036
CREATED:20260128T214214Z
LAST-MODIFIED:20260128T214214Z
UID:10001372-1818838800-1818846000@vintargermanshepherdarizona.com
SUMMARY:Social Class
DESCRIPTION:Dogs being exposed to different situations learning to be desensitized to the environment while learning basic obedience skills.
URL:https://vintargermanshepherdarizona.com/event/social-class-6/2027-08-21/
END:VEVENT
BEGIN:VEVENT
DTSTART;TZID=America/Denver:20270828T090000
DTEND;TZID=America/Denver:20270828T110000
DTSTAMP:20260421T173036
CREATED:20260128T214214Z
LAST-MODIFIED:20260128T214214Z
UID:10001373-1819443600-1819450800@vintargermanshepherdarizona.com
SUMMARY:Social Class
DESCRIPTION:Dogs being exposed to different situations learning to be desensitized to the environment while learning basic obedience skills.
URL:https://vintargermanshepherdarizona.com/event/social-class-6/2027-08-28/
END:VEVENT
BEGIN:VEVENT
DTSTART;TZID=America/Denver:20270904T090000
DTEND;TZID=America/Denver:20270904T110000
DTSTAMP:20260421T173036
CREATED:20260128T214214Z
LAST-MODIFIED:20260128T214214Z
UID:10001374-1820048400-1820055600@vintargermanshepherdarizona.com
SUMMARY:Social Class
DESCRIPTION:Dogs being exposed to different situations learning to be desensitized to the environment while learning basic obedience skills.
URL:https://vintargermanshepherdarizona.com/event/social-class-6/2027-09-04/
END:VEVENT
BEGIN:VEVENT
DTSTART;TZID=America/Denver:20270911T090000
DTEND;TZID=America/Denver:20270911T110000
DTSTAMP:20260421T173036
CREATED:20260128T214214Z
LAST-MODIFIED:20260128T214214Z
UID:10001375-1820653200-1820660400@vintargermanshepherdarizona.com
SUMMARY:Social Class
DESCRIPTION:Dogs being exposed to different situations learning to be desensitized to the environment while learning basic obedience skills.
URL:https://vintargermanshepherdarizona.com/event/social-class-6/2027-09-11/
END:VEVENT
BEGIN:VEVENT
DTSTART;TZID=America/Denver:20270918T090000
DTEND;TZID=America/Denver:20270918T110000
DTSTAMP:20260421T173036
CREATED:20260128T214214Z
LAST-MODIFIED:20260128T214214Z
UID:10001376-1821258000-1821265200@vintargermanshepherdarizona.com
SUMMARY:Social Class
DESCRIPTION:Dogs being exposed to different situations learning to be desensitized to the environment while learning basic obedience skills.
URL:https://vintargermanshepherdarizona.com/event/social-class-6/2027-09-18/
END:VEVENT
BEGIN:VEVENT
DTSTART;TZID=America/Denver:20270925T090000
DTEND;TZID=America/Denver:20270925T110000
DTSTAMP:20260421T173036
CREATED:20260128T214214Z
LAST-MODIFIED:20260128T214214Z
UID:10001377-1821862800-1821870000@vintargermanshepherdarizona.com
SUMMARY:Social Class
DESCRIPTION:Dogs being exposed to different situations learning to be desensitized to the environment while learning basic obedience skills.
URL:https://vintargermanshepherdarizona.com/event/social-class-6/2027-09-25/
END:VEVENT
BEGIN:VEVENT
DTSTART;TZID=America/Denver:20271002T090000
DTEND;TZID=America/Denver:20271002T110000
DTSTAMP:20260421T173036
CREATED:20260128T214214Z
LAST-MODIFIED:20260128T214214Z
UID:10001378-1822467600-1822474800@vintargermanshepherdarizona.com
SUMMARY:Social Class
DESCRIPTION:Dogs being exposed to different situations learning to be desensitized to the environment while learning basic obedience skills.
URL:https://vintargermanshepherdarizona.com/event/social-class-6/2027-10-02/
END:VEVENT
END:VCALENDAR