BEGIN:VCALENDAR
VERSION:2.0
PRODID:-//Vintar German Shepherd - ECPv6.15.20//NONSGML v1.0//EN
CALSCALE:GREGORIAN
METHOD:PUBLISH
X-WR-CALNAME:Vintar German Shepherd
X-ORIGINAL-URL:https://vintargermanshepherdarizona.com
X-WR-CALDESC:Events for Vintar German Shepherd
REFRESH-INTERVAL;VALUE=DURATION:PT1H
X-Robots-Tag:noindex
X-PUBLISHED-TTL:PT1H
BEGIN:VTIMEZONE
TZID:America/Denver
BEGIN:DAYLIGHT
TZOFFSETFROM:-0700
TZOFFSETTO:-0600
TZNAME:MDT
DTSTART:20240310T090000
END:DAYLIGHT
BEGIN:STANDARD
TZOFFSETFROM:-0600
TZOFFSETTO:-0700
TZNAME:MST
DTSTART:20241103T080000
END:STANDARD
BEGIN:DAYLIGHT
TZOFFSETFROM:-0700
TZOFFSETTO:-0600
TZNAME:MDT
DTSTART:20250309T090000
END:DAYLIGHT
BEGIN:STANDARD
TZOFFSETFROM:-0600
TZOFFSETTO:-0700
TZNAME:MST
DTSTART:20251102T080000
END:STANDARD
BEGIN:DAYLIGHT
TZOFFSETFROM:-0700
TZOFFSETTO:-0600
TZNAME:MDT
DTSTART:20260308T090000
END:DAYLIGHT
BEGIN:STANDARD
TZOFFSETFROM:-0600
TZOFFSETTO:-0700
TZNAME:MST
DTSTART:20261101T080000
END:STANDARD
END:VTIMEZONE
BEGIN:VEVENT
DTSTART;TZID=America/Denver:20251130T080000
DTEND;TZID=America/Denver:20251130T170000
DTSTAMP:20260421T192454
CREATED:20250923T233823Z
LAST-MODIFIED:20250923T233823Z
UID:10001272-1764489600-1764522000@vintargermanshepherdarizona.com
SUMMARY:Thanksgiving weekend NO APPOINTMENTS
DESCRIPTION:Have a happy Thanksgiving with family and friends.
URL:https://vintargermanshepherdarizona.com/event/thanksgiving-weekend-no-appointments/2025-11-30/
END:VEVENT
BEGIN:VEVENT
DTSTART;TZID=America/Denver:20251129T080000
DTEND;TZID=America/Denver:20251129T170000
DTSTAMP:20260421T192454
CREATED:20250923T233823Z
LAST-MODIFIED:20250923T233823Z
UID:10001271-1764403200-1764435600@vintargermanshepherdarizona.com
SUMMARY:Thanksgiving weekend NO APPOINTMENTS
DESCRIPTION:Have a happy Thanksgiving with family and friends.
URL:https://vintargermanshepherdarizona.com/event/thanksgiving-weekend-no-appointments/2025-11-29/
END:VEVENT
BEGIN:VEVENT
DTSTART;TZID=America/Denver:20251123T090000
DTEND;TZID=America/Denver:20251123T110000
DTSTAMP:20260421T192454
CREATED:20250923T232819Z
LAST-MODIFIED:20250923T232819Z
UID:10001269-1763888400-1763895600@vintargermanshepherdarizona.com
SUMMARY:Training Class
DESCRIPTION:Dog training class that works more on advanced offleash skills\, dog agility\, rally\, fetch dog and more…
URL:https://vintargermanshepherdarizona.com/event/training-class-11/2025-11-23/
END:VEVENT
BEGIN:VEVENT
DTSTART;TZID=America/Denver:20251122T090000
DTEND;TZID=America/Denver:20251122T110000
DTSTAMP:20260421T192454
CREATED:20250923T232007Z
LAST-MODIFIED:20250923T232007Z
UID:10001267-1763802000-1763809200@vintargermanshepherdarizona.com
SUMMARY:Social Class
DESCRIPTION:Dog training class desensitizing the environment to help dog succeed in training.
URL:https://vintargermanshepherdarizona.com/event/social-class-3/2025-11-22/
END:VEVENT
BEGIN:VEVENT
DTSTART;TZID=America/Denver:20251115T090000
DTEND;TZID=America/Denver:20251115T110000
DTSTAMP:20260421T192454
CREATED:20250923T232007Z
LAST-MODIFIED:20250923T232007Z
UID:10001266-1763197200-1763204400@vintargermanshepherdarizona.com
SUMMARY:Social Class
DESCRIPTION:Dog training class desensitizing the environment to help dog succeed in training.
URL:https://vintargermanshepherdarizona.com/event/social-class-3/2025-11-15/
END:VEVENT
BEGIN:VEVENT
DTSTART;TZID=America/Denver:20251109T090000
DTEND;TZID=America/Denver:20251109T110000
DTSTAMP:20260421T192454
CREATED:20250923T232819Z
LAST-MODIFIED:20250923T232819Z
UID:10001268-1762678800-1762686000@vintargermanshepherdarizona.com
SUMMARY:Training Class
DESCRIPTION:Dog training class that works more on advanced offleash skills\, dog agility\, rally\, fetch dog and more…
URL:https://vintargermanshepherdarizona.com/event/training-class-11/2025-11-09/
END:VEVENT
BEGIN:VEVENT
DTSTART;TZID=America/Denver:20251108T090000
DTEND;TZID=America/Denver:20251108T110000
DTSTAMP:20260421T192454
CREATED:20250923T232007Z
LAST-MODIFIED:20250923T232007Z
UID:10001265-1762592400-1762599600@vintargermanshepherdarizona.com
SUMMARY:Social Class
DESCRIPTION:Dog training class desensitizing the environment to help dog succeed in training.
URL:https://vintargermanshepherdarizona.com/event/social-class-3/2025-11-08/
END:VEVENT
BEGIN:VEVENT
DTSTART;TZID=America/Denver:20251102T100000
DTEND;TZID=America/Denver:20251102T110000
DTSTAMP:20260421T192454
CREATED:20250923T233549Z
LAST-MODIFIED:20250923T233549Z
UID:10001270-1762077600-1762081200@vintargermanshepherdarizona.com
SUMMARY:CGC Class @Kahoots
DESCRIPTION:dog training helping teach skills to pass the AKC CGC\, CGCA and CGCU
URL:https://vintargermanshepherdarizona.com/event/cgc-class-kahoots/
END:VEVENT
BEGIN:VEVENT
DTSTART;TZID=America/Denver:20251101T090000
DTEND;TZID=America/Denver:20251101T110000
DTSTAMP:20260421T192454
CREATED:20250923T232007Z
LAST-MODIFIED:20250923T232007Z
UID:10001264-1761987600-1761994800@vintargermanshepherdarizona.com
SUMMARY:Social Class
DESCRIPTION:Dog training class desensitizing the environment to help dog succeed in training.
URL:https://vintargermanshepherdarizona.com/event/social-class-3/2025-11-01/
END:VEVENT
BEGIN:VEVENT
DTSTART;TZID=America/Denver:20251026T090000
DTEND;TZID=America/Denver:20251026T110000
DTSTAMP:20260421T192454
CREATED:20250923T231105Z
LAST-MODIFIED:20250923T231105Z
UID:10001262-1761469200-1761476400@vintargermanshepherdarizona.com
SUMMARY:Training Class
DESCRIPTION:Dog training this is our more advanced class working on offleash skills\, agility\, rally\, fetch dog\, obedience and more..
URL:https://vintargermanshepherdarizona.com/event/training-class-10/2025-10-26/
END:VEVENT
BEGIN:VEVENT
DTSTART;TZID=America/Denver:20251025T150000
DTEND;TZID=America/Denver:20251025T180000
DTSTAMP:20260421T192454
CREATED:20250923T230554Z
LAST-MODIFIED:20250923T230554Z
UID:10001260-1761404400-1761415200@vintargermanshepherdarizona.com
SUMMARY:Vintar Haunted House
DESCRIPTION:This is a public event. Families are invited to come meet some of our dogs and enjoy a haunted house during your visit.
URL:https://vintargermanshepherdarizona.com/event/vintar-haunted-house/
END:VEVENT
BEGIN:VEVENT
DTSTART;TZID=America/Denver:20251025T090000
DTEND;TZID=America/Denver:20251025T110000
DTSTAMP:20260421T192454
CREATED:20250923T230221Z
LAST-MODIFIED:20250923T230221Z
UID:10001259-1761382800-1761390000@vintargermanshepherdarizona.com
SUMMARY:Social Halloween Maze
DESCRIPTION:Dog training desensitizing dogs with halloween environment.
URL:https://vintargermanshepherdarizona.com/event/social-halloween-maze/
END:VEVENT
BEGIN:VEVENT
DTSTART;TZID=America/Denver:20251019T090000
DTEND;TZID=America/Denver:20251019T110000
DTSTAMP:20260421T192454
CREATED:20250923T231427Z
LAST-MODIFIED:20250923T231427Z
UID:10001263-1760864400-1760871600@vintargermanshepherdarizona.com
SUMMARY:CGC class @ Vintar
DESCRIPTION:dog training class working on skills to pass the AKC CGC\, CGCA and CGCU
URL:https://vintargermanshepherdarizona.com/event/cgc-class-vintar/
END:VEVENT
BEGIN:VEVENT
DTSTART;TZID=America/Denver:20251018T090000
DTEND;TZID=America/Denver:20251018T110000
DTSTAMP:20260421T192454
CREATED:20250923T225920Z
LAST-MODIFIED:20250923T225920Z
UID:10001258-1760778000-1760785200@vintargermanshepherdarizona.com
SUMMARY:Social Class
DESCRIPTION:Dog training helping desensitize dogs with the environment.
URL:https://vintargermanshepherdarizona.com/event/social-class-2/
END:VEVENT
BEGIN:VEVENT
DTSTART;TZID=America/Denver:20251012T090000
DTEND;TZID=America/Denver:20251012T110000
DTSTAMP:20260421T192454
CREATED:20250923T231105Z
LAST-MODIFIED:20250923T231105Z
UID:10001261-1760259600-1760266800@vintargermanshepherdarizona.com
SUMMARY:Training Class
DESCRIPTION:Dog training this is our more advanced class working on offleash skills\, agility\, rally\, fetch dog\, obedience and more..
URL:https://vintargermanshepherdarizona.com/event/training-class-10/2025-10-12/
END:VEVENT
BEGIN:VEVENT
DTSTART;TZID=America/Denver:20251011T090000
DTEND;TZID=America/Denver:20251011T110000
DTSTAMP:20260421T192454
CREATED:20250923T225327Z
LAST-MODIFIED:20250923T225327Z
UID:10001256-1760173200-1760180400@vintargermanshepherdarizona.com
SUMMARY:Social Class desensitizing prey
DESCRIPTION:Dog training that will include prey animals to help desensitize dogs reactions to seeing prey.
URL:https://vintargermanshepherdarizona.com/event/social-class-desensitizing-prey/
END:VEVENT
BEGIN:VEVENT
DTSTART;TZID=America/Denver:20251004T080000
DTEND;TZID=America/Denver:20251004T100000
DTSTAMP:20260421T192454
CREATED:20250923T224803Z
LAST-MODIFIED:20250923T224803Z
UID:10001257-1759564800-1759572000@vintargermanshepherdarizona.com
SUMMARY:Social Class
DESCRIPTION:Dog training working on desensitizing dogs to the environment.
URL:https://vintargermanshepherdarizona.com/event/social-class/
END:VEVENT
BEGIN:VEVENT
DTSTART;TZID=America/Denver:20250921T080000
DTEND;TZID=America/Denver:20250921T100000
DTSTAMP:20260421T192454
CREATED:20250715T161707Z
LAST-MODIFIED:20250715T161707Z
UID:10001250-1758441600-1758448800@vintargermanshepherdarizona.com
SUMMARY:Vintar German Shepherd Training Class
DESCRIPTION:Dogs learn advanced skills offleash
URL:https://vintargermanshepherdarizona.com/event/vintar-german-shepherd-training-class/2025-09-21/
END:VEVENT
BEGIN:VEVENT
DTSTART;TZID=America/Denver:20250914T090000
DTEND;TZID=America/Denver:20250914T100000
DTSTAMP:20260421T192454
CREATED:20250715T162659Z
LAST-MODIFIED:20250715T164205Z
UID:10001252-1757840400-1757844000@vintargermanshepherdarizona.com
SUMMARY:vintar german shepherd cgc class at kahoots
DESCRIPTION:dog training class learning basic skill\, basic obedience to pass akc cgc test\, akc cgcu and akc cgca.
URL:https://vintargermanshepherdarizona.com/event/vintar-german-shepherd-cgc-class-at-vintar/
END:VEVENT
BEGIN:VEVENT
DTSTART;TZID=America/Denver:20250907T080000
DTEND;TZID=America/Denver:20250907T100000
DTSTAMP:20260421T192454
CREATED:20250715T161707Z
LAST-MODIFIED:20250715T161707Z
UID:10001249-1757232000-1757239200@vintargermanshepherdarizona.com
SUMMARY:Vintar German Shepherd Training Class
DESCRIPTION:Dogs learn advanced skills offleash
URL:https://vintargermanshepherdarizona.com/event/vintar-german-shepherd-training-class/2025-09-07/
END:VEVENT
BEGIN:VEVENT
DTSTART;TZID=America/Denver:20250824T080000
DTEND;TZID=America/Denver:20250824T100000
DTSTAMP:20260421T192454
CREATED:20250715T161707Z
LAST-MODIFIED:20250715T161707Z
UID:10001248-1756022400-1756029600@vintargermanshepherdarizona.com
SUMMARY:Vintar German Shepherd Training Class
DESCRIPTION:Dogs learn advanced skills offleash
URL:https://vintargermanshepherdarizona.com/event/vintar-german-shepherd-training-class/2025-08-24/
END:VEVENT
BEGIN:VEVENT
DTSTART;TZID=America/Denver:20250817T080000
DTEND;TZID=America/Denver:20250817T100000
DTSTAMP:20260421T192454
CREATED:20250715T162156Z
LAST-MODIFIED:20250715T164017Z
UID:10001251-1755417600-1755424800@vintargermanshepherdarizona.com
SUMMARY:Vintar German Shepherd AKC CGC class at vintar
DESCRIPTION:Dog training class learning basic skills to pass akc cgc test on obedience social skills
URL:https://vintargermanshepherdarizona.com/event/vintar-german-shepherd-akc-cgc-class-at-kahoots/
END:VEVENT
BEGIN:VEVENT
DTSTART;TZID=America/Denver:20250810T080000
DTEND;TZID=America/Denver:20250810T100000
DTSTAMP:20260421T192455
CREATED:20250715T161707Z
LAST-MODIFIED:20250715T161707Z
UID:10001247-1754812800-1754820000@vintargermanshepherdarizona.com
SUMMARY:Vintar German Shepherd Training Class
DESCRIPTION:Dogs learn advanced skills offleash
URL:https://vintargermanshepherdarizona.com/event/vintar-german-shepherd-training-class/2025-08-10/
END:VEVENT
BEGIN:VEVENT
DTSTART;TZID=America/Denver:20250727T080000
DTEND;TZID=America/Denver:20250727T100000
DTSTAMP:20260421T192455
CREATED:20250715T163559Z
LAST-MODIFIED:20250715T163559Z
UID:10001254-1753603200-1753610400@vintargermanshepherdarizona.com
SUMMARY:vintar german shepherd training class
DESCRIPTION:dog training class focused on advanced offleash skills including akc fetch dog\, akc trick dog.
URL:https://vintargermanshepherdarizona.com/event/vintar-german-shepherd-training-class-2/
END:VEVENT
BEGIN:VEVENT
DTSTART;TZID=America/Denver:20250720T090000
DTEND;TZID=America/Denver:20250720T100000
DTSTAMP:20260421T192455
CREATED:20250715T163316Z
LAST-MODIFIED:20250715T163316Z
UID:10001253-1753002000-1753005600@vintargermanshepherdarizona.com
SUMMARY:vintar german shepherd  cgc at kahoots
DESCRIPTION:dog training class focused on learning skills to pass akc cgc\, akc cgca and akc cgcu test for basic obedience out in public skills.
URL:https://vintargermanshepherdarizona.com/event/vintar-german-shepherd-cgc-at-kahoots/
END:VEVENT
BEGIN:VEVENT
DTSTART;TZID=America/Denver:20250427T080000
DTEND;TZID=America/Denver:20250427T100000
DTSTAMP:20260421T192455
CREATED:20250329T005016Z
LAST-MODIFIED:20250329T005016Z
UID:10001243-1745740800-1745748000@vintargermanshepherdarizona.com
SUMMARY:Training Class
DESCRIPTION:Dogs learn more advanced off leash skills.
URL:https://vintargermanshepherdarizona.com/event/training-class-9/2025-04-27/
END:VEVENT
BEGIN:VEVENT
DTSTART;TZID=America/Denver:20250426T140000
DTEND;TZID=America/Denver:20250426T153000
DTSTAMP:20260421T192455
CREATED:20250331T004755Z
LAST-MODIFIED:20250331T004755Z
UID:10001246-1745676000-1745681400@vintargermanshepherdarizona.com
SUMMARY:Vintar Fitdog Hike
DESCRIPTION:Class learns social manners out in public walking out in the community.
URL:https://vintargermanshepherdarizona.com/event/vintar-fitdog-hike-2/
END:VEVENT
BEGIN:VEVENT
DTSTART;TZID=America/Denver:20250426T090000
DTEND;TZID=America/Denver:20250426T110000
DTSTAMP:20260421T192455
CREATED:20250329T004655Z
LAST-MODIFIED:20250923T224305Z
UID:10000686-1745658000-1745665200@vintargermanshepherdarizona.com
SUMMARY:Social Class 9am
DESCRIPTION:If weather permits\, this will be a desensitizing class for prey animals.
URL:https://vintargermanshepherdarizona.com/event/social-class-9am-2-2-2-3/
END:VEVENT
BEGIN:VEVENT
DTSTART;TZID=America/Denver:20250413T123000
DTEND;TZID=America/Denver:20250413T133000
DTSTAMP:20260421T192455
CREATED:20250331T004350Z
LAST-MODIFIED:20250331T004942Z
UID:10001245-1744547400-1744551000@vintargermanshepherdarizona.com
SUMMARY:Class lunch at macayos by Vintar
DESCRIPTION:dog training at a restaurant\, teaching social manners to pass the akc cgc\, cgca and cgcu.
URL:https://vintargermanshepherdarizona.com/event/class-lunch-at-macayos-by-vintar/
END:VEVENT
BEGIN:VEVENT
DTSTART;TZID=America/Denver:20250413T090000
DTEND;TZID=America/Denver:20250413T110000
DTSTAMP:20260421T192455
CREATED:20250329T005016Z
LAST-MODIFIED:20250329T005016Z
UID:10001242-1744534800-1744542000@vintargermanshepherdarizona.com
SUMMARY:Training Class
DESCRIPTION:Dogs learn more advanced off leash skills.
URL:https://vintargermanshepherdarizona.com/event/training-class-9/2025-04-13/
END:VEVENT
END:VCALENDAR