BEGIN:VCALENDAR
VERSION:2.0
PRODID:-//Vintar German Shepherd - ECPv6.15.20//NONSGML v1.0//EN
CALSCALE:GREGORIAN
METHOD:PUBLISH
X-WR-CALNAME:Vintar German Shepherd
X-ORIGINAL-URL:https://vintargermanshepherdarizona.com
X-WR-CALDESC:Events for Vintar German Shepherd
REFRESH-INTERVAL;VALUE=DURATION:PT1H
X-Robots-Tag:noindex
X-PUBLISHED-TTL:PT1H
BEGIN:VTIMEZONE
TZID:America/Denver
BEGIN:DAYLIGHT
TZOFFSETFROM:-0700
TZOFFSETTO:-0600
TZNAME:MDT
DTSTART:20290311T090000
END:DAYLIGHT
BEGIN:STANDARD
TZOFFSETFROM:-0600
TZOFFSETTO:-0700
TZNAME:MST
DTSTART:20291104T080000
END:STANDARD
BEGIN:DAYLIGHT
TZOFFSETFROM:-0700
TZOFFSETTO:-0600
TZNAME:MDT
DTSTART:20300310T090000
END:DAYLIGHT
BEGIN:STANDARD
TZOFFSETFROM:-0600
TZOFFSETTO:-0700
TZNAME:MST
DTSTART:20301103T080000
END:STANDARD
BEGIN:DAYLIGHT
TZOFFSETFROM:-0700
TZOFFSETTO:-0600
TZNAME:MDT
DTSTART:20310309T090000
END:DAYLIGHT
BEGIN:STANDARD
TZOFFSETFROM:-0600
TZOFFSETTO:-0700
TZNAME:MST
DTSTART:20311102T080000
END:STANDARD
BEGIN:DAYLIGHT
TZOFFSETFROM:-0700
TZOFFSETTO:-0600
TZNAME:MDT
DTSTART:20320314T090000
END:DAYLIGHT
BEGIN:STANDARD
TZOFFSETFROM:-0600
TZOFFSETTO:-0700
TZNAME:MST
DTSTART:20321107T080000
END:STANDARD
END:VTIMEZONE
BEGIN:VEVENT
DTSTART;TZID=America/Denver:20300817T090000
DTEND;TZID=America/Denver:20300817T110000
DTSTAMP:20260424T201022
CREATED:20260128T214214Z
LAST-MODIFIED:20260128T214214Z
UID:10001528-1913187600-1913194800@vintargermanshepherdarizona.com
SUMMARY:Social Class
DESCRIPTION:Dogs being exposed to different situations learning to be desensitized to the environment while learning basic obedience skills.
URL:https://vintargermanshepherdarizona.com/event/social-class-6/2030-08-17/
END:VEVENT
BEGIN:VEVENT
DTSTART;TZID=America/Denver:20300824T090000
DTEND;TZID=America/Denver:20300824T110000
DTSTAMP:20260424T201022
CREATED:20260128T214214Z
LAST-MODIFIED:20260128T214214Z
UID:10001529-1913792400-1913799600@vintargermanshepherdarizona.com
SUMMARY:Social Class
DESCRIPTION:Dogs being exposed to different situations learning to be desensitized to the environment while learning basic obedience skills.
URL:https://vintargermanshepherdarizona.com/event/social-class-6/2030-08-24/
END:VEVENT
BEGIN:VEVENT
DTSTART;TZID=America/Denver:20300831T090000
DTEND;TZID=America/Denver:20300831T110000
DTSTAMP:20260424T201022
CREATED:20260128T214214Z
LAST-MODIFIED:20260128T214214Z
UID:10001530-1914397200-1914404400@vintargermanshepherdarizona.com
SUMMARY:Social Class
DESCRIPTION:Dogs being exposed to different situations learning to be desensitized to the environment while learning basic obedience skills.
URL:https://vintargermanshepherdarizona.com/event/social-class-6/2030-08-31/
END:VEVENT
BEGIN:VEVENT
DTSTART;TZID=America/Denver:20300907T090000
DTEND;TZID=America/Denver:20300907T110000
DTSTAMP:20260424T201022
CREATED:20260128T214214Z
LAST-MODIFIED:20260128T214214Z
UID:10001531-1915002000-1915009200@vintargermanshepherdarizona.com
SUMMARY:Social Class
DESCRIPTION:Dogs being exposed to different situations learning to be desensitized to the environment while learning basic obedience skills.
URL:https://vintargermanshepherdarizona.com/event/social-class-6/2030-09-07/
END:VEVENT
BEGIN:VEVENT
DTSTART;TZID=America/Denver:20300914T090000
DTEND;TZID=America/Denver:20300914T110000
DTSTAMP:20260424T201022
CREATED:20260128T214214Z
LAST-MODIFIED:20260128T214214Z
UID:10001532-1915606800-1915614000@vintargermanshepherdarizona.com
SUMMARY:Social Class
DESCRIPTION:Dogs being exposed to different situations learning to be desensitized to the environment while learning basic obedience skills.
URL:https://vintargermanshepherdarizona.com/event/social-class-6/2030-09-14/
END:VEVENT
BEGIN:VEVENT
DTSTART;TZID=America/Denver:20300921T090000
DTEND;TZID=America/Denver:20300921T110000
DTSTAMP:20260424T201022
CREATED:20260128T214214Z
LAST-MODIFIED:20260128T214214Z
UID:10001533-1916211600-1916218800@vintargermanshepherdarizona.com
SUMMARY:Social Class
DESCRIPTION:Dogs being exposed to different situations learning to be desensitized to the environment while learning basic obedience skills.
URL:https://vintargermanshepherdarizona.com/event/social-class-6/2030-09-21/
END:VEVENT
BEGIN:VEVENT
DTSTART;TZID=America/Denver:20300928T090000
DTEND;TZID=America/Denver:20300928T110000
DTSTAMP:20260424T201022
CREATED:20260128T214214Z
LAST-MODIFIED:20260128T214214Z
UID:10001534-1916816400-1916823600@vintargermanshepherdarizona.com
SUMMARY:Social Class
DESCRIPTION:Dogs being exposed to different situations learning to be desensitized to the environment while learning basic obedience skills.
URL:https://vintargermanshepherdarizona.com/event/social-class-6/2030-09-28/
END:VEVENT
BEGIN:VEVENT
DTSTART;TZID=America/Denver:20301005T090000
DTEND;TZID=America/Denver:20301005T110000
DTSTAMP:20260424T201022
CREATED:20260128T214214Z
LAST-MODIFIED:20260128T214214Z
UID:10001535-1917421200-1917428400@vintargermanshepherdarizona.com
SUMMARY:Social Class
DESCRIPTION:Dogs being exposed to different situations learning to be desensitized to the environment while learning basic obedience skills.
URL:https://vintargermanshepherdarizona.com/event/social-class-6/2030-10-05/
END:VEVENT
BEGIN:VEVENT
DTSTART;TZID=America/Denver:20301012T090000
DTEND;TZID=America/Denver:20301012T110000
DTSTAMP:20260424T201022
CREATED:20260128T214214Z
LAST-MODIFIED:20260128T214214Z
UID:10001536-1918026000-1918033200@vintargermanshepherdarizona.com
SUMMARY:Social Class
DESCRIPTION:Dogs being exposed to different situations learning to be desensitized to the environment while learning basic obedience skills.
URL:https://vintargermanshepherdarizona.com/event/social-class-6/2030-10-12/
END:VEVENT
BEGIN:VEVENT
DTSTART;TZID=America/Denver:20301019T090000
DTEND;TZID=America/Denver:20301019T110000
DTSTAMP:20260424T201022
CREATED:20260128T214214Z
LAST-MODIFIED:20260128T214214Z
UID:10001537-1918630800-1918638000@vintargermanshepherdarizona.com
SUMMARY:Social Class
DESCRIPTION:Dogs being exposed to different situations learning to be desensitized to the environment while learning basic obedience skills.
URL:https://vintargermanshepherdarizona.com/event/social-class-6/2030-10-19/
END:VEVENT
BEGIN:VEVENT
DTSTART;TZID=America/Denver:20301026T090000
DTEND;TZID=America/Denver:20301026T110000
DTSTAMP:20260424T201022
CREATED:20260128T214214Z
LAST-MODIFIED:20260128T214214Z
UID:10001538-1919235600-1919242800@vintargermanshepherdarizona.com
SUMMARY:Social Class
DESCRIPTION:Dogs being exposed to different situations learning to be desensitized to the environment while learning basic obedience skills.
URL:https://vintargermanshepherdarizona.com/event/social-class-6/2030-10-26/
END:VEVENT
BEGIN:VEVENT
DTSTART;TZID=America/Denver:20301102T090000
DTEND;TZID=America/Denver:20301102T110000
DTSTAMP:20260424T201022
CREATED:20260128T214214Z
LAST-MODIFIED:20260128T214214Z
UID:10001539-1919840400-1919847600@vintargermanshepherdarizona.com
SUMMARY:Social Class
DESCRIPTION:Dogs being exposed to different situations learning to be desensitized to the environment while learning basic obedience skills.
URL:https://vintargermanshepherdarizona.com/event/social-class-6/2030-11-02/
END:VEVENT
BEGIN:VEVENT
DTSTART;TZID=America/Denver:20301109T090000
DTEND;TZID=America/Denver:20301109T110000
DTSTAMP:20260424T201022
CREATED:20260128T214214Z
LAST-MODIFIED:20260128T214214Z
UID:10001540-1920445200-1920452400@vintargermanshepherdarizona.com
SUMMARY:Social Class
DESCRIPTION:Dogs being exposed to different situations learning to be desensitized to the environment while learning basic obedience skills.
URL:https://vintargermanshepherdarizona.com/event/social-class-6/2030-11-09/
END:VEVENT
BEGIN:VEVENT
DTSTART;TZID=America/Denver:20301116T090000
DTEND;TZID=America/Denver:20301116T110000
DTSTAMP:20260424T201022
CREATED:20260128T214214Z
LAST-MODIFIED:20260128T214214Z
UID:10001541-1921050000-1921057200@vintargermanshepherdarizona.com
SUMMARY:Social Class
DESCRIPTION:Dogs being exposed to different situations learning to be desensitized to the environment while learning basic obedience skills.
URL:https://vintargermanshepherdarizona.com/event/social-class-6/2030-11-16/
END:VEVENT
BEGIN:VEVENT
DTSTART;TZID=America/Denver:20301123T090000
DTEND;TZID=America/Denver:20301123T110000
DTSTAMP:20260424T201022
CREATED:20260128T214214Z
LAST-MODIFIED:20260128T214214Z
UID:10001542-1921654800-1921662000@vintargermanshepherdarizona.com
SUMMARY:Social Class
DESCRIPTION:Dogs being exposed to different situations learning to be desensitized to the environment while learning basic obedience skills.
URL:https://vintargermanshepherdarizona.com/event/social-class-6/2030-11-23/
END:VEVENT
BEGIN:VEVENT
DTSTART;TZID=America/Denver:20301130T090000
DTEND;TZID=America/Denver:20301130T110000
DTSTAMP:20260424T201022
CREATED:20260128T214214Z
LAST-MODIFIED:20260128T214214Z
UID:10001543-1922259600-1922266800@vintargermanshepherdarizona.com
SUMMARY:Social Class
DESCRIPTION:Dogs being exposed to different situations learning to be desensitized to the environment while learning basic obedience skills.
URL:https://vintargermanshepherdarizona.com/event/social-class-6/2030-11-30/
END:VEVENT
BEGIN:VEVENT
DTSTART;TZID=America/Denver:20301207T090000
DTEND;TZID=America/Denver:20301207T110000
DTSTAMP:20260424T201022
CREATED:20260128T214214Z
LAST-MODIFIED:20260128T214214Z
UID:10001544-1922864400-1922871600@vintargermanshepherdarizona.com
SUMMARY:Social Class
DESCRIPTION:Dogs being exposed to different situations learning to be desensitized to the environment while learning basic obedience skills.
URL:https://vintargermanshepherdarizona.com/event/social-class-6/2030-12-07/
END:VEVENT
BEGIN:VEVENT
DTSTART;TZID=America/Denver:20301214T090000
DTEND;TZID=America/Denver:20301214T110000
DTSTAMP:20260424T201022
CREATED:20260128T214214Z
LAST-MODIFIED:20260128T214214Z
UID:10001545-1923469200-1923476400@vintargermanshepherdarizona.com
SUMMARY:Social Class
DESCRIPTION:Dogs being exposed to different situations learning to be desensitized to the environment while learning basic obedience skills.
URL:https://vintargermanshepherdarizona.com/event/social-class-6/2030-12-14/
END:VEVENT
BEGIN:VEVENT
DTSTART;TZID=America/Denver:20301221T090000
DTEND;TZID=America/Denver:20301221T110000
DTSTAMP:20260424T201022
CREATED:20260128T214214Z
LAST-MODIFIED:20260128T214214Z
UID:10001546-1924074000-1924081200@vintargermanshepherdarizona.com
SUMMARY:Social Class
DESCRIPTION:Dogs being exposed to different situations learning to be desensitized to the environment while learning basic obedience skills.
URL:https://vintargermanshepherdarizona.com/event/social-class-6/2030-12-21/
END:VEVENT
BEGIN:VEVENT
DTSTART;TZID=America/Denver:20301228T090000
DTEND;TZID=America/Denver:20301228T110000
DTSTAMP:20260424T201022
CREATED:20260128T214214Z
LAST-MODIFIED:20260128T214214Z
UID:10001547-1924678800-1924686000@vintargermanshepherdarizona.com
SUMMARY:Social Class
DESCRIPTION:Dogs being exposed to different situations learning to be desensitized to the environment while learning basic obedience skills.
URL:https://vintargermanshepherdarizona.com/event/social-class-6/2030-12-28/
END:VEVENT
BEGIN:VEVENT
DTSTART;TZID=America/Denver:20310104T090000
DTEND;TZID=America/Denver:20310104T110000
DTSTAMP:20260424T201022
CREATED:20260128T214214Z
LAST-MODIFIED:20260128T214214Z
UID:10001548-1925283600-1925290800@vintargermanshepherdarizona.com
SUMMARY:Social Class
DESCRIPTION:Dogs being exposed to different situations learning to be desensitized to the environment while learning basic obedience skills.
URL:https://vintargermanshepherdarizona.com/event/social-class-6/2031-01-04/
END:VEVENT
BEGIN:VEVENT
DTSTART;TZID=America/Denver:20310111T090000
DTEND;TZID=America/Denver:20310111T110000
DTSTAMP:20260424T201022
CREATED:20260128T214214Z
LAST-MODIFIED:20260128T214214Z
UID:10001549-1925888400-1925895600@vintargermanshepherdarizona.com
SUMMARY:Social Class
DESCRIPTION:Dogs being exposed to different situations learning to be desensitized to the environment while learning basic obedience skills.
URL:https://vintargermanshepherdarizona.com/event/social-class-6/2031-01-11/
END:VEVENT
BEGIN:VEVENT
DTSTART;TZID=America/Denver:20310118T090000
DTEND;TZID=America/Denver:20310118T110000
DTSTAMP:20260424T201022
CREATED:20260128T214214Z
LAST-MODIFIED:20260128T214214Z
UID:10001550-1926493200-1926500400@vintargermanshepherdarizona.com
SUMMARY:Social Class
DESCRIPTION:Dogs being exposed to different situations learning to be desensitized to the environment while learning basic obedience skills.
URL:https://vintargermanshepherdarizona.com/event/social-class-6/2031-01-18/
END:VEVENT
BEGIN:VEVENT
DTSTART;TZID=America/Denver:20310125T090000
DTEND;TZID=America/Denver:20310125T110000
DTSTAMP:20260424T201022
CREATED:20260128T214214Z
LAST-MODIFIED:20260128T214214Z
UID:10001551-1927098000-1927105200@vintargermanshepherdarizona.com
SUMMARY:Social Class
DESCRIPTION:Dogs being exposed to different situations learning to be desensitized to the environment while learning basic obedience skills.
URL:https://vintargermanshepherdarizona.com/event/social-class-6/2031-01-25/
END:VEVENT
END:VCALENDAR