BEGIN:VCALENDAR
VERSION:2.0
PRODID:-//Vintar German Shepherd - ECPv6.15.20//NONSGML v1.0//EN
CALSCALE:GREGORIAN
METHOD:PUBLISH
X-ORIGINAL-URL:https://vintargermanshepherdarizona.com
X-WR-CALDESC:Events for Vintar German Shepherd
REFRESH-INTERVAL;VALUE=DURATION:PT1H
X-Robots-Tag:noindex
X-PUBLISHED-TTL:PT1H
BEGIN:VTIMEZONE
TZID:America/Denver
BEGIN:DAYLIGHT
TZOFFSETFROM:-0700
TZOFFSETTO:-0600
TZNAME:MDT
DTSTART:20280312T090000
END:DAYLIGHT
BEGIN:STANDARD
TZOFFSETFROM:-0600
TZOFFSETTO:-0700
TZNAME:MST
DTSTART:20281105T080000
END:STANDARD
BEGIN:DAYLIGHT
TZOFFSETFROM:-0700
TZOFFSETTO:-0600
TZNAME:MDT
DTSTART:20290311T090000
END:DAYLIGHT
BEGIN:STANDARD
TZOFFSETFROM:-0600
TZOFFSETTO:-0700
TZNAME:MST
DTSTART:20291104T080000
END:STANDARD
BEGIN:DAYLIGHT
TZOFFSETFROM:-0700
TZOFFSETTO:-0600
TZNAME:MDT
DTSTART:20300310T090000
END:DAYLIGHT
BEGIN:STANDARD
TZOFFSETFROM:-0600
TZOFFSETTO:-0700
TZNAME:MST
DTSTART:20301103T080000
END:STANDARD
BEGIN:DAYLIGHT
TZOFFSETFROM:-0700
TZOFFSETTO:-0600
TZNAME:MDT
DTSTART:20310309T090000
END:DAYLIGHT
BEGIN:STANDARD
TZOFFSETFROM:-0600
TZOFFSETTO:-0700
TZNAME:MST
DTSTART:20311102T080000
END:STANDARD
END:VTIMEZONE
BEGIN:VEVENT
DTSTART;TZID=America/Denver:20291222T090000
DTEND;TZID=America/Denver:20291222T110000
DTSTAMP:20260422T172618
CREATED:20260128T214214Z
LAST-MODIFIED:20260128T214214Z
UID:10001494-1892624400-1892631600@vintargermanshepherdarizona.com
SUMMARY:Social Class
DESCRIPTION:Dogs being exposed to different situations learning to be desensitized to the environment while learning basic obedience skills.
URL:https://vintargermanshepherdarizona.com/event/social-class-6/2029-12-22/
END:VEVENT
BEGIN:VEVENT
DTSTART;TZID=America/Denver:20291229T090000
DTEND;TZID=America/Denver:20291229T110000
DTSTAMP:20260422T172618
CREATED:20260128T214214Z
LAST-MODIFIED:20260128T214214Z
UID:10001495-1893229200-1893236400@vintargermanshepherdarizona.com
SUMMARY:Social Class
DESCRIPTION:Dogs being exposed to different situations learning to be desensitized to the environment while learning basic obedience skills.
URL:https://vintargermanshepherdarizona.com/event/social-class-6/2029-12-29/
END:VEVENT
BEGIN:VEVENT
DTSTART;TZID=America/Denver:20300105T090000
DTEND;TZID=America/Denver:20300105T110000
DTSTAMP:20260422T172618
CREATED:20260128T214214Z
LAST-MODIFIED:20260128T214214Z
UID:10001496-1893834000-1893841200@vintargermanshepherdarizona.com
SUMMARY:Social Class
DESCRIPTION:Dogs being exposed to different situations learning to be desensitized to the environment while learning basic obedience skills.
URL:https://vintargermanshepherdarizona.com/event/social-class-6/2030-01-05/
END:VEVENT
BEGIN:VEVENT
DTSTART;TZID=America/Denver:20300112T090000
DTEND;TZID=America/Denver:20300112T110000
DTSTAMP:20260422T172618
CREATED:20260128T214214Z
LAST-MODIFIED:20260128T214214Z
UID:10001497-1894438800-1894446000@vintargermanshepherdarizona.com
SUMMARY:Social Class
DESCRIPTION:Dogs being exposed to different situations learning to be desensitized to the environment while learning basic obedience skills.
URL:https://vintargermanshepherdarizona.com/event/social-class-6/2030-01-12/
END:VEVENT
BEGIN:VEVENT
DTSTART;TZID=America/Denver:20300119T090000
DTEND;TZID=America/Denver:20300119T110000
DTSTAMP:20260422T172618
CREATED:20260128T214214Z
LAST-MODIFIED:20260128T214214Z
UID:10001498-1895043600-1895050800@vintargermanshepherdarizona.com
SUMMARY:Social Class
DESCRIPTION:Dogs being exposed to different situations learning to be desensitized to the environment while learning basic obedience skills.
URL:https://vintargermanshepherdarizona.com/event/social-class-6/2030-01-19/
END:VEVENT
BEGIN:VEVENT
DTSTART;TZID=America/Denver:20300126T090000
DTEND;TZID=America/Denver:20300126T110000
DTSTAMP:20260422T172618
CREATED:20260128T214214Z
LAST-MODIFIED:20260128T214214Z
UID:10001499-1895648400-1895655600@vintargermanshepherdarizona.com
SUMMARY:Social Class
DESCRIPTION:Dogs being exposed to different situations learning to be desensitized to the environment while learning basic obedience skills.
URL:https://vintargermanshepherdarizona.com/event/social-class-6/2030-01-26/
END:VEVENT
BEGIN:VEVENT
DTSTART;TZID=America/Denver:20300202T090000
DTEND;TZID=America/Denver:20300202T110000
DTSTAMP:20260422T172618
CREATED:20260128T214214Z
LAST-MODIFIED:20260128T214214Z
UID:10001500-1896253200-1896260400@vintargermanshepherdarizona.com
SUMMARY:Social Class
DESCRIPTION:Dogs being exposed to different situations learning to be desensitized to the environment while learning basic obedience skills.
URL:https://vintargermanshepherdarizona.com/event/social-class-6/2030-02-02/
END:VEVENT
BEGIN:VEVENT
DTSTART;TZID=America/Denver:20300209T090000
DTEND;TZID=America/Denver:20300209T110000
DTSTAMP:20260422T172618
CREATED:20260128T214214Z
LAST-MODIFIED:20260128T214214Z
UID:10001501-1896858000-1896865200@vintargermanshepherdarizona.com
SUMMARY:Social Class
DESCRIPTION:Dogs being exposed to different situations learning to be desensitized to the environment while learning basic obedience skills.
URL:https://vintargermanshepherdarizona.com/event/social-class-6/2030-02-09/
END:VEVENT
BEGIN:VEVENT
DTSTART;TZID=America/Denver:20300216T090000
DTEND;TZID=America/Denver:20300216T110000
DTSTAMP:20260422T172618
CREATED:20260128T214214Z
LAST-MODIFIED:20260128T214214Z
UID:10001502-1897462800-1897470000@vintargermanshepherdarizona.com
SUMMARY:Social Class
DESCRIPTION:Dogs being exposed to different situations learning to be desensitized to the environment while learning basic obedience skills.
URL:https://vintargermanshepherdarizona.com/event/social-class-6/2030-02-16/
END:VEVENT
BEGIN:VEVENT
DTSTART;TZID=America/Denver:20300223T090000
DTEND;TZID=America/Denver:20300223T110000
DTSTAMP:20260422T172618
CREATED:20260128T214214Z
LAST-MODIFIED:20260128T214214Z
UID:10001503-1898067600-1898074800@vintargermanshepherdarizona.com
SUMMARY:Social Class
DESCRIPTION:Dogs being exposed to different situations learning to be desensitized to the environment while learning basic obedience skills.
URL:https://vintargermanshepherdarizona.com/event/social-class-6/2030-02-23/
END:VEVENT
BEGIN:VEVENT
DTSTART;TZID=America/Denver:20300302T090000
DTEND;TZID=America/Denver:20300302T110000
DTSTAMP:20260422T172618
CREATED:20260128T214214Z
LAST-MODIFIED:20260128T214214Z
UID:10001504-1898672400-1898679600@vintargermanshepherdarizona.com
SUMMARY:Social Class
DESCRIPTION:Dogs being exposed to different situations learning to be desensitized to the environment while learning basic obedience skills.
URL:https://vintargermanshepherdarizona.com/event/social-class-6/2030-03-02/
END:VEVENT
BEGIN:VEVENT
DTSTART;TZID=America/Denver:20300309T090000
DTEND;TZID=America/Denver:20300309T110000
DTSTAMP:20260422T172618
CREATED:20260128T214214Z
LAST-MODIFIED:20260128T214214Z
UID:10001505-1899277200-1899284400@vintargermanshepherdarizona.com
SUMMARY:Social Class
DESCRIPTION:Dogs being exposed to different situations learning to be desensitized to the environment while learning basic obedience skills.
URL:https://vintargermanshepherdarizona.com/event/social-class-6/2030-03-09/
END:VEVENT
BEGIN:VEVENT
DTSTART;TZID=America/Denver:20300316T090000
DTEND;TZID=America/Denver:20300316T110000
DTSTAMP:20260422T172618
CREATED:20260128T214214Z
LAST-MODIFIED:20260128T214214Z
UID:10001506-1899882000-1899889200@vintargermanshepherdarizona.com
SUMMARY:Social Class
DESCRIPTION:Dogs being exposed to different situations learning to be desensitized to the environment while learning basic obedience skills.
URL:https://vintargermanshepherdarizona.com/event/social-class-6/2030-03-16/
END:VEVENT
BEGIN:VEVENT
DTSTART;TZID=America/Denver:20300323T090000
DTEND;TZID=America/Denver:20300323T110000
DTSTAMP:20260422T172618
CREATED:20260128T214214Z
LAST-MODIFIED:20260128T214214Z
UID:10001507-1900486800-1900494000@vintargermanshepherdarizona.com
SUMMARY:Social Class
DESCRIPTION:Dogs being exposed to different situations learning to be desensitized to the environment while learning basic obedience skills.
URL:https://vintargermanshepherdarizona.com/event/social-class-6/2030-03-23/
END:VEVENT
BEGIN:VEVENT
DTSTART;TZID=America/Denver:20300330T090000
DTEND;TZID=America/Denver:20300330T110000
DTSTAMP:20260422T172618
CREATED:20260128T214214Z
LAST-MODIFIED:20260128T214214Z
UID:10001508-1901091600-1901098800@vintargermanshepherdarizona.com
SUMMARY:Social Class
DESCRIPTION:Dogs being exposed to different situations learning to be desensitized to the environment while learning basic obedience skills.
URL:https://vintargermanshepherdarizona.com/event/social-class-6/2030-03-30/
END:VEVENT
BEGIN:VEVENT
DTSTART;TZID=America/Denver:20300406T090000
DTEND;TZID=America/Denver:20300406T110000
DTSTAMP:20260422T172618
CREATED:20260128T214214Z
LAST-MODIFIED:20260128T214214Z
UID:10001509-1901696400-1901703600@vintargermanshepherdarizona.com
SUMMARY:Social Class
DESCRIPTION:Dogs being exposed to different situations learning to be desensitized to the environment while learning basic obedience skills.
URL:https://vintargermanshepherdarizona.com/event/social-class-6/2030-04-06/
END:VEVENT
BEGIN:VEVENT
DTSTART;TZID=America/Denver:20300413T090000
DTEND;TZID=America/Denver:20300413T110000
DTSTAMP:20260422T172618
CREATED:20260128T214214Z
LAST-MODIFIED:20260128T214214Z
UID:10001510-1902301200-1902308400@vintargermanshepherdarizona.com
SUMMARY:Social Class
DESCRIPTION:Dogs being exposed to different situations learning to be desensitized to the environment while learning basic obedience skills.
URL:https://vintargermanshepherdarizona.com/event/social-class-6/2030-04-13/
END:VEVENT
BEGIN:VEVENT
DTSTART;TZID=America/Denver:20300420T090000
DTEND;TZID=America/Denver:20300420T110000
DTSTAMP:20260422T172618
CREATED:20260128T214214Z
LAST-MODIFIED:20260128T214214Z
UID:10001511-1902906000-1902913200@vintargermanshepherdarizona.com
SUMMARY:Social Class
DESCRIPTION:Dogs being exposed to different situations learning to be desensitized to the environment while learning basic obedience skills.
URL:https://vintargermanshepherdarizona.com/event/social-class-6/2030-04-20/
END:VEVENT
BEGIN:VEVENT
DTSTART;TZID=America/Denver:20300427T090000
DTEND;TZID=America/Denver:20300427T110000
DTSTAMP:20260422T172618
CREATED:20260128T214214Z
LAST-MODIFIED:20260128T214214Z
UID:10001512-1903510800-1903518000@vintargermanshepherdarizona.com
SUMMARY:Social Class
DESCRIPTION:Dogs being exposed to different situations learning to be desensitized to the environment while learning basic obedience skills.
URL:https://vintargermanshepherdarizona.com/event/social-class-6/2030-04-27/
END:VEVENT
BEGIN:VEVENT
DTSTART;TZID=America/Denver:20300504T090000
DTEND;TZID=America/Denver:20300504T110000
DTSTAMP:20260422T172618
CREATED:20260128T214214Z
LAST-MODIFIED:20260128T214214Z
UID:10001513-1904115600-1904122800@vintargermanshepherdarizona.com
SUMMARY:Social Class
DESCRIPTION:Dogs being exposed to different situations learning to be desensitized to the environment while learning basic obedience skills.
URL:https://vintargermanshepherdarizona.com/event/social-class-6/2030-05-04/
END:VEVENT
BEGIN:VEVENT
DTSTART;TZID=America/Denver:20300511T090000
DTEND;TZID=America/Denver:20300511T110000
DTSTAMP:20260422T172618
CREATED:20260128T214214Z
LAST-MODIFIED:20260128T214214Z
UID:10001514-1904720400-1904727600@vintargermanshepherdarizona.com
SUMMARY:Social Class
DESCRIPTION:Dogs being exposed to different situations learning to be desensitized to the environment while learning basic obedience skills.
URL:https://vintargermanshepherdarizona.com/event/social-class-6/2030-05-11/
END:VEVENT
BEGIN:VEVENT
DTSTART;TZID=America/Denver:20300518T090000
DTEND;TZID=America/Denver:20300518T110000
DTSTAMP:20260422T172618
CREATED:20260128T214214Z
LAST-MODIFIED:20260128T214214Z
UID:10001515-1905325200-1905332400@vintargermanshepherdarizona.com
SUMMARY:Social Class
DESCRIPTION:Dogs being exposed to different situations learning to be desensitized to the environment while learning basic obedience skills.
URL:https://vintargermanshepherdarizona.com/event/social-class-6/2030-05-18/
END:VEVENT
BEGIN:VEVENT
DTSTART;TZID=America/Denver:20300525T090000
DTEND;TZID=America/Denver:20300525T110000
DTSTAMP:20260422T172618
CREATED:20260128T214214Z
LAST-MODIFIED:20260128T214214Z
UID:10001516-1905930000-1905937200@vintargermanshepherdarizona.com
SUMMARY:Social Class
DESCRIPTION:Dogs being exposed to different situations learning to be desensitized to the environment while learning basic obedience skills.
URL:https://vintargermanshepherdarizona.com/event/social-class-6/2030-05-25/
END:VEVENT
BEGIN:VEVENT
DTSTART;TZID=America/Denver:20300601T090000
DTEND;TZID=America/Denver:20300601T110000
DTSTAMP:20260422T172618
CREATED:20260128T214214Z
LAST-MODIFIED:20260128T214214Z
UID:10001517-1906534800-1906542000@vintargermanshepherdarizona.com
SUMMARY:Social Class
DESCRIPTION:Dogs being exposed to different situations learning to be desensitized to the environment while learning basic obedience skills.
URL:https://vintargermanshepherdarizona.com/event/social-class-6/2030-06-01/
END:VEVENT
BEGIN:VEVENT
DTSTART;TZID=America/Denver:20300608T090000
DTEND;TZID=America/Denver:20300608T110000
DTSTAMP:20260422T172618
CREATED:20260128T214214Z
LAST-MODIFIED:20260128T214214Z
UID:10001518-1907139600-1907146800@vintargermanshepherdarizona.com
SUMMARY:Social Class
DESCRIPTION:Dogs being exposed to different situations learning to be desensitized to the environment while learning basic obedience skills.
URL:https://vintargermanshepherdarizona.com/event/social-class-6/2030-06-08/
END:VEVENT
BEGIN:VEVENT
DTSTART;TZID=America/Denver:20300615T090000
DTEND;TZID=America/Denver:20300615T110000
DTSTAMP:20260422T172618
CREATED:20260128T214214Z
LAST-MODIFIED:20260128T214214Z
UID:10001519-1907744400-1907751600@vintargermanshepherdarizona.com
SUMMARY:Social Class
DESCRIPTION:Dogs being exposed to different situations learning to be desensitized to the environment while learning basic obedience skills.
URL:https://vintargermanshepherdarizona.com/event/social-class-6/2030-06-15/
END:VEVENT
BEGIN:VEVENT
DTSTART;TZID=America/Denver:20300622T090000
DTEND;TZID=America/Denver:20300622T110000
DTSTAMP:20260422T172618
CREATED:20260128T214214Z
LAST-MODIFIED:20260128T214214Z
UID:10001520-1908349200-1908356400@vintargermanshepherdarizona.com
SUMMARY:Social Class
DESCRIPTION:Dogs being exposed to different situations learning to be desensitized to the environment while learning basic obedience skills.
URL:https://vintargermanshepherdarizona.com/event/social-class-6/2030-06-22/
END:VEVENT
BEGIN:VEVENT
DTSTART;TZID=America/Denver:20300629T090000
DTEND;TZID=America/Denver:20300629T110000
DTSTAMP:20260422T172618
CREATED:20260128T214214Z
LAST-MODIFIED:20260128T214214Z
UID:10001521-1908954000-1908961200@vintargermanshepherdarizona.com
SUMMARY:Social Class
DESCRIPTION:Dogs being exposed to different situations learning to be desensitized to the environment while learning basic obedience skills.
URL:https://vintargermanshepherdarizona.com/event/social-class-6/2030-06-29/
END:VEVENT
BEGIN:VEVENT
DTSTART;TZID=America/Denver:20300706T090000
DTEND;TZID=America/Denver:20300706T110000
DTSTAMP:20260422T172618
CREATED:20260128T214214Z
LAST-MODIFIED:20260128T214214Z
UID:10001522-1909558800-1909566000@vintargermanshepherdarizona.com
SUMMARY:Social Class
DESCRIPTION:Dogs being exposed to different situations learning to be desensitized to the environment while learning basic obedience skills.
URL:https://vintargermanshepherdarizona.com/event/social-class-6/2030-07-06/
END:VEVENT
BEGIN:VEVENT
DTSTART;TZID=America/Denver:20300713T090000
DTEND;TZID=America/Denver:20300713T110000
DTSTAMP:20260422T172618
CREATED:20260128T214214Z
LAST-MODIFIED:20260128T214214Z
UID:10001523-1910163600-1910170800@vintargermanshepherdarizona.com
SUMMARY:Social Class
DESCRIPTION:Dogs being exposed to different situations learning to be desensitized to the environment while learning basic obedience skills.
URL:https://vintargermanshepherdarizona.com/event/social-class-6/2030-07-13/
END:VEVENT
END:VCALENDAR