BEGIN:VCALENDAR
VERSION:2.0
PRODID:-//Vintar German Shepherd - ECPv6.15.20//NONSGML v1.0//EN
CALSCALE:GREGORIAN
METHOD:PUBLISH
X-ORIGINAL-URL:https://vintargermanshepherdarizona.com
X-WR-CALDESC:Events for Vintar German Shepherd
REFRESH-INTERVAL;VALUE=DURATION:PT1H
X-Robots-Tag:noindex
X-PUBLISHED-TTL:PT1H
BEGIN:VTIMEZONE
TZID:America/Denver
BEGIN:DAYLIGHT
TZOFFSETFROM:-0700
TZOFFSETTO:-0600
TZNAME:MDT
DTSTART:20280312T090000
END:DAYLIGHT
BEGIN:STANDARD
TZOFFSETFROM:-0600
TZOFFSETTO:-0700
TZNAME:MST
DTSTART:20281105T080000
END:STANDARD
BEGIN:DAYLIGHT
TZOFFSETFROM:-0700
TZOFFSETTO:-0600
TZNAME:MDT
DTSTART:20290311T090000
END:DAYLIGHT
BEGIN:STANDARD
TZOFFSETFROM:-0600
TZOFFSETTO:-0700
TZNAME:MST
DTSTART:20291104T080000
END:STANDARD
BEGIN:DAYLIGHT
TZOFFSETFROM:-0700
TZOFFSETTO:-0600
TZNAME:MDT
DTSTART:20300310T090000
END:DAYLIGHT
BEGIN:STANDARD
TZOFFSETFROM:-0600
TZOFFSETTO:-0700
TZNAME:MST
DTSTART:20301103T080000
END:STANDARD
END:VTIMEZONE
BEGIN:VEVENT
DTSTART;TZID=America/Denver:20290609T090000
DTEND;TZID=America/Denver:20290609T110000
DTSTAMP:20260422T164458
CREATED:20260128T214214Z
LAST-MODIFIED:20260128T214214Z
UID:10001466-1875690000-1875697200@vintargermanshepherdarizona.com
SUMMARY:Social Class
DESCRIPTION:Dogs being exposed to different situations learning to be desensitized to the environment while learning basic obedience skills.
URL:https://vintargermanshepherdarizona.com/event/social-class-6/2029-06-09/
END:VEVENT
BEGIN:VEVENT
DTSTART;TZID=America/Denver:20290616T090000
DTEND;TZID=America/Denver:20290616T110000
DTSTAMP:20260422T164458
CREATED:20260128T214214Z
LAST-MODIFIED:20260128T214214Z
UID:10001467-1876294800-1876302000@vintargermanshepherdarizona.com
SUMMARY:Social Class
DESCRIPTION:Dogs being exposed to different situations learning to be desensitized to the environment while learning basic obedience skills.
URL:https://vintargermanshepherdarizona.com/event/social-class-6/2029-06-16/
END:VEVENT
BEGIN:VEVENT
DTSTART;TZID=America/Denver:20290623T090000
DTEND;TZID=America/Denver:20290623T110000
DTSTAMP:20260422T164458
CREATED:20260128T214214Z
LAST-MODIFIED:20260128T214214Z
UID:10001468-1876899600-1876906800@vintargermanshepherdarizona.com
SUMMARY:Social Class
DESCRIPTION:Dogs being exposed to different situations learning to be desensitized to the environment while learning basic obedience skills.
URL:https://vintargermanshepherdarizona.com/event/social-class-6/2029-06-23/
END:VEVENT
BEGIN:VEVENT
DTSTART;TZID=America/Denver:20290630T090000
DTEND;TZID=America/Denver:20290630T110000
DTSTAMP:20260422T164458
CREATED:20260128T214214Z
LAST-MODIFIED:20260128T214214Z
UID:10001469-1877504400-1877511600@vintargermanshepherdarizona.com
SUMMARY:Social Class
DESCRIPTION:Dogs being exposed to different situations learning to be desensitized to the environment while learning basic obedience skills.
URL:https://vintargermanshepherdarizona.com/event/social-class-6/2029-06-30/
END:VEVENT
BEGIN:VEVENT
DTSTART;TZID=America/Denver:20290707T090000
DTEND;TZID=America/Denver:20290707T110000
DTSTAMP:20260422T164458
CREATED:20260128T214214Z
LAST-MODIFIED:20260128T214214Z
UID:10001470-1878109200-1878116400@vintargermanshepherdarizona.com
SUMMARY:Social Class
DESCRIPTION:Dogs being exposed to different situations learning to be desensitized to the environment while learning basic obedience skills.
URL:https://vintargermanshepherdarizona.com/event/social-class-6/2029-07-07/
END:VEVENT
BEGIN:VEVENT
DTSTART;TZID=America/Denver:20290714T090000
DTEND;TZID=America/Denver:20290714T110000
DTSTAMP:20260422T164458
CREATED:20260128T214214Z
LAST-MODIFIED:20260128T214214Z
UID:10001471-1878714000-1878721200@vintargermanshepherdarizona.com
SUMMARY:Social Class
DESCRIPTION:Dogs being exposed to different situations learning to be desensitized to the environment while learning basic obedience skills.
URL:https://vintargermanshepherdarizona.com/event/social-class-6/2029-07-14/
END:VEVENT
BEGIN:VEVENT
DTSTART;TZID=America/Denver:20290721T090000
DTEND;TZID=America/Denver:20290721T110000
DTSTAMP:20260422T164458
CREATED:20260128T214214Z
LAST-MODIFIED:20260128T214214Z
UID:10001472-1879318800-1879326000@vintargermanshepherdarizona.com
SUMMARY:Social Class
DESCRIPTION:Dogs being exposed to different situations learning to be desensitized to the environment while learning basic obedience skills.
URL:https://vintargermanshepherdarizona.com/event/social-class-6/2029-07-21/
END:VEVENT
BEGIN:VEVENT
DTSTART;TZID=America/Denver:20290728T090000
DTEND;TZID=America/Denver:20290728T110000
DTSTAMP:20260422T164458
CREATED:20260128T214214Z
LAST-MODIFIED:20260128T214214Z
UID:10001473-1879923600-1879930800@vintargermanshepherdarizona.com
SUMMARY:Social Class
DESCRIPTION:Dogs being exposed to different situations learning to be desensitized to the environment while learning basic obedience skills.
URL:https://vintargermanshepherdarizona.com/event/social-class-6/2029-07-28/
END:VEVENT
BEGIN:VEVENT
DTSTART;TZID=America/Denver:20290804T090000
DTEND;TZID=America/Denver:20290804T110000
DTSTAMP:20260422T164458
CREATED:20260128T214214Z
LAST-MODIFIED:20260128T214214Z
UID:10001474-1880528400-1880535600@vintargermanshepherdarizona.com
SUMMARY:Social Class
DESCRIPTION:Dogs being exposed to different situations learning to be desensitized to the environment while learning basic obedience skills.
URL:https://vintargermanshepherdarizona.com/event/social-class-6/2029-08-04/
END:VEVENT
BEGIN:VEVENT
DTSTART;TZID=America/Denver:20290811T090000
DTEND;TZID=America/Denver:20290811T110000
DTSTAMP:20260422T164458
CREATED:20260128T214214Z
LAST-MODIFIED:20260128T214214Z
UID:10001475-1881133200-1881140400@vintargermanshepherdarizona.com
SUMMARY:Social Class
DESCRIPTION:Dogs being exposed to different situations learning to be desensitized to the environment while learning basic obedience skills.
URL:https://vintargermanshepherdarizona.com/event/social-class-6/2029-08-11/
END:VEVENT
BEGIN:VEVENT
DTSTART;TZID=America/Denver:20290818T090000
DTEND;TZID=America/Denver:20290818T110000
DTSTAMP:20260422T164458
CREATED:20260128T214214Z
LAST-MODIFIED:20260128T214214Z
UID:10001476-1881738000-1881745200@vintargermanshepherdarizona.com
SUMMARY:Social Class
DESCRIPTION:Dogs being exposed to different situations learning to be desensitized to the environment while learning basic obedience skills.
URL:https://vintargermanshepherdarizona.com/event/social-class-6/2029-08-18/
END:VEVENT
BEGIN:VEVENT
DTSTART;TZID=America/Denver:20290825T090000
DTEND;TZID=America/Denver:20290825T110000
DTSTAMP:20260422T164458
CREATED:20260128T214214Z
LAST-MODIFIED:20260128T214214Z
UID:10001477-1882342800-1882350000@vintargermanshepherdarizona.com
SUMMARY:Social Class
DESCRIPTION:Dogs being exposed to different situations learning to be desensitized to the environment while learning basic obedience skills.
URL:https://vintargermanshepherdarizona.com/event/social-class-6/2029-08-25/
END:VEVENT
BEGIN:VEVENT
DTSTART;TZID=America/Denver:20290901T090000
DTEND;TZID=America/Denver:20290901T110000
DTSTAMP:20260422T164458
CREATED:20260128T214214Z
LAST-MODIFIED:20260128T214214Z
UID:10001478-1882947600-1882954800@vintargermanshepherdarizona.com
SUMMARY:Social Class
DESCRIPTION:Dogs being exposed to different situations learning to be desensitized to the environment while learning basic obedience skills.
URL:https://vintargermanshepherdarizona.com/event/social-class-6/2029-09-01/
END:VEVENT
BEGIN:VEVENT
DTSTART;TZID=America/Denver:20290908T090000
DTEND;TZID=America/Denver:20290908T110000
DTSTAMP:20260422T164458
CREATED:20260128T214214Z
LAST-MODIFIED:20260128T214214Z
UID:10001479-1883552400-1883559600@vintargermanshepherdarizona.com
SUMMARY:Social Class
DESCRIPTION:Dogs being exposed to different situations learning to be desensitized to the environment while learning basic obedience skills.
URL:https://vintargermanshepherdarizona.com/event/social-class-6/2029-09-08/
END:VEVENT
BEGIN:VEVENT
DTSTART;TZID=America/Denver:20290915T090000
DTEND;TZID=America/Denver:20290915T110000
DTSTAMP:20260422T164458
CREATED:20260128T214214Z
LAST-MODIFIED:20260128T214214Z
UID:10001480-1884157200-1884164400@vintargermanshepherdarizona.com
SUMMARY:Social Class
DESCRIPTION:Dogs being exposed to different situations learning to be desensitized to the environment while learning basic obedience skills.
URL:https://vintargermanshepherdarizona.com/event/social-class-6/2029-09-15/
END:VEVENT
BEGIN:VEVENT
DTSTART;TZID=America/Denver:20290922T090000
DTEND;TZID=America/Denver:20290922T110000
DTSTAMP:20260422T164458
CREATED:20260128T214214Z
LAST-MODIFIED:20260128T214214Z
UID:10001481-1884762000-1884769200@vintargermanshepherdarizona.com
SUMMARY:Social Class
DESCRIPTION:Dogs being exposed to different situations learning to be desensitized to the environment while learning basic obedience skills.
URL:https://vintargermanshepherdarizona.com/event/social-class-6/2029-09-22/
END:VEVENT
BEGIN:VEVENT
DTSTART;TZID=America/Denver:20290929T090000
DTEND;TZID=America/Denver:20290929T110000
DTSTAMP:20260422T164458
CREATED:20260128T214214Z
LAST-MODIFIED:20260128T214214Z
UID:10001482-1885366800-1885374000@vintargermanshepherdarizona.com
SUMMARY:Social Class
DESCRIPTION:Dogs being exposed to different situations learning to be desensitized to the environment while learning basic obedience skills.
URL:https://vintargermanshepherdarizona.com/event/social-class-6/2029-09-29/
END:VEVENT
BEGIN:VEVENT
DTSTART;TZID=America/Denver:20291006T090000
DTEND;TZID=America/Denver:20291006T110000
DTSTAMP:20260422T164458
CREATED:20260128T214214Z
LAST-MODIFIED:20260128T214214Z
UID:10001483-1885971600-1885978800@vintargermanshepherdarizona.com
SUMMARY:Social Class
DESCRIPTION:Dogs being exposed to different situations learning to be desensitized to the environment while learning basic obedience skills.
URL:https://vintargermanshepherdarizona.com/event/social-class-6/2029-10-06/
END:VEVENT
BEGIN:VEVENT
DTSTART;TZID=America/Denver:20291013T090000
DTEND;TZID=America/Denver:20291013T110000
DTSTAMP:20260422T164458
CREATED:20260128T214214Z
LAST-MODIFIED:20260128T214214Z
UID:10001484-1886576400-1886583600@vintargermanshepherdarizona.com
SUMMARY:Social Class
DESCRIPTION:Dogs being exposed to different situations learning to be desensitized to the environment while learning basic obedience skills.
URL:https://vintargermanshepherdarizona.com/event/social-class-6/2029-10-13/
END:VEVENT
BEGIN:VEVENT
DTSTART;TZID=America/Denver:20291020T090000
DTEND;TZID=America/Denver:20291020T110000
DTSTAMP:20260422T164458
CREATED:20260128T214214Z
LAST-MODIFIED:20260128T214214Z
UID:10001485-1887181200-1887188400@vintargermanshepherdarizona.com
SUMMARY:Social Class
DESCRIPTION:Dogs being exposed to different situations learning to be desensitized to the environment while learning basic obedience skills.
URL:https://vintargermanshepherdarizona.com/event/social-class-6/2029-10-20/
END:VEVENT
BEGIN:VEVENT
DTSTART;TZID=America/Denver:20291027T090000
DTEND;TZID=America/Denver:20291027T110000
DTSTAMP:20260422T164458
CREATED:20260128T214214Z
LAST-MODIFIED:20260128T214214Z
UID:10001486-1887786000-1887793200@vintargermanshepherdarizona.com
SUMMARY:Social Class
DESCRIPTION:Dogs being exposed to different situations learning to be desensitized to the environment while learning basic obedience skills.
URL:https://vintargermanshepherdarizona.com/event/social-class-6/2029-10-27/
END:VEVENT
BEGIN:VEVENT
DTSTART;TZID=America/Denver:20291103T090000
DTEND;TZID=America/Denver:20291103T110000
DTSTAMP:20260422T164459
CREATED:20260128T214214Z
LAST-MODIFIED:20260128T214214Z
UID:10001487-1888390800-1888398000@vintargermanshepherdarizona.com
SUMMARY:Social Class
DESCRIPTION:Dogs being exposed to different situations learning to be desensitized to the environment while learning basic obedience skills.
URL:https://vintargermanshepherdarizona.com/event/social-class-6/2029-11-03/
END:VEVENT
BEGIN:VEVENT
DTSTART;TZID=America/Denver:20291110T090000
DTEND;TZID=America/Denver:20291110T110000
DTSTAMP:20260422T164459
CREATED:20260128T214214Z
LAST-MODIFIED:20260128T214214Z
UID:10001488-1888995600-1889002800@vintargermanshepherdarizona.com
SUMMARY:Social Class
DESCRIPTION:Dogs being exposed to different situations learning to be desensitized to the environment while learning basic obedience skills.
URL:https://vintargermanshepherdarizona.com/event/social-class-6/2029-11-10/
END:VEVENT
BEGIN:VEVENT
DTSTART;TZID=America/Denver:20291117T090000
DTEND;TZID=America/Denver:20291117T110000
DTSTAMP:20260422T164459
CREATED:20260128T214214Z
LAST-MODIFIED:20260128T214214Z
UID:10001489-1889600400-1889607600@vintargermanshepherdarizona.com
SUMMARY:Social Class
DESCRIPTION:Dogs being exposed to different situations learning to be desensitized to the environment while learning basic obedience skills.
URL:https://vintargermanshepherdarizona.com/event/social-class-6/2029-11-17/
END:VEVENT
BEGIN:VEVENT
DTSTART;TZID=America/Denver:20291124T090000
DTEND;TZID=America/Denver:20291124T110000
DTSTAMP:20260422T164459
CREATED:20260128T214214Z
LAST-MODIFIED:20260128T214214Z
UID:10001490-1890205200-1890212400@vintargermanshepherdarizona.com
SUMMARY:Social Class
DESCRIPTION:Dogs being exposed to different situations learning to be desensitized to the environment while learning basic obedience skills.
URL:https://vintargermanshepherdarizona.com/event/social-class-6/2029-11-24/
END:VEVENT
BEGIN:VEVENT
DTSTART;TZID=America/Denver:20291201T090000
DTEND;TZID=America/Denver:20291201T110000
DTSTAMP:20260422T164459
CREATED:20260128T214214Z
LAST-MODIFIED:20260128T214214Z
UID:10001491-1890810000-1890817200@vintargermanshepherdarizona.com
SUMMARY:Social Class
DESCRIPTION:Dogs being exposed to different situations learning to be desensitized to the environment while learning basic obedience skills.
URL:https://vintargermanshepherdarizona.com/event/social-class-6/2029-12-01/
END:VEVENT
BEGIN:VEVENT
DTSTART;TZID=America/Denver:20291208T090000
DTEND;TZID=America/Denver:20291208T110000
DTSTAMP:20260422T164459
CREATED:20260128T214214Z
LAST-MODIFIED:20260128T214214Z
UID:10001492-1891414800-1891422000@vintargermanshepherdarizona.com
SUMMARY:Social Class
DESCRIPTION:Dogs being exposed to different situations learning to be desensitized to the environment while learning basic obedience skills.
URL:https://vintargermanshepherdarizona.com/event/social-class-6/2029-12-08/
END:VEVENT
BEGIN:VEVENT
DTSTART;TZID=America/Denver:20291215T090000
DTEND;TZID=America/Denver:20291215T110000
DTSTAMP:20260422T164459
CREATED:20260128T214214Z
LAST-MODIFIED:20260128T214214Z
UID:10001493-1892019600-1892026800@vintargermanshepherdarizona.com
SUMMARY:Social Class
DESCRIPTION:Dogs being exposed to different situations learning to be desensitized to the environment while learning basic obedience skills.
URL:https://vintargermanshepherdarizona.com/event/social-class-6/2029-12-15/
END:VEVENT
BEGIN:VEVENT
DTSTART;TZID=America/Denver:20291222T090000
DTEND;TZID=America/Denver:20291222T110000
DTSTAMP:20260422T164459
CREATED:20260128T214214Z
LAST-MODIFIED:20260128T214214Z
UID:10001494-1892624400-1892631600@vintargermanshepherdarizona.com
SUMMARY:Social Class
DESCRIPTION:Dogs being exposed to different situations learning to be desensitized to the environment while learning basic obedience skills.
URL:https://vintargermanshepherdarizona.com/event/social-class-6/2029-12-22/
END:VEVENT
BEGIN:VEVENT
DTSTART;TZID=America/Denver:20291229T090000
DTEND;TZID=America/Denver:20291229T110000
DTSTAMP:20260422T164459
CREATED:20260128T214214Z
LAST-MODIFIED:20260128T214214Z
UID:10001495-1893229200-1893236400@vintargermanshepherdarizona.com
SUMMARY:Social Class
DESCRIPTION:Dogs being exposed to different situations learning to be desensitized to the environment while learning basic obedience skills.
URL:https://vintargermanshepherdarizona.com/event/social-class-6/2029-12-29/
END:VEVENT
END:VCALENDAR