BEGIN:VCALENDAR
VERSION:2.0
PRODID:-//Vintar German Shepherd - ECPv6.15.20//NONSGML v1.0//EN
CALSCALE:GREGORIAN
METHOD:PUBLISH
X-WR-CALNAME:Vintar German Shepherd
X-ORIGINAL-URL:https://vintargermanshepherdarizona.com
X-WR-CALDESC:Events for Vintar German Shepherd
REFRESH-INTERVAL;VALUE=DURATION:PT1H
X-Robots-Tag:noindex
X-PUBLISHED-TTL:PT1H
BEGIN:VTIMEZONE
TZID:America/Denver
BEGIN:DAYLIGHT
TZOFFSETFROM:-0700
TZOFFSETTO:-0600
TZNAME:MDT
DTSTART:20230312T090000
END:DAYLIGHT
BEGIN:STANDARD
TZOFFSETFROM:-0600
TZOFFSETTO:-0700
TZNAME:MST
DTSTART:20231105T080000
END:STANDARD
BEGIN:DAYLIGHT
TZOFFSETFROM:-0700
TZOFFSETTO:-0600
TZNAME:MDT
DTSTART:20240310T090000
END:DAYLIGHT
BEGIN:STANDARD
TZOFFSETFROM:-0600
TZOFFSETTO:-0700
TZNAME:MST
DTSTART:20241103T080000
END:STANDARD
BEGIN:DAYLIGHT
TZOFFSETFROM:-0700
TZOFFSETTO:-0600
TZNAME:MDT
DTSTART:20250309T090000
END:DAYLIGHT
BEGIN:STANDARD
TZOFFSETFROM:-0600
TZOFFSETTO:-0700
TZNAME:MST
DTSTART:20251102T080000
END:STANDARD
END:VTIMEZONE
BEGIN:VEVENT
DTSTART;TZID=America/Denver:20241221T130000
DTEND;TZID=America/Denver:20241221T143000
DTSTAMP:20260424T222433
CREATED:20241201T141211Z
LAST-MODIFIED:20241201T141211Z
UID:10000938-1734786000-1734791400@vintargermanshepherdarizona.com
SUMMARY:class lunch macayos
DESCRIPTION:Vintar German Shepherd class going to a dog friendly patio for lunch as a group.
URL:https://vintargermanshepherdarizona.com/event/class-lunch-macayos-2/
END:VEVENT
BEGIN:VEVENT
DTSTART;TZID=America/Denver:20241221T090000
DTEND;TZID=America/Denver:20241221T110000
DTSTAMP:20260424T222433
CREATED:20241201T141800Z
LAST-MODIFIED:20241201T141802Z
UID:10000669-1734771600-1734778800@vintargermanshepherdarizona.com
SUMMARY:Social Class 9am Christmas party
DESCRIPTION:
URL:https://vintargermanshepherdarizona.com/event/social-class-9am-2-2-2-2/
END:VEVENT
BEGIN:VEVENT
DTSTART;TZID=America/Denver:20241215T123000
DTEND;TZID=America/Denver:20241215T143000
DTSTAMP:20260424T222433
CREATED:20241115T222045Z
LAST-MODIFIED:20241201T140540Z
UID:10000936-1734265800-1734273000@vintargermanshepherdarizona.com
SUMMARY:Star Puppy Class
DESCRIPTION:Please remember puppy class is not part of the free Vintar training.
URL:https://vintargermanshepherdarizona.com/event/star-puppy-class/
END:VEVENT
BEGIN:VEVENT
DTSTART;TZID=America/Denver:20241215T090000
DTEND;TZID=America/Denver:20241215T110000
DTSTAMP:20260424T222433
CREATED:20241201T140825Z
LAST-MODIFIED:20241201T140826Z
UID:10000937-1734253200-1734260400@vintargermanshepherdarizona.com
SUMMARY:Training Class
DESCRIPTION:Dogs learning advanced offleash skills.
URL:https://vintargermanshepherdarizona.com/event/training-class-5/
END:VEVENT
BEGIN:VEVENT
DTSTART;TZID=America/Denver:20241214T090000
DTEND;TZID=America/Denver:20241214T110000
DTSTAMP:20260424T222433
CREATED:20241103T224532Z
LAST-MODIFIED:20241103T224533Z
UID:10000668-1734166800-1734174000@vintargermanshepherdarizona.com
SUMMARY:Social Class 9am
DESCRIPTION:
URL:https://vintargermanshepherdarizona.com/event/social-class-9am-2-2-2/2024-12-14/
END:VEVENT
BEGIN:VEVENT
DTSTART;TZID=America/Denver:20241208T130000
DTEND;TZID=America/Denver:20241208T143000
DTSTAMP:20260424T222433
CREATED:20241115T220819Z
LAST-MODIFIED:20241115T220819Z
UID:10000932-1733662800-1733668200@vintargermanshepherdarizona.com
SUMMARY:Vintar Fitdog Hike
DESCRIPTION:White Tank Waterfall Hike. This will be considered an advanced fitdog hike.
URL:https://vintargermanshepherdarizona.com/event/vintar-fitdog-hike/
END:VEVENT
BEGIN:VEVENT
DTSTART;TZID=America/Denver:20241208T090000
DTEND;TZID=America/Denver:20241208T110000
DTSTAMP:20260424T222433
CREATED:20241115T221111Z
LAST-MODIFIED:20241115T221111Z
UID:10000933-1733648400-1733655600@vintargermanshepherdarizona.com
SUMMARY:CGC Class @Vintar German Shepherd
DESCRIPTION:Dogs learning social skills to pass the AKC CGC test.
URL:https://vintargermanshepherdarizona.com/event/cgc-class-vintar-german-shepherd/
END:VEVENT
BEGIN:VEVENT
DTSTART;TZID=America/Denver:20241207T120000
DTEND;TZID=America/Denver:20241207T130000
DTSTAMP:20260424T222433
CREATED:20241103T225155Z
LAST-MODIFIED:20241103T225155Z
UID:10000926-1733572800-1733576400@vintargermanshepherdarizona.com
SUMMARY:Puppy visit day
DESCRIPTION:Families get a one hour weekly visit with their puppy until take home at 9 weeks.
URL:https://vintargermanshepherdarizona.com/event/puppy-visit-day-2/2024-12-07/
END:VEVENT
BEGIN:VEVENT
DTSTART;TZID=America/Denver:20241207T090000
DTEND;TZID=America/Denver:20241207T110000
DTSTAMP:20260424T222433
CREATED:20241103T224532Z
LAST-MODIFIED:20241103T224533Z
UID:10000667-1733562000-1733569200@vintargermanshepherdarizona.com
SUMMARY:Social Class 9am
DESCRIPTION:
URL:https://vintargermanshepherdarizona.com/event/social-class-9am-2-2-2/2024-12-07/
END:VEVENT
BEGIN:VEVENT
DTSTART;TZID=America/Denver:20241124T143000
DTEND;TZID=America/Denver:20241124T160000
DTSTAMP:20260424T222433
CREATED:20241103T230023Z
LAST-MODIFIED:20241103T230023Z
UID:10000930-1732458600-1732464000@vintargermanshepherdarizona.com
SUMMARY:Fitdog Hike Advanced
DESCRIPTION:Fitdog Hike as a community with Vintar German Shepherd Estrella North and South Lake will be the advance walk on November 10. Novice walk is on November 24 walk around the north Lake.
URL:https://vintargermanshepherdarizona.com/event/fitdog-hike-advanced/2024-11-24/
END:VEVENT
BEGIN:VEVENT
DTSTART;TZID=America/Denver:20241124T090000
DTEND;TZID=America/Denver:20241124T110000
DTSTAMP:20260424T222433
CREATED:20241103T225522Z
LAST-MODIFIED:20241103T225522Z
UID:10000928-1732438800-1732446000@vintargermanshepherdarizona.com
SUMMARY:Training Class
DESCRIPTION:This is a more advanced dog training class working on off leash skills.
URL:https://vintargermanshepherdarizona.com/event/training-class-4/2024-11-24/
END:VEVENT
BEGIN:VEVENT
DTSTART;TZID=America/Denver:20241123T120000
DTEND;TZID=America/Denver:20241123T130000
DTSTAMP:20260424T222433
CREATED:20241103T225155Z
LAST-MODIFIED:20241103T225155Z
UID:10000925-1732363200-1732366800@vintargermanshepherdarizona.com
SUMMARY:Puppy visit day
DESCRIPTION:Families get a one hour weekly visit with their puppy until take home at 9 weeks.
URL:https://vintargermanshepherdarizona.com/event/puppy-visit-day-2/2024-11-23/
END:VEVENT
BEGIN:VEVENT
DTSTART;TZID=America/Denver:20241123T090000
DTEND;TZID=America/Denver:20241123T110000
DTSTAMP:20260424T222433
CREATED:20241103T224532Z
LAST-MODIFIED:20241103T224533Z
UID:10000666-1732352400-1732359600@vintargermanshepherdarizona.com
SUMMARY:Social Class 9am
DESCRIPTION:
URL:https://vintargermanshepherdarizona.com/event/social-class-9am-2-2-2/2024-11-23/
END:VEVENT
BEGIN:VEVENT
DTSTART;TZID=America/Denver:20241117T090000
DTEND;TZID=America/Denver:20241117T103000
DTSTAMP:20260424T222433
CREATED:20241103T230306Z
LAST-MODIFIED:20241103T230306Z
UID:10000931-1731834000-1731839400@vintargermanshepherdarizona.com
SUMMARY:CGC at Kahoots
DESCRIPTION:German shepherds learning social skills out in public to pass the AKC CGC. Dog Training
URL:https://vintargermanshepherdarizona.com/event/cgc-at-kahoots/
END:VEVENT
BEGIN:VEVENT
DTSTART;TZID=America/Denver:20241116T120000
DTEND;TZID=America/Denver:20241116T130000
DTSTAMP:20260424T222433
CREATED:20241103T225155Z
LAST-MODIFIED:20241103T225155Z
UID:10000924-1731758400-1731762000@vintargermanshepherdarizona.com
SUMMARY:Puppy visit day
DESCRIPTION:Families get a one hour weekly visit with their puppy until take home at 9 weeks.
URL:https://vintargermanshepherdarizona.com/event/puppy-visit-day-2/2024-11-16/
END:VEVENT
BEGIN:VEVENT
DTSTART;TZID=America/Denver:20241116T090000
DTEND;TZID=America/Denver:20241116T110000
DTSTAMP:20260424T222433
CREATED:20241103T224532Z
LAST-MODIFIED:20241103T224533Z
UID:10000665-1731747600-1731754800@vintargermanshepherdarizona.com
SUMMARY:Social Class 9am
DESCRIPTION:
URL:https://vintargermanshepherdarizona.com/event/social-class-9am-2-2-2/2024-11-16/
END:VEVENT
BEGIN:VEVENT
DTSTART;TZID=America/Denver:20241110T143000
DTEND;TZID=America/Denver:20241110T160000
DTSTAMP:20260424T222433
CREATED:20241103T230023Z
LAST-MODIFIED:20241103T230023Z
UID:10000929-1731249000-1731254400@vintargermanshepherdarizona.com
SUMMARY:Fitdog Hike Advanced
DESCRIPTION:Fitdog Hike as a community with Vintar German Shepherd Estrella North and South Lake will be the advance walk on November 10. Novice walk is on November 24 walk around the north Lake.
URL:https://vintargermanshepherdarizona.com/event/fitdog-hike-advanced/2024-11-10/
END:VEVENT
BEGIN:VEVENT
DTSTART;TZID=America/Denver:20241110T090000
DTEND;TZID=America/Denver:20241110T110000
DTSTAMP:20260424T222433
CREATED:20241103T225522Z
LAST-MODIFIED:20241103T225522Z
UID:10000927-1731229200-1731236400@vintargermanshepherdarizona.com
SUMMARY:Training Class
DESCRIPTION:This is a more advanced dog training class working on off leash skills.
URL:https://vintargermanshepherdarizona.com/event/training-class-4/2024-11-10/
END:VEVENT
BEGIN:VEVENT
DTSTART;TZID=America/Denver:20241109T120000
DTEND;TZID=America/Denver:20241109T130000
DTSTAMP:20260424T222433
CREATED:20241103T225155Z
LAST-MODIFIED:20241103T225155Z
UID:10000923-1731153600-1731157200@vintargermanshepherdarizona.com
SUMMARY:Puppy visit day
DESCRIPTION:Families get a one hour weekly visit with their puppy until take home at 9 weeks.
URL:https://vintargermanshepherdarizona.com/event/puppy-visit-day-2/2024-11-09/
END:VEVENT
BEGIN:VEVENT
DTSTART;TZID=America/Denver:20241109T090000
DTEND;TZID=America/Denver:20241109T110000
DTSTAMP:20260424T222433
CREATED:20241103T224532Z
LAST-MODIFIED:20241103T224533Z
UID:10000664-1731142800-1731150000@vintargermanshepherdarizona.com
SUMMARY:Social Class 9am
DESCRIPTION:
URL:https://vintargermanshepherdarizona.com/event/social-class-9am-2-2-2/2024-11-09/
END:VEVENT
BEGIN:VEVENT
DTSTART;TZID=America/Denver:20241102T090000
DTEND;TZID=America/Denver:20241102T110000
DTSTAMP:20260424T222433
CREATED:20241103T224532Z
LAST-MODIFIED:20241103T224533Z
UID:10000663-1730538000-1730545200@vintargermanshepherdarizona.com
SUMMARY:Social Class 9am
DESCRIPTION:
URL:https://vintargermanshepherdarizona.com/event/social-class-9am-2-2-2/2024-11-02/
END:VEVENT
BEGIN:VEVENT
DTSTART;TZID=America/Denver:20241027T090000
DTEND;TZID=America/Denver:20241027T110000
DTSTAMP:20260424T222433
CREATED:20241004T213032Z
LAST-MODIFIED:20241004T213032Z
UID:10000656-1730019600-1730026800@vintargermanshepherdarizona.com
SUMMARY:Vintar Training Class
DESCRIPTION:This is a class that works towards offleash training skills. We work on Fitdog\, Rally\, Agility\, Obedience etc..
URL:https://vintargermanshepherdarizona.com/event/vintar-training-class/2024-10-27/
END:VEVENT
BEGIN:VEVENT
DTSTART;TZID=America/Denver:20241026T143000
DTEND;TZID=America/Denver:20241026T160000
DTSTAMP:20260424T222433
CREATED:20241004T215010Z
LAST-MODIFIED:20241004T215010Z
UID:10000662-1729953000-1729958400@vintargermanshepherdarizona.com
SUMMARY:Vintar German Shepherd Fitdog Hike
DESCRIPTION:Fitdog hike will be part of the turkey trot so it will be walking around both lakes…26
URL:https://vintargermanshepherdarizona.com/event/vintar-german-shepherd-fitdog-hike/
END:VEVENT
BEGIN:VEVENT
DTSTART;TZID=America/Denver:20241026T090000
DTEND;TZID=America/Denver:20241026T110000
DTSTAMP:20260424T222433
CREATED:20241004T212426Z
LAST-MODIFIED:20241004T212426Z
UID:10000654-1729933200-1729940400@vintargermanshepherdarizona.com
SUMMARY:Vintar German Shepherd Social Class
DESCRIPTION:This is a desensitizing dog class that has all ages learning to work together learning social skills and basic obedience.
URL:https://vintargermanshepherdarizona.com/event/vintar-german-shepherd-social-class/2024-10-26/
END:VEVENT
BEGIN:VEVENT
DTSTART;TZID=America/Denver:20241026T080000
DTEND;TZID=America/Denver:20241026T100000
DTSTAMP:20260424T222433
CREATED:20240330T131113Z
LAST-MODIFIED:20240330T131115Z
UID:10000380-1729929600-1729936800@vintargermanshepherdarizona.com
SUMMARY:Social Class 8am
DESCRIPTION:
URL:https://vintargermanshepherdarizona.com/event/social-class-9am-2-2/2024-10-26/
END:VEVENT
BEGIN:VEVENT
DTSTART;TZID=America/Denver:20241020T090000
DTEND;TZID=America/Denver:20241020T110000
DTSTAMP:20260424T222433
CREATED:20241004T213554Z
LAST-MODIFIED:20241004T213554Z
UID:10000657-1729414800-1729422000@vintargermanshepherdarizona.com
SUMMARY:Vintar dog park CGC class
DESCRIPTION:This class is learning social behavior skill to pass the AKC CGC test. This class will be set up at the vintar dog park
URL:https://vintargermanshepherdarizona.com/event/vintar-dog-park-cgc-class/
END:VEVENT
BEGIN:VEVENT
DTSTART;TZID=America/Denver:20241019T123000
DTEND;TZID=America/Denver:20241019T140000
DTSTAMP:20260424T222433
CREATED:20241004T214448Z
LAST-MODIFIED:20241004T214448Z
UID:10000661-1729341000-1729346400@vintargermanshepherdarizona.com
SUMMARY:Class lunch at Macayos
DESCRIPTION:Vintar German Shepherd class goes to a dog friendly patio and has lunch as a group teaching our dogs good social manners.
URL:https://vintargermanshepherdarizona.com/event/class-lunch-at-macayos/
END:VEVENT
BEGIN:VEVENT
DTSTART;TZID=America/Denver:20241019T110000
DTEND;TZID=America/Denver:20241019T120000
DTSTAMP:20260424T222433
CREATED:20241004T214040Z
LAST-MODIFIED:20241004T214040Z
UID:10000660-1729335600-1729339200@vintargermanshepherdarizona.com
SUMMARY:Vintar German Shepherd Puppy Visit Day
DESCRIPTION:This is where our new Vintar German Shepherd puppy families come to visit their puppies and help develop good social skills before puppies go home.
URL:https://vintargermanshepherdarizona.com/event/vintar-german-shepherd-puppy-visit-day/2024-10-19/
END:VEVENT
BEGIN:VEVENT
DTSTART;TZID=America/Denver:20241019T110000
DTEND;TZID=America/Denver:20241019T113000
DTSTAMP:20260424T222433
CREATED:20240822T225605Z
LAST-MODIFIED:20240822T225605Z
UID:10000650-1729335600-1729337400@vintargermanshepherdarizona.com
SUMMARY:Vintar puppy take home day
DESCRIPTION:Vintar german shepherd puppies going home at 9 weeks old to their new homes.
URL:https://vintargermanshepherdarizona.com/event/vintar-puppy-take-home-day/2024-10-19/
END:VEVENT
BEGIN:VEVENT
DTSTART;TZID=America/Denver:20241019T090000
DTEND;TZID=America/Denver:20241019T110000
DTSTAMP:20260424T222433
CREATED:20241004T212426Z
LAST-MODIFIED:20241004T212426Z
UID:10000653-1729328400-1729335600@vintargermanshepherdarizona.com
SUMMARY:Vintar German Shepherd Social Class
DESCRIPTION:This is a desensitizing dog class that has all ages learning to work together learning social skills and basic obedience.
URL:https://vintargermanshepherdarizona.com/event/vintar-german-shepherd-social-class/2024-10-19/
END:VEVENT
END:VCALENDAR