BEGIN:VCALENDAR
VERSION:2.0
PRODID:-//Vintar German Shepherd - ECPv6.15.20//NONSGML v1.0//EN
CALSCALE:GREGORIAN
METHOD:PUBLISH
X-WR-CALNAME:Vintar German Shepherd
X-ORIGINAL-URL:https://vintargermanshepherdarizona.com
X-WR-CALDESC:Events for Vintar German Shepherd
REFRESH-INTERVAL;VALUE=DURATION:PT1H
X-Robots-Tag:noindex
X-PUBLISHED-TTL:PT1H
BEGIN:VTIMEZONE
TZID:America/Denver
BEGIN:DAYLIGHT
TZOFFSETFROM:-0700
TZOFFSETTO:-0600
TZNAME:MDT
DTSTART:20270314T090000
END:DAYLIGHT
BEGIN:STANDARD
TZOFFSETFROM:-0600
TZOFFSETTO:-0700
TZNAME:MST
DTSTART:20271107T080000
END:STANDARD
BEGIN:DAYLIGHT
TZOFFSETFROM:-0700
TZOFFSETTO:-0600
TZNAME:MDT
DTSTART:20280312T090000
END:DAYLIGHT
BEGIN:STANDARD
TZOFFSETFROM:-0600
TZOFFSETTO:-0700
TZNAME:MST
DTSTART:20281105T080000
END:STANDARD
BEGIN:DAYLIGHT
TZOFFSETFROM:-0700
TZOFFSETTO:-0600
TZNAME:MDT
DTSTART:20290311T090000
END:DAYLIGHT
BEGIN:STANDARD
TZOFFSETFROM:-0600
TZOFFSETTO:-0700
TZNAME:MST
DTSTART:20291104T080000
END:STANDARD
BEGIN:DAYLIGHT
TZOFFSETFROM:-0700
TZOFFSETTO:-0600
TZNAME:MDT
DTSTART:20300310T090000
END:DAYLIGHT
BEGIN:STANDARD
TZOFFSETFROM:-0600
TZOFFSETTO:-0700
TZNAME:MST
DTSTART:20301103T080000
END:STANDARD
END:VTIMEZONE
BEGIN:VEVENT
DTSTART;TZID=America/Denver:20281223T090000
DTEND;TZID=America/Denver:20281223T110000
DTSTAMP:20260422T170242
CREATED:20260128T214214Z
LAST-MODIFIED:20260128T214214Z
UID:10001442-1861174800-1861182000@vintargermanshepherdarizona.com
SUMMARY:Social Class
DESCRIPTION:Dogs being exposed to different situations learning to be desensitized to the environment while learning basic obedience skills.
URL:https://vintargermanshepherdarizona.com/event/social-class-6/2028-12-23/
END:VEVENT
BEGIN:VEVENT
DTSTART;TZID=America/Denver:20281230T090000
DTEND;TZID=America/Denver:20281230T110000
DTSTAMP:20260422T170242
CREATED:20260128T214214Z
LAST-MODIFIED:20260128T214214Z
UID:10001443-1861779600-1861786800@vintargermanshepherdarizona.com
SUMMARY:Social Class
DESCRIPTION:Dogs being exposed to different situations learning to be desensitized to the environment while learning basic obedience skills.
URL:https://vintargermanshepherdarizona.com/event/social-class-6/2028-12-30/
END:VEVENT
BEGIN:VEVENT
DTSTART;TZID=America/Denver:20290106T090000
DTEND;TZID=America/Denver:20290106T110000
DTSTAMP:20260422T170242
CREATED:20260128T214214Z
LAST-MODIFIED:20260128T214214Z
UID:10001444-1862384400-1862391600@vintargermanshepherdarizona.com
SUMMARY:Social Class
DESCRIPTION:Dogs being exposed to different situations learning to be desensitized to the environment while learning basic obedience skills.
URL:https://vintargermanshepherdarizona.com/event/social-class-6/2029-01-06/
END:VEVENT
BEGIN:VEVENT
DTSTART;TZID=America/Denver:20290113T090000
DTEND;TZID=America/Denver:20290113T110000
DTSTAMP:20260422T170242
CREATED:20260128T214214Z
LAST-MODIFIED:20260128T214214Z
UID:10001445-1862989200-1862996400@vintargermanshepherdarizona.com
SUMMARY:Social Class
DESCRIPTION:Dogs being exposed to different situations learning to be desensitized to the environment while learning basic obedience skills.
URL:https://vintargermanshepherdarizona.com/event/social-class-6/2029-01-13/
END:VEVENT
BEGIN:VEVENT
DTSTART;TZID=America/Denver:20290120T090000
DTEND;TZID=America/Denver:20290120T110000
DTSTAMP:20260422T170242
CREATED:20260128T214214Z
LAST-MODIFIED:20260128T214214Z
UID:10001446-1863594000-1863601200@vintargermanshepherdarizona.com
SUMMARY:Social Class
DESCRIPTION:Dogs being exposed to different situations learning to be desensitized to the environment while learning basic obedience skills.
URL:https://vintargermanshepherdarizona.com/event/social-class-6/2029-01-20/
END:VEVENT
BEGIN:VEVENT
DTSTART;TZID=America/Denver:20290127T090000
DTEND;TZID=America/Denver:20290127T110000
DTSTAMP:20260422T170242
CREATED:20260128T214214Z
LAST-MODIFIED:20260128T214214Z
UID:10001447-1864198800-1864206000@vintargermanshepherdarizona.com
SUMMARY:Social Class
DESCRIPTION:Dogs being exposed to different situations learning to be desensitized to the environment while learning basic obedience skills.
URL:https://vintargermanshepherdarizona.com/event/social-class-6/2029-01-27/
END:VEVENT
BEGIN:VEVENT
DTSTART;TZID=America/Denver:20290203T090000
DTEND;TZID=America/Denver:20290203T110000
DTSTAMP:20260422T170242
CREATED:20260128T214214Z
LAST-MODIFIED:20260128T214214Z
UID:10001448-1864803600-1864810800@vintargermanshepherdarizona.com
SUMMARY:Social Class
DESCRIPTION:Dogs being exposed to different situations learning to be desensitized to the environment while learning basic obedience skills.
URL:https://vintargermanshepherdarizona.com/event/social-class-6/2029-02-03/
END:VEVENT
BEGIN:VEVENT
DTSTART;TZID=America/Denver:20290210T090000
DTEND;TZID=America/Denver:20290210T110000
DTSTAMP:20260422T170242
CREATED:20260128T214214Z
LAST-MODIFIED:20260128T214214Z
UID:10001449-1865408400-1865415600@vintargermanshepherdarizona.com
SUMMARY:Social Class
DESCRIPTION:Dogs being exposed to different situations learning to be desensitized to the environment while learning basic obedience skills.
URL:https://vintargermanshepherdarizona.com/event/social-class-6/2029-02-10/
END:VEVENT
BEGIN:VEVENT
DTSTART;TZID=America/Denver:20290217T090000
DTEND;TZID=America/Denver:20290217T110000
DTSTAMP:20260422T170242
CREATED:20260128T214214Z
LAST-MODIFIED:20260128T214214Z
UID:10001450-1866013200-1866020400@vintargermanshepherdarizona.com
SUMMARY:Social Class
DESCRIPTION:Dogs being exposed to different situations learning to be desensitized to the environment while learning basic obedience skills.
URL:https://vintargermanshepherdarizona.com/event/social-class-6/2029-02-17/
END:VEVENT
BEGIN:VEVENT
DTSTART;TZID=America/Denver:20290224T090000
DTEND;TZID=America/Denver:20290224T110000
DTSTAMP:20260422T170242
CREATED:20260128T214214Z
LAST-MODIFIED:20260128T214214Z
UID:10001451-1866618000-1866625200@vintargermanshepherdarizona.com
SUMMARY:Social Class
DESCRIPTION:Dogs being exposed to different situations learning to be desensitized to the environment while learning basic obedience skills.
URL:https://vintargermanshepherdarizona.com/event/social-class-6/2029-02-24/
END:VEVENT
BEGIN:VEVENT
DTSTART;TZID=America/Denver:20290303T090000
DTEND;TZID=America/Denver:20290303T110000
DTSTAMP:20260422T170242
CREATED:20260128T214214Z
LAST-MODIFIED:20260128T214214Z
UID:10001452-1867222800-1867230000@vintargermanshepherdarizona.com
SUMMARY:Social Class
DESCRIPTION:Dogs being exposed to different situations learning to be desensitized to the environment while learning basic obedience skills.
URL:https://vintargermanshepherdarizona.com/event/social-class-6/2029-03-03/
END:VEVENT
BEGIN:VEVENT
DTSTART;TZID=America/Denver:20290310T090000
DTEND;TZID=America/Denver:20290310T110000
DTSTAMP:20260422T170242
CREATED:20260128T214214Z
LAST-MODIFIED:20260128T214214Z
UID:10001453-1867827600-1867834800@vintargermanshepherdarizona.com
SUMMARY:Social Class
DESCRIPTION:Dogs being exposed to different situations learning to be desensitized to the environment while learning basic obedience skills.
URL:https://vintargermanshepherdarizona.com/event/social-class-6/2029-03-10/
END:VEVENT
BEGIN:VEVENT
DTSTART;TZID=America/Denver:20290317T090000
DTEND;TZID=America/Denver:20290317T110000
DTSTAMP:20260422T170242
CREATED:20260128T214214Z
LAST-MODIFIED:20260128T214214Z
UID:10001454-1868432400-1868439600@vintargermanshepherdarizona.com
SUMMARY:Social Class
DESCRIPTION:Dogs being exposed to different situations learning to be desensitized to the environment while learning basic obedience skills.
URL:https://vintargermanshepherdarizona.com/event/social-class-6/2029-03-17/
END:VEVENT
BEGIN:VEVENT
DTSTART;TZID=America/Denver:20290324T090000
DTEND;TZID=America/Denver:20290324T110000
DTSTAMP:20260422T170242
CREATED:20260128T214214Z
LAST-MODIFIED:20260128T214214Z
UID:10001455-1869037200-1869044400@vintargermanshepherdarizona.com
SUMMARY:Social Class
DESCRIPTION:Dogs being exposed to different situations learning to be desensitized to the environment while learning basic obedience skills.
URL:https://vintargermanshepherdarizona.com/event/social-class-6/2029-03-24/
END:VEVENT
BEGIN:VEVENT
DTSTART;TZID=America/Denver:20290331T090000
DTEND;TZID=America/Denver:20290331T110000
DTSTAMP:20260422T170242
CREATED:20260128T214214Z
LAST-MODIFIED:20260128T214214Z
UID:10001456-1869642000-1869649200@vintargermanshepherdarizona.com
SUMMARY:Social Class
DESCRIPTION:Dogs being exposed to different situations learning to be desensitized to the environment while learning basic obedience skills.
URL:https://vintargermanshepherdarizona.com/event/social-class-6/2029-03-31/
END:VEVENT
BEGIN:VEVENT
DTSTART;TZID=America/Denver:20290407T090000
DTEND;TZID=America/Denver:20290407T110000
DTSTAMP:20260422T170242
CREATED:20260128T214214Z
LAST-MODIFIED:20260128T214214Z
UID:10001457-1870246800-1870254000@vintargermanshepherdarizona.com
SUMMARY:Social Class
DESCRIPTION:Dogs being exposed to different situations learning to be desensitized to the environment while learning basic obedience skills.
URL:https://vintargermanshepherdarizona.com/event/social-class-6/2029-04-07/
END:VEVENT
BEGIN:VEVENT
DTSTART;TZID=America/Denver:20290414T090000
DTEND;TZID=America/Denver:20290414T110000
DTSTAMP:20260422T170242
CREATED:20260128T214214Z
LAST-MODIFIED:20260128T214214Z
UID:10001458-1870851600-1870858800@vintargermanshepherdarizona.com
SUMMARY:Social Class
DESCRIPTION:Dogs being exposed to different situations learning to be desensitized to the environment while learning basic obedience skills.
URL:https://vintargermanshepherdarizona.com/event/social-class-6/2029-04-14/
END:VEVENT
BEGIN:VEVENT
DTSTART;TZID=America/Denver:20290421T090000
DTEND;TZID=America/Denver:20290421T110000
DTSTAMP:20260422T170242
CREATED:20260128T214214Z
LAST-MODIFIED:20260128T214214Z
UID:10001459-1871456400-1871463600@vintargermanshepherdarizona.com
SUMMARY:Social Class
DESCRIPTION:Dogs being exposed to different situations learning to be desensitized to the environment while learning basic obedience skills.
URL:https://vintargermanshepherdarizona.com/event/social-class-6/2029-04-21/
END:VEVENT
BEGIN:VEVENT
DTSTART;TZID=America/Denver:20290428T090000
DTEND;TZID=America/Denver:20290428T110000
DTSTAMP:20260422T170242
CREATED:20260128T214214Z
LAST-MODIFIED:20260128T214214Z
UID:10001460-1872061200-1872068400@vintargermanshepherdarizona.com
SUMMARY:Social Class
DESCRIPTION:Dogs being exposed to different situations learning to be desensitized to the environment while learning basic obedience skills.
URL:https://vintargermanshepherdarizona.com/event/social-class-6/2029-04-28/
END:VEVENT
BEGIN:VEVENT
DTSTART;TZID=America/Denver:20290505T090000
DTEND;TZID=America/Denver:20290505T110000
DTSTAMP:20260422T170242
CREATED:20260128T214214Z
LAST-MODIFIED:20260128T214214Z
UID:10001461-1872666000-1872673200@vintargermanshepherdarizona.com
SUMMARY:Social Class
DESCRIPTION:Dogs being exposed to different situations learning to be desensitized to the environment while learning basic obedience skills.
URL:https://vintargermanshepherdarizona.com/event/social-class-6/2029-05-05/
END:VEVENT
BEGIN:VEVENT
DTSTART;TZID=America/Denver:20290512T090000
DTEND;TZID=America/Denver:20290512T110000
DTSTAMP:20260422T170242
CREATED:20260128T214214Z
LAST-MODIFIED:20260128T214214Z
UID:10001462-1873270800-1873278000@vintargermanshepherdarizona.com
SUMMARY:Social Class
DESCRIPTION:Dogs being exposed to different situations learning to be desensitized to the environment while learning basic obedience skills.
URL:https://vintargermanshepherdarizona.com/event/social-class-6/2029-05-12/
END:VEVENT
BEGIN:VEVENT
DTSTART;TZID=America/Denver:20290519T090000
DTEND;TZID=America/Denver:20290519T110000
DTSTAMP:20260422T170242
CREATED:20260128T214214Z
LAST-MODIFIED:20260128T214214Z
UID:10001463-1873875600-1873882800@vintargermanshepherdarizona.com
SUMMARY:Social Class
DESCRIPTION:Dogs being exposed to different situations learning to be desensitized to the environment while learning basic obedience skills.
URL:https://vintargermanshepherdarizona.com/event/social-class-6/2029-05-19/
END:VEVENT
BEGIN:VEVENT
DTSTART;TZID=America/Denver:20290526T090000
DTEND;TZID=America/Denver:20290526T110000
DTSTAMP:20260422T170242
CREATED:20260128T214214Z
LAST-MODIFIED:20260128T214214Z
UID:10001464-1874480400-1874487600@vintargermanshepherdarizona.com
SUMMARY:Social Class
DESCRIPTION:Dogs being exposed to different situations learning to be desensitized to the environment while learning basic obedience skills.
URL:https://vintargermanshepherdarizona.com/event/social-class-6/2029-05-26/
END:VEVENT
BEGIN:VEVENT
DTSTART;TZID=America/Denver:20290602T090000
DTEND;TZID=America/Denver:20290602T110000
DTSTAMP:20260422T170242
CREATED:20260128T214214Z
LAST-MODIFIED:20260128T214214Z
UID:10001465-1875085200-1875092400@vintargermanshepherdarizona.com
SUMMARY:Social Class
DESCRIPTION:Dogs being exposed to different situations learning to be desensitized to the environment while learning basic obedience skills.
URL:https://vintargermanshepherdarizona.com/event/social-class-6/2029-06-02/
END:VEVENT
BEGIN:VEVENT
DTSTART;TZID=America/Denver:20290609T090000
DTEND;TZID=America/Denver:20290609T110000
DTSTAMP:20260422T170242
CREATED:20260128T214214Z
LAST-MODIFIED:20260128T214214Z
UID:10001466-1875690000-1875697200@vintargermanshepherdarizona.com
SUMMARY:Social Class
DESCRIPTION:Dogs being exposed to different situations learning to be desensitized to the environment while learning basic obedience skills.
URL:https://vintargermanshepherdarizona.com/event/social-class-6/2029-06-09/
END:VEVENT
BEGIN:VEVENT
DTSTART;TZID=America/Denver:20290616T090000
DTEND;TZID=America/Denver:20290616T110000
DTSTAMP:20260422T170242
CREATED:20260128T214214Z
LAST-MODIFIED:20260128T214214Z
UID:10001467-1876294800-1876302000@vintargermanshepherdarizona.com
SUMMARY:Social Class
DESCRIPTION:Dogs being exposed to different situations learning to be desensitized to the environment while learning basic obedience skills.
URL:https://vintargermanshepherdarizona.com/event/social-class-6/2029-06-16/
END:VEVENT
BEGIN:VEVENT
DTSTART;TZID=America/Denver:20290623T090000
DTEND;TZID=America/Denver:20290623T110000
DTSTAMP:20260422T170242
CREATED:20260128T214214Z
LAST-MODIFIED:20260128T214214Z
UID:10001468-1876899600-1876906800@vintargermanshepherdarizona.com
SUMMARY:Social Class
DESCRIPTION:Dogs being exposed to different situations learning to be desensitized to the environment while learning basic obedience skills.
URL:https://vintargermanshepherdarizona.com/event/social-class-6/2029-06-23/
END:VEVENT
BEGIN:VEVENT
DTSTART;TZID=America/Denver:20290630T090000
DTEND;TZID=America/Denver:20290630T110000
DTSTAMP:20260422T170242
CREATED:20260128T214214Z
LAST-MODIFIED:20260128T214214Z
UID:10001469-1877504400-1877511600@vintargermanshepherdarizona.com
SUMMARY:Social Class
DESCRIPTION:Dogs being exposed to different situations learning to be desensitized to the environment while learning basic obedience skills.
URL:https://vintargermanshepherdarizona.com/event/social-class-6/2029-06-30/
END:VEVENT
BEGIN:VEVENT
DTSTART;TZID=America/Denver:20290707T090000
DTEND;TZID=America/Denver:20290707T110000
DTSTAMP:20260422T170242
CREATED:20260128T214214Z
LAST-MODIFIED:20260128T214214Z
UID:10001470-1878109200-1878116400@vintargermanshepherdarizona.com
SUMMARY:Social Class
DESCRIPTION:Dogs being exposed to different situations learning to be desensitized to the environment while learning basic obedience skills.
URL:https://vintargermanshepherdarizona.com/event/social-class-6/2029-07-07/
END:VEVENT
BEGIN:VEVENT
DTSTART;TZID=America/Denver:20290714T090000
DTEND;TZID=America/Denver:20290714T110000
DTSTAMP:20260422T170242
CREATED:20260128T214214Z
LAST-MODIFIED:20260128T214214Z
UID:10001471-1878714000-1878721200@vintargermanshepherdarizona.com
SUMMARY:Social Class
DESCRIPTION:Dogs being exposed to different situations learning to be desensitized to the environment while learning basic obedience skills.
URL:https://vintargermanshepherdarizona.com/event/social-class-6/2029-07-14/
END:VEVENT
END:VCALENDAR