BEGIN:VCALENDAR
VERSION:2.0
PRODID:-//Vintar German Shepherd - ECPv6.15.20//NONSGML v1.0//EN
CALSCALE:GREGORIAN
METHOD:PUBLISH
X-WR-CALNAME:Vintar German Shepherd
X-ORIGINAL-URL:https://vintargermanshepherdarizona.com
X-WR-CALDESC:Events for Vintar German Shepherd
REFRESH-INTERVAL;VALUE=DURATION:PT1H
X-Robots-Tag:noindex
X-PUBLISHED-TTL:PT1H
BEGIN:VTIMEZONE
TZID:America/Denver
BEGIN:DAYLIGHT
TZOFFSETFROM:-0700
TZOFFSETTO:-0600
TZNAME:MDT
DTSTART:20270314T090000
END:DAYLIGHT
BEGIN:STANDARD
TZOFFSETFROM:-0600
TZOFFSETTO:-0700
TZNAME:MST
DTSTART:20271107T080000
END:STANDARD
BEGIN:DAYLIGHT
TZOFFSETFROM:-0700
TZOFFSETTO:-0600
TZNAME:MDT
DTSTART:20280312T090000
END:DAYLIGHT
BEGIN:STANDARD
TZOFFSETFROM:-0600
TZOFFSETTO:-0700
TZNAME:MST
DTSTART:20281105T080000
END:STANDARD
BEGIN:DAYLIGHT
TZOFFSETFROM:-0700
TZOFFSETTO:-0600
TZNAME:MDT
DTSTART:20290311T090000
END:DAYLIGHT
BEGIN:STANDARD
TZOFFSETFROM:-0600
TZOFFSETTO:-0700
TZNAME:MST
DTSTART:20291104T080000
END:STANDARD
BEGIN:DAYLIGHT
TZOFFSETFROM:-0700
TZOFFSETTO:-0600
TZNAME:MDT
DTSTART:20300310T090000
END:DAYLIGHT
BEGIN:STANDARD
TZOFFSETFROM:-0600
TZOFFSETTO:-0700
TZNAME:MST
DTSTART:20301103T080000
END:STANDARD
END:VTIMEZONE
BEGIN:VEVENT
DTSTART;TZID=America/Denver:20280701T090000
DTEND;TZID=America/Denver:20280701T110000
DTSTAMP:20260422T164156
CREATED:20260128T214214Z
LAST-MODIFIED:20260128T214214Z
UID:10001417-1846054800-1846062000@vintargermanshepherdarizona.com
SUMMARY:Social Class
DESCRIPTION:Dogs being exposed to different situations learning to be desensitized to the environment while learning basic obedience skills.
URL:https://vintargermanshepherdarizona.com/event/social-class-6/2028-07-01/
END:VEVENT
BEGIN:VEVENT
DTSTART;TZID=America/Denver:20280708T090000
DTEND;TZID=America/Denver:20280708T110000
DTSTAMP:20260422T164156
CREATED:20260128T214214Z
LAST-MODIFIED:20260128T214214Z
UID:10001418-1846659600-1846666800@vintargermanshepherdarizona.com
SUMMARY:Social Class
DESCRIPTION:Dogs being exposed to different situations learning to be desensitized to the environment while learning basic obedience skills.
URL:https://vintargermanshepherdarizona.com/event/social-class-6/2028-07-08/
END:VEVENT
BEGIN:VEVENT
DTSTART;TZID=America/Denver:20280715T090000
DTEND;TZID=America/Denver:20280715T110000
DTSTAMP:20260422T164156
CREATED:20260128T214214Z
LAST-MODIFIED:20260128T214214Z
UID:10001419-1847264400-1847271600@vintargermanshepherdarizona.com
SUMMARY:Social Class
DESCRIPTION:Dogs being exposed to different situations learning to be desensitized to the environment while learning basic obedience skills.
URL:https://vintargermanshepherdarizona.com/event/social-class-6/2028-07-15/
END:VEVENT
BEGIN:VEVENT
DTSTART;TZID=America/Denver:20280722T090000
DTEND;TZID=America/Denver:20280722T110000
DTSTAMP:20260422T164156
CREATED:20260128T214214Z
LAST-MODIFIED:20260128T214214Z
UID:10001420-1847869200-1847876400@vintargermanshepherdarizona.com
SUMMARY:Social Class
DESCRIPTION:Dogs being exposed to different situations learning to be desensitized to the environment while learning basic obedience skills.
URL:https://vintargermanshepherdarizona.com/event/social-class-6/2028-07-22/
END:VEVENT
BEGIN:VEVENT
DTSTART;TZID=America/Denver:20280729T090000
DTEND;TZID=America/Denver:20280729T110000
DTSTAMP:20260422T164156
CREATED:20260128T214214Z
LAST-MODIFIED:20260128T214214Z
UID:10001421-1848474000-1848481200@vintargermanshepherdarizona.com
SUMMARY:Social Class
DESCRIPTION:Dogs being exposed to different situations learning to be desensitized to the environment while learning basic obedience skills.
URL:https://vintargermanshepherdarizona.com/event/social-class-6/2028-07-29/
END:VEVENT
BEGIN:VEVENT
DTSTART;TZID=America/Denver:20280805T090000
DTEND;TZID=America/Denver:20280805T110000
DTSTAMP:20260422T164156
CREATED:20260128T214214Z
LAST-MODIFIED:20260128T214214Z
UID:10001422-1849078800-1849086000@vintargermanshepherdarizona.com
SUMMARY:Social Class
DESCRIPTION:Dogs being exposed to different situations learning to be desensitized to the environment while learning basic obedience skills.
URL:https://vintargermanshepherdarizona.com/event/social-class-6/2028-08-05/
END:VEVENT
BEGIN:VEVENT
DTSTART;TZID=America/Denver:20280812T090000
DTEND;TZID=America/Denver:20280812T110000
DTSTAMP:20260422T164156
CREATED:20260128T214214Z
LAST-MODIFIED:20260128T214214Z
UID:10001423-1849683600-1849690800@vintargermanshepherdarizona.com
SUMMARY:Social Class
DESCRIPTION:Dogs being exposed to different situations learning to be desensitized to the environment while learning basic obedience skills.
URL:https://vintargermanshepherdarizona.com/event/social-class-6/2028-08-12/
END:VEVENT
BEGIN:VEVENT
DTSTART;TZID=America/Denver:20280819T090000
DTEND;TZID=America/Denver:20280819T110000
DTSTAMP:20260422T164156
CREATED:20260128T214214Z
LAST-MODIFIED:20260128T214214Z
UID:10001424-1850288400-1850295600@vintargermanshepherdarizona.com
SUMMARY:Social Class
DESCRIPTION:Dogs being exposed to different situations learning to be desensitized to the environment while learning basic obedience skills.
URL:https://vintargermanshepherdarizona.com/event/social-class-6/2028-08-19/
END:VEVENT
BEGIN:VEVENT
DTSTART;TZID=America/Denver:20280826T090000
DTEND;TZID=America/Denver:20280826T110000
DTSTAMP:20260422T164156
CREATED:20260128T214214Z
LAST-MODIFIED:20260128T214214Z
UID:10001425-1850893200-1850900400@vintargermanshepherdarizona.com
SUMMARY:Social Class
DESCRIPTION:Dogs being exposed to different situations learning to be desensitized to the environment while learning basic obedience skills.
URL:https://vintargermanshepherdarizona.com/event/social-class-6/2028-08-26/
END:VEVENT
BEGIN:VEVENT
DTSTART;TZID=America/Denver:20280902T090000
DTEND;TZID=America/Denver:20280902T110000
DTSTAMP:20260422T164156
CREATED:20260128T214214Z
LAST-MODIFIED:20260128T214214Z
UID:10001426-1851498000-1851505200@vintargermanshepherdarizona.com
SUMMARY:Social Class
DESCRIPTION:Dogs being exposed to different situations learning to be desensitized to the environment while learning basic obedience skills.
URL:https://vintargermanshepherdarizona.com/event/social-class-6/2028-09-02/
END:VEVENT
BEGIN:VEVENT
DTSTART;TZID=America/Denver:20280909T090000
DTEND;TZID=America/Denver:20280909T110000
DTSTAMP:20260422T164156
CREATED:20260128T214214Z
LAST-MODIFIED:20260128T214214Z
UID:10001427-1852102800-1852110000@vintargermanshepherdarizona.com
SUMMARY:Social Class
DESCRIPTION:Dogs being exposed to different situations learning to be desensitized to the environment while learning basic obedience skills.
URL:https://vintargermanshepherdarizona.com/event/social-class-6/2028-09-09/
END:VEVENT
BEGIN:VEVENT
DTSTART;TZID=America/Denver:20280916T090000
DTEND;TZID=America/Denver:20280916T110000
DTSTAMP:20260422T164156
CREATED:20260128T214214Z
LAST-MODIFIED:20260128T214214Z
UID:10001428-1852707600-1852714800@vintargermanshepherdarizona.com
SUMMARY:Social Class
DESCRIPTION:Dogs being exposed to different situations learning to be desensitized to the environment while learning basic obedience skills.
URL:https://vintargermanshepherdarizona.com/event/social-class-6/2028-09-16/
END:VEVENT
BEGIN:VEVENT
DTSTART;TZID=America/Denver:20280923T090000
DTEND;TZID=America/Denver:20280923T110000
DTSTAMP:20260422T164156
CREATED:20260128T214214Z
LAST-MODIFIED:20260128T214214Z
UID:10001429-1853312400-1853319600@vintargermanshepherdarizona.com
SUMMARY:Social Class
DESCRIPTION:Dogs being exposed to different situations learning to be desensitized to the environment while learning basic obedience skills.
URL:https://vintargermanshepherdarizona.com/event/social-class-6/2028-09-23/
END:VEVENT
BEGIN:VEVENT
DTSTART;TZID=America/Denver:20280930T090000
DTEND;TZID=America/Denver:20280930T110000
DTSTAMP:20260422T164156
CREATED:20260128T214214Z
LAST-MODIFIED:20260128T214214Z
UID:10001430-1853917200-1853924400@vintargermanshepherdarizona.com
SUMMARY:Social Class
DESCRIPTION:Dogs being exposed to different situations learning to be desensitized to the environment while learning basic obedience skills.
URL:https://vintargermanshepherdarizona.com/event/social-class-6/2028-09-30/
END:VEVENT
BEGIN:VEVENT
DTSTART;TZID=America/Denver:20281007T090000
DTEND;TZID=America/Denver:20281007T110000
DTSTAMP:20260422T164156
CREATED:20260128T214214Z
LAST-MODIFIED:20260128T214214Z
UID:10001431-1854522000-1854529200@vintargermanshepherdarizona.com
SUMMARY:Social Class
DESCRIPTION:Dogs being exposed to different situations learning to be desensitized to the environment while learning basic obedience skills.
URL:https://vintargermanshepherdarizona.com/event/social-class-6/2028-10-07/
END:VEVENT
BEGIN:VEVENT
DTSTART;TZID=America/Denver:20281014T090000
DTEND;TZID=America/Denver:20281014T110000
DTSTAMP:20260422T164156
CREATED:20260128T214214Z
LAST-MODIFIED:20260128T214214Z
UID:10001432-1855126800-1855134000@vintargermanshepherdarizona.com
SUMMARY:Social Class
DESCRIPTION:Dogs being exposed to different situations learning to be desensitized to the environment while learning basic obedience skills.
URL:https://vintargermanshepherdarizona.com/event/social-class-6/2028-10-14/
END:VEVENT
BEGIN:VEVENT
DTSTART;TZID=America/Denver:20281021T090000
DTEND;TZID=America/Denver:20281021T110000
DTSTAMP:20260422T164156
CREATED:20260128T214214Z
LAST-MODIFIED:20260128T214214Z
UID:10001433-1855731600-1855738800@vintargermanshepherdarizona.com
SUMMARY:Social Class
DESCRIPTION:Dogs being exposed to different situations learning to be desensitized to the environment while learning basic obedience skills.
URL:https://vintargermanshepherdarizona.com/event/social-class-6/2028-10-21/
END:VEVENT
BEGIN:VEVENT
DTSTART;TZID=America/Denver:20281028T090000
DTEND;TZID=America/Denver:20281028T110000
DTSTAMP:20260422T164156
CREATED:20260128T214214Z
LAST-MODIFIED:20260128T214214Z
UID:10001434-1856336400-1856343600@vintargermanshepherdarizona.com
SUMMARY:Social Class
DESCRIPTION:Dogs being exposed to different situations learning to be desensitized to the environment while learning basic obedience skills.
URL:https://vintargermanshepherdarizona.com/event/social-class-6/2028-10-28/
END:VEVENT
BEGIN:VEVENT
DTSTART;TZID=America/Denver:20281104T090000
DTEND;TZID=America/Denver:20281104T110000
DTSTAMP:20260422T164156
CREATED:20260128T214214Z
LAST-MODIFIED:20260128T214214Z
UID:10001435-1856941200-1856948400@vintargermanshepherdarizona.com
SUMMARY:Social Class
DESCRIPTION:Dogs being exposed to different situations learning to be desensitized to the environment while learning basic obedience skills.
URL:https://vintargermanshepherdarizona.com/event/social-class-6/2028-11-04/
END:VEVENT
BEGIN:VEVENT
DTSTART;TZID=America/Denver:20281111T090000
DTEND;TZID=America/Denver:20281111T110000
DTSTAMP:20260422T164156
CREATED:20260128T214214Z
LAST-MODIFIED:20260128T214214Z
UID:10001436-1857546000-1857553200@vintargermanshepherdarizona.com
SUMMARY:Social Class
DESCRIPTION:Dogs being exposed to different situations learning to be desensitized to the environment while learning basic obedience skills.
URL:https://vintargermanshepherdarizona.com/event/social-class-6/2028-11-11/
END:VEVENT
BEGIN:VEVENT
DTSTART;TZID=America/Denver:20281118T090000
DTEND;TZID=America/Denver:20281118T110000
DTSTAMP:20260422T164156
CREATED:20260128T214214Z
LAST-MODIFIED:20260128T214214Z
UID:10001437-1858150800-1858158000@vintargermanshepherdarizona.com
SUMMARY:Social Class
DESCRIPTION:Dogs being exposed to different situations learning to be desensitized to the environment while learning basic obedience skills.
URL:https://vintargermanshepherdarizona.com/event/social-class-6/2028-11-18/
END:VEVENT
BEGIN:VEVENT
DTSTART;TZID=America/Denver:20281125T090000
DTEND;TZID=America/Denver:20281125T110000
DTSTAMP:20260422T164156
CREATED:20260128T214214Z
LAST-MODIFIED:20260128T214214Z
UID:10001438-1858755600-1858762800@vintargermanshepherdarizona.com
SUMMARY:Social Class
DESCRIPTION:Dogs being exposed to different situations learning to be desensitized to the environment while learning basic obedience skills.
URL:https://vintargermanshepherdarizona.com/event/social-class-6/2028-11-25/
END:VEVENT
BEGIN:VEVENT
DTSTART;TZID=America/Denver:20281202T090000
DTEND;TZID=America/Denver:20281202T110000
DTSTAMP:20260422T164156
CREATED:20260128T214214Z
LAST-MODIFIED:20260128T214214Z
UID:10001439-1859360400-1859367600@vintargermanshepherdarizona.com
SUMMARY:Social Class
DESCRIPTION:Dogs being exposed to different situations learning to be desensitized to the environment while learning basic obedience skills.
URL:https://vintargermanshepherdarizona.com/event/social-class-6/2028-12-02/
END:VEVENT
BEGIN:VEVENT
DTSTART;TZID=America/Denver:20281209T090000
DTEND;TZID=America/Denver:20281209T110000
DTSTAMP:20260422T164156
CREATED:20260128T214214Z
LAST-MODIFIED:20260128T214214Z
UID:10001440-1859965200-1859972400@vintargermanshepherdarizona.com
SUMMARY:Social Class
DESCRIPTION:Dogs being exposed to different situations learning to be desensitized to the environment while learning basic obedience skills.
URL:https://vintargermanshepherdarizona.com/event/social-class-6/2028-12-09/
END:VEVENT
BEGIN:VEVENT
DTSTART;TZID=America/Denver:20281216T090000
DTEND;TZID=America/Denver:20281216T110000
DTSTAMP:20260422T164156
CREATED:20260128T214214Z
LAST-MODIFIED:20260128T214214Z
UID:10001441-1860570000-1860577200@vintargermanshepherdarizona.com
SUMMARY:Social Class
DESCRIPTION:Dogs being exposed to different situations learning to be desensitized to the environment while learning basic obedience skills.
URL:https://vintargermanshepherdarizona.com/event/social-class-6/2028-12-16/
END:VEVENT
BEGIN:VEVENT
DTSTART;TZID=America/Denver:20281223T090000
DTEND;TZID=America/Denver:20281223T110000
DTSTAMP:20260422T164156
CREATED:20260128T214214Z
LAST-MODIFIED:20260128T214214Z
UID:10001442-1861174800-1861182000@vintargermanshepherdarizona.com
SUMMARY:Social Class
DESCRIPTION:Dogs being exposed to different situations learning to be desensitized to the environment while learning basic obedience skills.
URL:https://vintargermanshepherdarizona.com/event/social-class-6/2028-12-23/
END:VEVENT
BEGIN:VEVENT
DTSTART;TZID=America/Denver:20281230T090000
DTEND;TZID=America/Denver:20281230T110000
DTSTAMP:20260422T164156
CREATED:20260128T214214Z
LAST-MODIFIED:20260128T214214Z
UID:10001443-1861779600-1861786800@vintargermanshepherdarizona.com
SUMMARY:Social Class
DESCRIPTION:Dogs being exposed to different situations learning to be desensitized to the environment while learning basic obedience skills.
URL:https://vintargermanshepherdarizona.com/event/social-class-6/2028-12-30/
END:VEVENT
BEGIN:VEVENT
DTSTART;TZID=America/Denver:20290106T090000
DTEND;TZID=America/Denver:20290106T110000
DTSTAMP:20260422T164156
CREATED:20260128T214214Z
LAST-MODIFIED:20260128T214214Z
UID:10001444-1862384400-1862391600@vintargermanshepherdarizona.com
SUMMARY:Social Class
DESCRIPTION:Dogs being exposed to different situations learning to be desensitized to the environment while learning basic obedience skills.
URL:https://vintargermanshepherdarizona.com/event/social-class-6/2029-01-06/
END:VEVENT
BEGIN:VEVENT
DTSTART;TZID=America/Denver:20290113T090000
DTEND;TZID=America/Denver:20290113T110000
DTSTAMP:20260422T164156
CREATED:20260128T214214Z
LAST-MODIFIED:20260128T214214Z
UID:10001445-1862989200-1862996400@vintargermanshepherdarizona.com
SUMMARY:Social Class
DESCRIPTION:Dogs being exposed to different situations learning to be desensitized to the environment while learning basic obedience skills.
URL:https://vintargermanshepherdarizona.com/event/social-class-6/2029-01-13/
END:VEVENT
BEGIN:VEVENT
DTSTART;TZID=America/Denver:20290120T090000
DTEND;TZID=America/Denver:20290120T110000
DTSTAMP:20260422T164156
CREATED:20260128T214214Z
LAST-MODIFIED:20260128T214214Z
UID:10001446-1863594000-1863601200@vintargermanshepherdarizona.com
SUMMARY:Social Class
DESCRIPTION:Dogs being exposed to different situations learning to be desensitized to the environment while learning basic obedience skills.
URL:https://vintargermanshepherdarizona.com/event/social-class-6/2029-01-20/
END:VEVENT
END:VCALENDAR