BEGIN:VCALENDAR
VERSION:2.0
PRODID:-//Vintar German Shepherd - ECPv6.15.20//NONSGML v1.0//EN
CALSCALE:GREGORIAN
METHOD:PUBLISH
X-WR-CALNAME:Vintar German Shepherd
X-ORIGINAL-URL:https://vintargermanshepherdarizona.com
X-WR-CALDESC:Events for Vintar German Shepherd
REFRESH-INTERVAL;VALUE=DURATION:PT1H
X-Robots-Tag:noindex
X-PUBLISHED-TTL:PT1H
BEGIN:VTIMEZONE
TZID:America/Denver
BEGIN:DAYLIGHT
TZOFFSETFROM:-0700
TZOFFSETTO:-0600
TZNAME:MDT
DTSTART:20250309T090000
END:DAYLIGHT
BEGIN:STANDARD
TZOFFSETFROM:-0600
TZOFFSETTO:-0700
TZNAME:MST
DTSTART:20251102T080000
END:STANDARD
BEGIN:DAYLIGHT
TZOFFSETFROM:-0700
TZOFFSETTO:-0600
TZNAME:MDT
DTSTART:20260308T090000
END:DAYLIGHT
BEGIN:STANDARD
TZOFFSETFROM:-0600
TZOFFSETTO:-0700
TZNAME:MST
DTSTART:20261101T080000
END:STANDARD
BEGIN:DAYLIGHT
TZOFFSETFROM:-0700
TZOFFSETTO:-0600
TZNAME:MDT
DTSTART:20270314T090000
END:DAYLIGHT
BEGIN:STANDARD
TZOFFSETFROM:-0600
TZOFFSETTO:-0700
TZNAME:MST
DTSTART:20271107T080000
END:STANDARD
END:VTIMEZONE
BEGIN:VEVENT
DTSTART;TZID=America/Denver:20260530T090000
DTEND;TZID=America/Denver:20260530T110000
DTSTAMP:20260421T170652
CREATED:20260128T214214Z
LAST-MODIFIED:20260128T214214Z
UID:10001308-1780131600-1780138800@vintargermanshepherdarizona.com
SUMMARY:Social Class
DESCRIPTION:Dogs being exposed to different situations learning to be desensitized to the environment while learning basic obedience skills.
URL:https://vintargermanshepherdarizona.com/event/social-class-6/2026-05-30/
END:VEVENT
BEGIN:VEVENT
DTSTART;TZID=America/Denver:20260523T090000
DTEND;TZID=America/Denver:20260523T110000
DTSTAMP:20260421T170652
CREATED:20260128T214214Z
LAST-MODIFIED:20260128T214214Z
UID:10001307-1779526800-1779534000@vintargermanshepherdarizona.com
SUMMARY:Social Class
DESCRIPTION:Dogs being exposed to different situations learning to be desensitized to the environment while learning basic obedience skills.
URL:https://vintargermanshepherdarizona.com/event/social-class-6/2026-05-23/
END:VEVENT
BEGIN:VEVENT
DTSTART;TZID=America/Denver:20260516T090000
DTEND;TZID=America/Denver:20260516T110000
DTSTAMP:20260421T170653
CREATED:20260128T214214Z
LAST-MODIFIED:20260128T214214Z
UID:10001306-1778922000-1778929200@vintargermanshepherdarizona.com
SUMMARY:Social Class
DESCRIPTION:Dogs being exposed to different situations learning to be desensitized to the environment while learning basic obedience skills.
URL:https://vintargermanshepherdarizona.com/event/social-class-6/2026-05-16/
END:VEVENT
BEGIN:VEVENT
DTSTART;TZID=America/Denver:20260509T090000
DTEND;TZID=America/Denver:20260509T110000
DTSTAMP:20260421T170653
CREATED:20260128T214214Z
LAST-MODIFIED:20260128T214214Z
UID:10001305-1778317200-1778324400@vintargermanshepherdarizona.com
SUMMARY:Social Class
DESCRIPTION:Dogs being exposed to different situations learning to be desensitized to the environment while learning basic obedience skills.
URL:https://vintargermanshepherdarizona.com/event/social-class-6/2026-05-09/
END:VEVENT
BEGIN:VEVENT
DTSTART;TZID=America/Denver:20260502T090000
DTEND;TZID=America/Denver:20260502T110000
DTSTAMP:20260421T170653
CREATED:20260128T214214Z
LAST-MODIFIED:20260128T214214Z
UID:10001304-1777712400-1777719600@vintargermanshepherdarizona.com
SUMMARY:Social Class
DESCRIPTION:Dogs being exposed to different situations learning to be desensitized to the environment while learning basic obedience skills.
URL:https://vintargermanshepherdarizona.com/event/social-class-6/2026-05-02/
END:VEVENT
BEGIN:VEVENT
DTSTART;TZID=America/Denver:20260425T090000
DTEND;TZID=America/Denver:20260425T110000
DTSTAMP:20260421T170653
CREATED:20260128T214214Z
LAST-MODIFIED:20260128T214214Z
UID:10001303-1777107600-1777114800@vintargermanshepherdarizona.com
SUMMARY:Social Class
DESCRIPTION:Dogs being exposed to different situations learning to be desensitized to the environment while learning basic obedience skills.
URL:https://vintargermanshepherdarizona.com/event/social-class-6/2026-04-25/
END:VEVENT
BEGIN:VEVENT
DTSTART;TZID=America/Denver:20260418T090000
DTEND;TZID=America/Denver:20260418T110000
DTSTAMP:20260421T170653
CREATED:20260128T214214Z
LAST-MODIFIED:20260128T214214Z
UID:10001302-1776502800-1776510000@vintargermanshepherdarizona.com
SUMMARY:Social Class
DESCRIPTION:Dogs being exposed to different situations learning to be desensitized to the environment while learning basic obedience skills.
URL:https://vintargermanshepherdarizona.com/event/social-class-6/2026-04-18/
END:VEVENT
BEGIN:VEVENT
DTSTART;TZID=America/Denver:20260411T113000
DTEND;TZID=America/Denver:20260411T123000
DTSTAMP:20260421T170653
CREATED:20260319T215707Z
LAST-MODIFIED:20260319T215707Z
UID:10001567-1775907000-1775910600@vintargermanshepherdarizona.com
SUMMARY:athena 2-7-26 puppy visit
DESCRIPTION:Families get an hour weekly visit every saturday with their german shepherd puppy before take home. Take home is April 11 after puppy visit.
URL:https://vintargermanshepherdarizona.com/event/athena-2-7-26-puppy-visit/2026-04-11/
END:VEVENT
BEGIN:VEVENT
DTSTART;TZID=America/Denver:20260411T090000
DTEND;TZID=America/Denver:20260411T110000
DTSTAMP:20260421T170653
CREATED:20260128T214214Z
LAST-MODIFIED:20260128T214214Z
UID:10001301-1775898000-1775905200@vintargermanshepherdarizona.com
SUMMARY:Social Class
DESCRIPTION:Dogs being exposed to different situations learning to be desensitized to the environment while learning basic obedience skills.
URL:https://vintargermanshepherdarizona.com/event/social-class-6/2026-04-11/
END:VEVENT
BEGIN:VEVENT
DTSTART;TZID=America/Denver:20260404T113000
DTEND;TZID=America/Denver:20260404T123000
DTSTAMP:20260421T170653
CREATED:20260319T215707Z
LAST-MODIFIED:20260319T215707Z
UID:10001566-1775302200-1775305800@vintargermanshepherdarizona.com
SUMMARY:athena 2-7-26 puppy visit
DESCRIPTION:Families get an hour weekly visit every saturday with their german shepherd puppy before take home. Take home is April 11 after puppy visit.
URL:https://vintargermanshepherdarizona.com/event/athena-2-7-26-puppy-visit/2026-04-04/
END:VEVENT
BEGIN:VEVENT
DTSTART;TZID=America/Denver:20260404T090000
DTEND;TZID=America/Denver:20260404T110000
DTSTAMP:20260421T170653
CREATED:20260128T214214Z
LAST-MODIFIED:20260128T214214Z
UID:10001300-1775293200-1775300400@vintargermanshepherdarizona.com
SUMMARY:Social Class
DESCRIPTION:Dogs being exposed to different situations learning to be desensitized to the environment while learning basic obedience skills.
URL:https://vintargermanshepherdarizona.com/event/social-class-6/2026-04-04/
END:VEVENT
BEGIN:VEVENT
DTSTART;TZID=America/Denver:20260329T080000
DTEND;TZID=America/Denver:20260329T170000
DTSTAMP:20260421T170653
CREATED:20260219T150623Z
LAST-MODIFIED:20260219T150623Z
UID:10001562-1774771200-1774803600@vintargermanshepherdarizona.com
SUMMARY:CGC or Fitdog
DESCRIPTION:To be decided in class. Message Vicki CGC will be 10 am at Kahoots or Fitdog 2pm at Friendship Park.
URL:https://vintargermanshepherdarizona.com/event/cgc-or-fitdog/2026-03-29/
END:VEVENT
BEGIN:VEVENT
DTSTART;TZID=America/Denver:20260328T113000
DTEND;TZID=America/Denver:20260328T123000
DTSTAMP:20260421T170653
CREATED:20260319T215707Z
LAST-MODIFIED:20260319T215707Z
UID:10001565-1774697400-1774701000@vintargermanshepherdarizona.com
SUMMARY:athena 2-7-26 puppy visit
DESCRIPTION:Families get an hour weekly visit every saturday with their german shepherd puppy before take home. Take home is April 11 after puppy visit.
URL:https://vintargermanshepherdarizona.com/event/athena-2-7-26-puppy-visit/2026-03-28/
END:VEVENT
BEGIN:VEVENT
DTSTART;TZID=America/Denver:20260328T090000
DTEND;TZID=America/Denver:20260328T110000
DTSTAMP:20260421T170653
CREATED:20260128T214214Z
LAST-MODIFIED:20260128T214214Z
UID:10001299-1774688400-1774695600@vintargermanshepherdarizona.com
SUMMARY:Social Class
DESCRIPTION:Dogs being exposed to different situations learning to be desensitized to the environment while learning basic obedience skills.
URL:https://vintargermanshepherdarizona.com/event/social-class-6/2026-03-28/
END:VEVENT
BEGIN:VEVENT
DTSTART;TZID=America/Denver:20260322T090000
DTEND;TZID=America/Denver:20260322T110000
DTSTAMP:20260421T170653
CREATED:20260128T221725Z
LAST-MODIFIED:20260128T221725Z
UID:10001557-1774170000-1774177200@vintargermanshepherdarizona.com
SUMMARY:Training Class
DESCRIPTION:Dogs learning offleash advanced skills.
URL:https://vintargermanshepherdarizona.com/event/training-class-15/2026-03-22/
END:VEVENT
BEGIN:VEVENT
DTSTART;TZID=America/Denver:20260321T113000
DTEND;TZID=America/Denver:20260321T123000
DTSTAMP:20260421T170653
CREATED:20260319T215707Z
LAST-MODIFIED:20260319T215707Z
UID:10001564-1774092600-1774096200@vintargermanshepherdarizona.com
SUMMARY:athena 2-7-26 puppy visit
DESCRIPTION:Families get an hour weekly visit every saturday with their german shepherd puppy before take home. Take home is April 11 after puppy visit.
URL:https://vintargermanshepherdarizona.com/event/athena-2-7-26-puppy-visit/2026-03-21/
END:VEVENT
BEGIN:VEVENT
DTSTART;TZID=America/Denver:20260321T090000
DTEND;TZID=America/Denver:20260321T110000
DTSTAMP:20260421T170653
CREATED:20260128T214214Z
LAST-MODIFIED:20260128T214214Z
UID:10001298-1774083600-1774090800@vintargermanshepherdarizona.com
SUMMARY:Social Class
DESCRIPTION:Dogs being exposed to different situations learning to be desensitized to the environment while learning basic obedience skills.
URL:https://vintargermanshepherdarizona.com/event/social-class-6/2026-03-21/
END:VEVENT
BEGIN:VEVENT
DTSTART;TZID=America/Denver:20260314T090000
DTEND;TZID=America/Denver:20260314T110000
DTSTAMP:20260421T170653
CREATED:20260128T214214Z
LAST-MODIFIED:20260128T214214Z
UID:10001297-1773478800-1773486000@vintargermanshepherdarizona.com
SUMMARY:Social Class
DESCRIPTION:Dogs being exposed to different situations learning to be desensitized to the environment while learning basic obedience skills.
URL:https://vintargermanshepherdarizona.com/event/social-class-6/2026-03-14/
END:VEVENT
BEGIN:VEVENT
DTSTART;TZID=America/Denver:20260308T080000
DTEND;TZID=America/Denver:20260308T170000
DTSTAMP:20260421T170653
CREATED:20260219T150623Z
LAST-MODIFIED:20260219T150623Z
UID:10001561-1772956800-1772989200@vintargermanshepherdarizona.com
SUMMARY:CGC or Fitdog
DESCRIPTION:To be decided in class. Message Vicki CGC will be 10 am at Kahoots or Fitdog 2pm at Friendship Park.
URL:https://vintargermanshepherdarizona.com/event/cgc-or-fitdog/2026-03-08/
END:VEVENT
BEGIN:VEVENT
DTSTART;TZID=America/Denver:20260307T090000
DTEND;TZID=America/Denver:20260307T110000
DTSTAMP:20260421T170653
CREATED:20260128T214214Z
LAST-MODIFIED:20260128T214214Z
UID:10001296-1772874000-1772881200@vintargermanshepherdarizona.com
SUMMARY:Social Class
DESCRIPTION:Dogs being exposed to different situations learning to be desensitized to the environment while learning basic obedience skills.
URL:https://vintargermanshepherdarizona.com/event/social-class-6/2026-03-07/
END:VEVENT
BEGIN:VEVENT
DTSTART;TZID=America/Denver:20260301T090000
DTEND;TZID=America/Denver:20260301T110000
DTSTAMP:20260421T170653
CREATED:20260128T221725Z
LAST-MODIFIED:20260128T221725Z
UID:10001556-1772355600-1772362800@vintargermanshepherdarizona.com
SUMMARY:Training Class
DESCRIPTION:Dogs learning offleash advanced skills.
URL:https://vintargermanshepherdarizona.com/event/training-class-15/2026-03-01/
END:VEVENT
BEGIN:VEVENT
DTSTART;TZID=America/Denver:20260228T090000
DTEND;TZID=America/Denver:20260228T110000
DTSTAMP:20260421T170653
CREATED:20260128T214214Z
LAST-MODIFIED:20260128T214214Z
UID:10001295-1772269200-1772276400@vintargermanshepherdarizona.com
SUMMARY:Social Class
DESCRIPTION:Dogs being exposed to different situations learning to be desensitized to the environment while learning basic obedience skills.
URL:https://vintargermanshepherdarizona.com/event/social-class-6/2026-02-28/
END:VEVENT
BEGIN:VEVENT
DTSTART;TZID=America/Denver:20260222T080000
DTEND;TZID=America/Denver:20260222T170000
DTSTAMP:20260421T170653
CREATED:20260219T150623Z
LAST-MODIFIED:20260219T150623Z
UID:10001560-1771747200-1771779600@vintargermanshepherdarizona.com
SUMMARY:CGC or Fitdog
DESCRIPTION:To be decided in class. Message Vicki CGC will be 10 am at Kahoots or Fitdog 2pm at Friendship Park.
URL:https://vintargermanshepherdarizona.com/event/cgc-or-fitdog/2026-02-22/
END:VEVENT
BEGIN:VEVENT
DTSTART;TZID=America/Denver:20260221T090000
DTEND;TZID=America/Denver:20260221T110000
DTSTAMP:20260421T170653
CREATED:20260128T214214Z
LAST-MODIFIED:20260128T214214Z
UID:10001294-1771664400-1771671600@vintargermanshepherdarizona.com
SUMMARY:Social Class
DESCRIPTION:Dogs being exposed to different situations learning to be desensitized to the environment while learning basic obedience skills.
URL:https://vintargermanshepherdarizona.com/event/social-class-6/2026-02-21/
END:VEVENT
BEGIN:VEVENT
DTSTART;TZID=America/Denver:20260214T090000
DTEND;TZID=America/Denver:20260214T110000
DTSTAMP:20260421T170653
CREATED:20260128T214214Z
LAST-MODIFIED:20260128T214214Z
UID:10001293-1771059600-1771066800@vintargermanshepherdarizona.com
SUMMARY:Social Class
DESCRIPTION:Dogs being exposed to different situations learning to be desensitized to the environment while learning basic obedience skills.
URL:https://vintargermanshepherdarizona.com/event/social-class-6/2026-02-14/
END:VEVENT
BEGIN:VEVENT
DTSTART;TZID=America/Denver:20260208T090000
DTEND;TZID=America/Denver:20260208T110000
DTSTAMP:20260421T170653
CREATED:20260128T220024Z
LAST-MODIFIED:20260128T220024Z
UID:10001555-1770541200-1770548400@vintargermanshepherdarizona.com
SUMMARY:Training Class
DESCRIPTION:Dogs learning advanced offleash skills.
URL:https://vintargermanshepherdarizona.com/event/training-class-14/
END:VEVENT
BEGIN:VEVENT
DTSTART;TZID=America/Denver:20260207T090000
DTEND;TZID=America/Denver:20260207T110000
DTSTAMP:20260421T170653
CREATED:20260128T214214Z
LAST-MODIFIED:20260128T214214Z
UID:10001292-1770454800-1770462000@vintargermanshepherdarizona.com
SUMMARY:Social Class
DESCRIPTION:Dogs being exposed to different situations learning to be desensitized to the environment while learning basic obedience skills.
URL:https://vintargermanshepherdarizona.com/event/social-class-6/2026-02-07/
END:VEVENT
BEGIN:VEVENT
DTSTART;TZID=America/Denver:20260131T090000
DTEND;TZID=America/Denver:20260131T110000
DTSTAMP:20260421T170653
CREATED:20251115T043458Z
LAST-MODIFIED:20251115T043458Z
UID:10001285-1769850000-1769857200@vintargermanshepherdarizona.com
SUMMARY:Social Class
DESCRIPTION:Social Class is a class working on desensitizing the environment and working on basic obedience skills. Clas.s for all ages
URL:https://vintargermanshepherdarizona.com/event/social-class-5/2026-01-31/
END:VEVENT
BEGIN:VEVENT
DTSTART;TZID=America/Denver:20260124T090000
DTEND;TZID=America/Denver:20260124T110000
DTSTAMP:20260421T170653
CREATED:20251115T043458Z
LAST-MODIFIED:20251115T043458Z
UID:10001284-1769245200-1769252400@vintargermanshepherdarizona.com
SUMMARY:Social Class
DESCRIPTION:Social Class is a class working on desensitizing the environment and working on basic obedience skills. Clas.s for all ages
URL:https://vintargermanshepherdarizona.com/event/social-class-5/2026-01-24/
END:VEVENT
BEGIN:VEVENT
DTSTART;TZID=America/Denver:20260118T113000
DTEND;TZID=America/Denver:20260118T133000
DTSTAMP:20260421T170653
CREATED:20251115T045029Z
LAST-MODIFIED:20251115T045029Z
UID:10001290-1768735800-1768743000@vintargermanshepherdarizona.com
SUMMARY:AKC Star Puppy Class
DESCRIPTION:Class that teaches puppies and owners how to pass the akc star puppy obedience skills.
URL:https://vintargermanshepherdarizona.com/event/akc-star-puppy-class-7/2026-01-18/
END:VEVENT
END:VCALENDAR