BEGIN:VCALENDAR
VERSION:2.0
PRODID:-//Vintar German Shepherd - ECPv6.15.20//NONSGML v1.0//EN
CALSCALE:GREGORIAN
METHOD:PUBLISH
X-WR-CALNAME:Vintar German Shepherd
X-ORIGINAL-URL:https://vintargermanshepherdarizona.com
X-WR-CALDESC:Events for Vintar German Shepherd
REFRESH-INTERVAL;VALUE=DURATION:PT1H
X-Robots-Tag:noindex
X-PUBLISHED-TTL:PT1H
BEGIN:VTIMEZONE
TZID:America/Denver
BEGIN:DAYLIGHT
TZOFFSETFROM:-0700
TZOFFSETTO:-0600
TZNAME:MDT
DTSTART:20250309T090000
END:DAYLIGHT
BEGIN:STANDARD
TZOFFSETFROM:-0600
TZOFFSETTO:-0700
TZNAME:MST
DTSTART:20251102T080000
END:STANDARD
BEGIN:DAYLIGHT
TZOFFSETFROM:-0700
TZOFFSETTO:-0600
TZNAME:MDT
DTSTART:20260308T090000
END:DAYLIGHT
BEGIN:STANDARD
TZOFFSETFROM:-0600
TZOFFSETTO:-0700
TZNAME:MST
DTSTART:20261101T080000
END:STANDARD
BEGIN:DAYLIGHT
TZOFFSETFROM:-0700
TZOFFSETTO:-0600
TZNAME:MDT
DTSTART:20270314T090000
END:DAYLIGHT
BEGIN:STANDARD
TZOFFSETFROM:-0600
TZOFFSETTO:-0700
TZNAME:MST
DTSTART:20271107T080000
END:STANDARD
END:VTIMEZONE
BEGIN:VEVENT
DTSTART;TZID=America/Denver:20260418T090000
DTEND;TZID=America/Denver:20260418T110000
DTSTAMP:20260418T064500
CREATED:20260128T214214Z
LAST-MODIFIED:20260128T214214Z
UID:10001302-1776502800-1776510000@vintargermanshepherdarizona.com
SUMMARY:Social Class
DESCRIPTION:Dogs being exposed to different situations learning to be desensitized to the environment while learning basic obedience skills.
URL:https://vintargermanshepherdarizona.com/event/social-class-6/2026-04-18/
END:VEVENT
BEGIN:VEVENT
DTSTART;TZID=America/Denver:20260425T090000
DTEND;TZID=America/Denver:20260425T110000
DTSTAMP:20260418T064500
CREATED:20260128T214214Z
LAST-MODIFIED:20260128T214214Z
UID:10001303-1777107600-1777114800@vintargermanshepherdarizona.com
SUMMARY:Social Class
DESCRIPTION:Dogs being exposed to different situations learning to be desensitized to the environment while learning basic obedience skills.
URL:https://vintargermanshepherdarizona.com/event/social-class-6/2026-04-25/
END:VEVENT
BEGIN:VEVENT
DTSTART;TZID=America/Denver:20260502T090000
DTEND;TZID=America/Denver:20260502T110000
DTSTAMP:20260418T064500
CREATED:20260128T214214Z
LAST-MODIFIED:20260128T214214Z
UID:10001304-1777712400-1777719600@vintargermanshepherdarizona.com
SUMMARY:Social Class
DESCRIPTION:Dogs being exposed to different situations learning to be desensitized to the environment while learning basic obedience skills.
URL:https://vintargermanshepherdarizona.com/event/social-class-6/2026-05-02/
END:VEVENT
BEGIN:VEVENT
DTSTART;TZID=America/Denver:20260509T090000
DTEND;TZID=America/Denver:20260509T110000
DTSTAMP:20260418T064500
CREATED:20260128T214214Z
LAST-MODIFIED:20260128T214214Z
UID:10001305-1778317200-1778324400@vintargermanshepherdarizona.com
SUMMARY:Social Class
DESCRIPTION:Dogs being exposed to different situations learning to be desensitized to the environment while learning basic obedience skills.
URL:https://vintargermanshepherdarizona.com/event/social-class-6/2026-05-09/
END:VEVENT
BEGIN:VEVENT
DTSTART;TZID=America/Denver:20260516T090000
DTEND;TZID=America/Denver:20260516T110000
DTSTAMP:20260418T064500
CREATED:20260128T214214Z
LAST-MODIFIED:20260128T214214Z
UID:10001306-1778922000-1778929200@vintargermanshepherdarizona.com
SUMMARY:Social Class
DESCRIPTION:Dogs being exposed to different situations learning to be desensitized to the environment while learning basic obedience skills.
URL:https://vintargermanshepherdarizona.com/event/social-class-6/2026-05-16/
END:VEVENT
BEGIN:VEVENT
DTSTART;TZID=America/Denver:20260523T090000
DTEND;TZID=America/Denver:20260523T110000
DTSTAMP:20260418T064500
CREATED:20260128T214214Z
LAST-MODIFIED:20260128T214214Z
UID:10001307-1779526800-1779534000@vintargermanshepherdarizona.com
SUMMARY:Social Class
DESCRIPTION:Dogs being exposed to different situations learning to be desensitized to the environment while learning basic obedience skills.
URL:https://vintargermanshepherdarizona.com/event/social-class-6/2026-05-23/
END:VEVENT
BEGIN:VEVENT
DTSTART;TZID=America/Denver:20260530T090000
DTEND;TZID=America/Denver:20260530T110000
DTSTAMP:20260418T064500
CREATED:20260128T214214Z
LAST-MODIFIED:20260128T214214Z
UID:10001308-1780131600-1780138800@vintargermanshepherdarizona.com
SUMMARY:Social Class
DESCRIPTION:Dogs being exposed to different situations learning to be desensitized to the environment while learning basic obedience skills.
URL:https://vintargermanshepherdarizona.com/event/social-class-6/2026-05-30/
END:VEVENT
BEGIN:VEVENT
DTSTART;TZID=America/Denver:20260606T090000
DTEND;TZID=America/Denver:20260606T110000
DTSTAMP:20260418T064500
CREATED:20260128T214214Z
LAST-MODIFIED:20260128T214214Z
UID:10001309-1780736400-1780743600@vintargermanshepherdarizona.com
SUMMARY:Social Class
DESCRIPTION:Dogs being exposed to different situations learning to be desensitized to the environment while learning basic obedience skills.
URL:https://vintargermanshepherdarizona.com/event/social-class-6/2026-06-06/
END:VEVENT
BEGIN:VEVENT
DTSTART;TZID=America/Denver:20260613T090000
DTEND;TZID=America/Denver:20260613T110000
DTSTAMP:20260418T064500
CREATED:20260128T214214Z
LAST-MODIFIED:20260128T214214Z
UID:10001310-1781341200-1781348400@vintargermanshepherdarizona.com
SUMMARY:Social Class
DESCRIPTION:Dogs being exposed to different situations learning to be desensitized to the environment while learning basic obedience skills.
URL:https://vintargermanshepherdarizona.com/event/social-class-6/2026-06-13/
END:VEVENT
BEGIN:VEVENT
DTSTART;TZID=America/Denver:20260620T090000
DTEND;TZID=America/Denver:20260620T110000
DTSTAMP:20260418T064500
CREATED:20260128T214214Z
LAST-MODIFIED:20260128T214214Z
UID:10001311-1781946000-1781953200@vintargermanshepherdarizona.com
SUMMARY:Social Class
DESCRIPTION:Dogs being exposed to different situations learning to be desensitized to the environment while learning basic obedience skills.
URL:https://vintargermanshepherdarizona.com/event/social-class-6/2026-06-20/
END:VEVENT
BEGIN:VEVENT
DTSTART;TZID=America/Denver:20260627T090000
DTEND;TZID=America/Denver:20260627T110000
DTSTAMP:20260418T064500
CREATED:20260128T214214Z
LAST-MODIFIED:20260128T214214Z
UID:10001312-1782550800-1782558000@vintargermanshepherdarizona.com
SUMMARY:Social Class
DESCRIPTION:Dogs being exposed to different situations learning to be desensitized to the environment while learning basic obedience skills.
URL:https://vintargermanshepherdarizona.com/event/social-class-6/2026-06-27/
END:VEVENT
BEGIN:VEVENT
DTSTART;TZID=America/Denver:20260704T090000
DTEND;TZID=America/Denver:20260704T110000
DTSTAMP:20260418T064500
CREATED:20260128T214214Z
LAST-MODIFIED:20260128T214214Z
UID:10001313-1783155600-1783162800@vintargermanshepherdarizona.com
SUMMARY:Social Class
DESCRIPTION:Dogs being exposed to different situations learning to be desensitized to the environment while learning basic obedience skills.
URL:https://vintargermanshepherdarizona.com/event/social-class-6/2026-07-04/
END:VEVENT
BEGIN:VEVENT
DTSTART;TZID=America/Denver:20260711T090000
DTEND;TZID=America/Denver:20260711T110000
DTSTAMP:20260418T064500
CREATED:20260128T214214Z
LAST-MODIFIED:20260128T214214Z
UID:10001314-1783760400-1783767600@vintargermanshepherdarizona.com
SUMMARY:Social Class
DESCRIPTION:Dogs being exposed to different situations learning to be desensitized to the environment while learning basic obedience skills.
URL:https://vintargermanshepherdarizona.com/event/social-class-6/2026-07-11/
END:VEVENT
BEGIN:VEVENT
DTSTART;TZID=America/Denver:20260718T090000
DTEND;TZID=America/Denver:20260718T110000
DTSTAMP:20260418T064500
CREATED:20260128T214214Z
LAST-MODIFIED:20260128T214214Z
UID:10001315-1784365200-1784372400@vintargermanshepherdarizona.com
SUMMARY:Social Class
DESCRIPTION:Dogs being exposed to different situations learning to be desensitized to the environment while learning basic obedience skills.
URL:https://vintargermanshepherdarizona.com/event/social-class-6/2026-07-18/
END:VEVENT
BEGIN:VEVENT
DTSTART;TZID=America/Denver:20260725T090000
DTEND;TZID=America/Denver:20260725T110000
DTSTAMP:20260418T064500
CREATED:20260128T214214Z
LAST-MODIFIED:20260128T214214Z
UID:10001316-1784970000-1784977200@vintargermanshepherdarizona.com
SUMMARY:Social Class
DESCRIPTION:Dogs being exposed to different situations learning to be desensitized to the environment while learning basic obedience skills.
URL:https://vintargermanshepherdarizona.com/event/social-class-6/2026-07-25/
END:VEVENT
BEGIN:VEVENT
DTSTART;TZID=America/Denver:20260801T090000
DTEND;TZID=America/Denver:20260801T110000
DTSTAMP:20260418T064500
CREATED:20260128T214214Z
LAST-MODIFIED:20260128T214214Z
UID:10001317-1785574800-1785582000@vintargermanshepherdarizona.com
SUMMARY:Social Class
DESCRIPTION:Dogs being exposed to different situations learning to be desensitized to the environment while learning basic obedience skills.
URL:https://vintargermanshepherdarizona.com/event/social-class-6/2026-08-01/
END:VEVENT
BEGIN:VEVENT
DTSTART;TZID=America/Denver:20260808T090000
DTEND;TZID=America/Denver:20260808T110000
DTSTAMP:20260418T064500
CREATED:20260128T214214Z
LAST-MODIFIED:20260128T214214Z
UID:10001318-1786179600-1786186800@vintargermanshepherdarizona.com
SUMMARY:Social Class
DESCRIPTION:Dogs being exposed to different situations learning to be desensitized to the environment while learning basic obedience skills.
URL:https://vintargermanshepherdarizona.com/event/social-class-6/2026-08-08/
END:VEVENT
BEGIN:VEVENT
DTSTART;TZID=America/Denver:20260815T090000
DTEND;TZID=America/Denver:20260815T110000
DTSTAMP:20260418T064500
CREATED:20260128T214214Z
LAST-MODIFIED:20260128T214214Z
UID:10001319-1786784400-1786791600@vintargermanshepherdarizona.com
SUMMARY:Social Class
DESCRIPTION:Dogs being exposed to different situations learning to be desensitized to the environment while learning basic obedience skills.
URL:https://vintargermanshepherdarizona.com/event/social-class-6/2026-08-15/
END:VEVENT
BEGIN:VEVENT
DTSTART;TZID=America/Denver:20260822T090000
DTEND;TZID=America/Denver:20260822T110000
DTSTAMP:20260418T064500
CREATED:20260128T214214Z
LAST-MODIFIED:20260128T214214Z
UID:10001320-1787389200-1787396400@vintargermanshepherdarizona.com
SUMMARY:Social Class
DESCRIPTION:Dogs being exposed to different situations learning to be desensitized to the environment while learning basic obedience skills.
URL:https://vintargermanshepherdarizona.com/event/social-class-6/2026-08-22/
END:VEVENT
BEGIN:VEVENT
DTSTART;TZID=America/Denver:20260829T090000
DTEND;TZID=America/Denver:20260829T110000
DTSTAMP:20260418T064500
CREATED:20260128T214214Z
LAST-MODIFIED:20260128T214214Z
UID:10001321-1787994000-1788001200@vintargermanshepherdarizona.com
SUMMARY:Social Class
DESCRIPTION:Dogs being exposed to different situations learning to be desensitized to the environment while learning basic obedience skills.
URL:https://vintargermanshepherdarizona.com/event/social-class-6/2026-08-29/
END:VEVENT
BEGIN:VEVENT
DTSTART;TZID=America/Denver:20260905T090000
DTEND;TZID=America/Denver:20260905T110000
DTSTAMP:20260418T064500
CREATED:20260128T214214Z
LAST-MODIFIED:20260128T214214Z
UID:10001322-1788598800-1788606000@vintargermanshepherdarizona.com
SUMMARY:Social Class
DESCRIPTION:Dogs being exposed to different situations learning to be desensitized to the environment while learning basic obedience skills.
URL:https://vintargermanshepherdarizona.com/event/social-class-6/2026-09-05/
END:VEVENT
BEGIN:VEVENT
DTSTART;TZID=America/Denver:20260912T090000
DTEND;TZID=America/Denver:20260912T110000
DTSTAMP:20260418T064500
CREATED:20260128T214214Z
LAST-MODIFIED:20260128T214214Z
UID:10001323-1789203600-1789210800@vintargermanshepherdarizona.com
SUMMARY:Social Class
DESCRIPTION:Dogs being exposed to different situations learning to be desensitized to the environment while learning basic obedience skills.
URL:https://vintargermanshepherdarizona.com/event/social-class-6/2026-09-12/
END:VEVENT
BEGIN:VEVENT
DTSTART;TZID=America/Denver:20260919T090000
DTEND;TZID=America/Denver:20260919T110000
DTSTAMP:20260418T064500
CREATED:20260128T214214Z
LAST-MODIFIED:20260128T214214Z
UID:10001324-1789808400-1789815600@vintargermanshepherdarizona.com
SUMMARY:Social Class
DESCRIPTION:Dogs being exposed to different situations learning to be desensitized to the environment while learning basic obedience skills.
URL:https://vintargermanshepherdarizona.com/event/social-class-6/2026-09-19/
END:VEVENT
BEGIN:VEVENT
DTSTART;TZID=America/Denver:20260926T090000
DTEND;TZID=America/Denver:20260926T110000
DTSTAMP:20260418T064500
CREATED:20260128T214214Z
LAST-MODIFIED:20260128T214214Z
UID:10001325-1790413200-1790420400@vintargermanshepherdarizona.com
SUMMARY:Social Class
DESCRIPTION:Dogs being exposed to different situations learning to be desensitized to the environment while learning basic obedience skills.
URL:https://vintargermanshepherdarizona.com/event/social-class-6/2026-09-26/
END:VEVENT
BEGIN:VEVENT
DTSTART;TZID=America/Denver:20261003T090000
DTEND;TZID=America/Denver:20261003T110000
DTSTAMP:20260418T064500
CREATED:20260128T214214Z
LAST-MODIFIED:20260128T214214Z
UID:10001326-1791018000-1791025200@vintargermanshepherdarizona.com
SUMMARY:Social Class
DESCRIPTION:Dogs being exposed to different situations learning to be desensitized to the environment while learning basic obedience skills.
URL:https://vintargermanshepherdarizona.com/event/social-class-6/2026-10-03/
END:VEVENT
BEGIN:VEVENT
DTSTART;TZID=America/Denver:20261010T090000
DTEND;TZID=America/Denver:20261010T110000
DTSTAMP:20260418T064500
CREATED:20260128T214214Z
LAST-MODIFIED:20260128T214214Z
UID:10001327-1791622800-1791630000@vintargermanshepherdarizona.com
SUMMARY:Social Class
DESCRIPTION:Dogs being exposed to different situations learning to be desensitized to the environment while learning basic obedience skills.
URL:https://vintargermanshepherdarizona.com/event/social-class-6/2026-10-10/
END:VEVENT
BEGIN:VEVENT
DTSTART;TZID=America/Denver:20261017T090000
DTEND;TZID=America/Denver:20261017T110000
DTSTAMP:20260418T064500
CREATED:20260128T214214Z
LAST-MODIFIED:20260128T214214Z
UID:10001328-1792227600-1792234800@vintargermanshepherdarizona.com
SUMMARY:Social Class
DESCRIPTION:Dogs being exposed to different situations learning to be desensitized to the environment while learning basic obedience skills.
URL:https://vintargermanshepherdarizona.com/event/social-class-6/2026-10-17/
END:VEVENT
BEGIN:VEVENT
DTSTART;TZID=America/Denver:20261024T090000
DTEND;TZID=America/Denver:20261024T110000
DTSTAMP:20260418T064500
CREATED:20260128T214214Z
LAST-MODIFIED:20260128T214214Z
UID:10001329-1792832400-1792839600@vintargermanshepherdarizona.com
SUMMARY:Social Class
DESCRIPTION:Dogs being exposed to different situations learning to be desensitized to the environment while learning basic obedience skills.
URL:https://vintargermanshepherdarizona.com/event/social-class-6/2026-10-24/
END:VEVENT
BEGIN:VEVENT
DTSTART;TZID=America/Denver:20261031T090000
DTEND;TZID=America/Denver:20261031T110000
DTSTAMP:20260418T064500
CREATED:20260128T214214Z
LAST-MODIFIED:20260128T214214Z
UID:10001330-1793437200-1793444400@vintargermanshepherdarizona.com
SUMMARY:Social Class
DESCRIPTION:Dogs being exposed to different situations learning to be desensitized to the environment while learning basic obedience skills.
URL:https://vintargermanshepherdarizona.com/event/social-class-6/2026-10-31/
END:VEVENT
BEGIN:VEVENT
DTSTART;TZID=America/Denver:20261107T090000
DTEND;TZID=America/Denver:20261107T110000
DTSTAMP:20260418T064500
CREATED:20260128T214214Z
LAST-MODIFIED:20260128T214214Z
UID:10001331-1794042000-1794049200@vintargermanshepherdarizona.com
SUMMARY:Social Class
DESCRIPTION:Dogs being exposed to different situations learning to be desensitized to the environment while learning basic obedience skills.
URL:https://vintargermanshepherdarizona.com/event/social-class-6/2026-11-07/
END:VEVENT
END:VCALENDAR